BEGIN:VCALENDAR
VERSION:2.0
PRODID:-//Biblioteca Pública e Arquivo Regional Luís da Silva Ribeiro - ECPv4.9.10//NONSGML v1.0//EN
CALSCALE:GREGORIAN
METHOD:PUBLISH
X-WR-CALNAME:Biblioteca Pública e Arquivo Regional Luís da Silva Ribeiro
X-ORIGINAL-URL:https://bparlsr.azores.gov.pt
X-WR-CALDESC:Events for Biblioteca Pública e Arquivo Regional Luís da Silva Ribeiro
BEGIN:VTIMEZONE
TZID:Atlantic/Azores
BEGIN:DAYLIGHT
TZOFFSETFROM:-0100
TZOFFSETTO:+0000
TZNAME:+00
DTSTART:20230326T010000
END:DAYLIGHT
BEGIN:STANDARD
TZOFFSETFROM:+0000
TZOFFSETTO:-0100
TZNAME:-01
DTSTART:20231029T010000
END:STANDARD
END:VTIMEZONE
BEGIN:VEVENT
DTSTART;VALUE=DATE:20230904
DTEND;VALUE=DATE:20231001
DTSTAMP:20260426T003055
CREATED:20230828T153704Z
LAST-MODIFIED:20230828T153704Z
UID:10910-1693785600-1696118399@bparlsr.azores.gov.pt
SUMMARY:Periódicos à Lupa | Teatro
DESCRIPTION:No mês de setembro\, a atividade “Periódicos à Lupa” tem como tema o “Teatro”. A equipa da BPARLSR preparou uma seleção cuidadosa incluindo\, o segundo número da revista “WOS – Women on Scene”\, que explora a criação através do processo de descoberta e construção performativa e a “Sinais de Cena” que se dedica ao estudo do teatro e das artes performativas. Também podemos encontrar na seleção a revista “Adágio”\, que apresenta artigos sobre espaços teatrais\, clássicos e marionetas\, entre outras curiosidades que não vai querer perder. \nVenha conhecer estas e outras revistas na sua biblioteca. \nFacebookTwitterGoogle+\n\n\n\n\n
URL:https://bparlsr.azores.gov.pt/destaque/periodicos-a-lupa-teatro/
CATEGORIES:Biblioteca
ATTACH;FMTTYPE=image/jpeg:https://bparlsr.azores.gov.pt/wp-content/uploads/2023/08/sitioweb-1.jpg
END:VEVENT
END:VCALENDAR