BEGIN:VCALENDAR
VERSION:2.0
PRODID:-//Biblioteca Pública e Arquivo Regional Luís da Silva Ribeiro - ECPv4.9.10//NONSGML v1.0//EN
CALSCALE:GREGORIAN
METHOD:PUBLISH
X-WR-CALNAME:Biblioteca Pública e Arquivo Regional Luís da Silva Ribeiro
X-ORIGINAL-URL:https://bparlsr.azores.gov.pt
X-WR-CALDESC:Events for Biblioteca Pública e Arquivo Regional Luís da Silva Ribeiro
BEGIN:VTIMEZONE
TZID:Atlantic/Azores
BEGIN:DAYLIGHT
TZOFFSETFROM:-0100
TZOFFSETTO:+0000
TZNAME:+00
DTSTART:20210328T010000
END:DAYLIGHT
BEGIN:STANDARD
TZOFFSETFROM:+0000
TZOFFSETTO:-0100
TZNAME:-01
DTSTART:20211031T010000
END:STANDARD
END:VTIMEZONE
BEGIN:VEVENT
DTSTART;VALUE=DATE:20210308
DTEND;VALUE=DATE:20210313
DTSTAMP:20260424T193512
CREATED:20210222T141311Z
LAST-MODIFIED:20210222T141311Z
UID:5283-1615161600-1615593599@bparlsr.azores.gov.pt
SUMMARY:Plim!  - Teatro para Bebés
DESCRIPTION:Datas: De 8 a 12 de março \nLocal: Creches da ilha Terceira \nPúblico-alvo: Crianças dos 12 aos 36 meses das creches da ilha Terceira \n  \nRetomando o projeto de teatro para bebés\, a secção infantojuvenil da Biblioteca Pública e Arquivo Regional Luís da Silva Ribeiro leva\, agora\, às creches da ilha Terceira\, entre os dias 8 e 12 de março\, o espetáculo “Plim!”\, destinado a crianças dos 12 aos 36 meses. \nCom recurso a marionetas\, adereços e objetos sonoros\, conta-se a história de uma gota de chuva que se desprende da mãe nuvem\, vindo encontrar amparo junto daqueles que antes observava do alto\, numa alusão à inevitabilidade da perda e ao valor da amizade. \nSílvia Fagundes e Ricardo Ávila são os responsáveis por esta iniciativa que agora\, para além das apresentações que decorrem na Biblioteca\, se apresenta como espetáculo itinerante junto das crianças que frequentam as creches da ilha Terceira. \n  \nSílvia Fagundes – nota biográfica \nNatural da ilha Terceira\, apaixonada pelo teatro de marionetas e mãe de dois bebés. \nFormada em Produção e Design de Cenografia pela ESMAE – Escola Superior de Música e Artes do Espetáculo. \nRicardo Ávila – nota biográfica \nNatural da ilha Terceira\, pai. \nLicenciado em Educação de Infância pela Universidade dos Açores e mestre em teatro pela Universidade de Évora. \nFacebookTwitterGoogle+\n\n\n\n\n
URL:https://bparlsr.azores.gov.pt/destaque/plim-teatro-para-bebes-2/
CATEGORIES:Biblioteca
ATTACH;FMTTYPE=image/jpeg:https://bparlsr.azores.gov.pt/wp-content/uploads/2021/02/2_sitioweb-5.jpg
END:VEVENT
END:VCALENDAR