BEGIN:VCALENDAR
VERSION:2.0
PRODID:-//Biblioteca Pública e Arquivo Regional Luís da Silva Ribeiro - ECPv4.9.10//NONSGML v1.0//EN
CALSCALE:GREGORIAN
METHOD:PUBLISH
X-WR-CALNAME:Biblioteca Pública e Arquivo Regional Luís da Silva Ribeiro
X-ORIGINAL-URL:https://bparlsr.azores.gov.pt
X-WR-CALDESC:Events for Biblioteca Pública e Arquivo Regional Luís da Silva Ribeiro
BEGIN:VTIMEZONE
TZID:Atlantic/Azores
BEGIN:DAYLIGHT
TZOFFSETFROM:-0100
TZOFFSETTO:+0000
TZNAME:+00
DTSTART:20190331T010000
END:DAYLIGHT
BEGIN:STANDARD
TZOFFSETFROM:+0000
TZOFFSETTO:-0100
TZNAME:-01
DTSTART:20191027T010000
END:STANDARD
END:VTIMEZONE
BEGIN:VEVENT
DTSTART;VALUE=DATE:20190123
DTEND;VALUE=DATE:20190331
DTSTAMP:20260425T022212
CREATED:20190123T151505Z
LAST-MODIFIED:20190123T151505Z
UID:3039-1548201600-1553990399@bparlsr.azores.gov.pt
SUMMARY:Poesia divertida
DESCRIPTION:Poesia divertida \nData: 23 de janeiro a 30 de março\nLocal: Biblioteca Pública e Arquivo Regional Luís da Silva Ribeiro\nDestinatários: público infantojuvenil\nA Biblioteca Pública e Arquivo Regional Luís da Silva Ribeiro dinamiza\, de 23 de janeiro a 30 de março\, para grupos escolares\, a atividade “Oficina de leitura”\, subordinada ao tema “Poesia Divertida”. Ao itinerário para dar a conhecer os diversos espaços\, materiais e projetos em curso\, sucede uma dinâmica (leitura em voz alta\, mediação leitora\, jogos de palavras) e\, por fim\, uma exploração orientada dos diferentes espaços e recursos.\nEsta atividade destina-se aos alunos do ensino básico\, 2.º e 3.º ciclo\, sendo necessário um contato prévio com a equipa infantojuvenil prévia através do telefone 295 401 000.\nFacebookTwitterGoogle+\n\n\n\n\n
URL:https://bparlsr.azores.gov.pt/destaque/poesia-divertida/
CATEGORIES:Biblioteca Infantojuvenil
ATTACH;FMTTYPE=image/jpeg:https://bparlsr.azores.gov.pt/wp-content/uploads/2019/01/Sítio-web-e-TV-9.jpg
END:VEVENT
END:VCALENDAR