BEGIN:VCALENDAR
VERSION:2.0
PRODID:-//Biblioteca Pública e Arquivo Regional Luís da Silva Ribeiro - ECPv4.9.10//NONSGML v1.0//EN
CALSCALE:GREGORIAN
METHOD:PUBLISH
X-WR-CALNAME:Biblioteca Pública e Arquivo Regional Luís da Silva Ribeiro
X-ORIGINAL-URL:https://bparlsr.azores.gov.pt
X-WR-CALDESC:Events for Biblioteca Pública e Arquivo Regional Luís da Silva Ribeiro
BEGIN:VTIMEZONE
TZID:Atlantic/Azores
BEGIN:DAYLIGHT
TZOFFSETFROM:-0100
TZOFFSETTO:+0000
TZNAME:+00
DTSTART:20190331T010000
END:DAYLIGHT
BEGIN:STANDARD
TZOFFSETFROM:+0000
TZOFFSETTO:-0100
TZNAME:-01
DTSTART:20191027T010000
END:STANDARD
END:VTIMEZONE
BEGIN:VEVENT
DTSTART;TZID=Atlantic/Azores:20191218T170000
DTEND;TZID=Atlantic/Azores:20191218T183000
DTSTAMP:20260424T111504
CREATED:20191216T185537Z
LAST-MODIFIED:20191216T185537Z
UID:3628-1576688400-1576693800@bparlsr.azores.gov.pt
SUMMARY:Prata da Casa
DESCRIPTION:“Prata da Casa”\nData: 18 de dezembro\nHora: 17:00\nLocal: Biblioteca Pública e Arquivo Regional Luís da Silva Ribeiro\nPúblico-alvo: Público em geral\nA Biblioteca Pública e Arquivo Regional Luís da Silva Ribeiro convida toda a comunidade para um convívio no dia 18 de dezembro às 17h00\, designado “Prata da Casa”\, dando a conhecer projetos individuais de alguns dos seus funcionários. Música\, artes visuais\, poesia\, teatro\, terapias alternativas constituem parte dos temas que assistem a esta apresentação\, numa espécie de Talk Show em que não faltarão momentos de humor e sátira social.\nO evento é gratuito\, mas tem lugares limitados pelo que apelamos à pontualidade do público.\nFacebookTwitterGoogle+\n\n\n\n\n
URL:https://bparlsr.azores.gov.pt/destaque/prata-da-casa/
CATEGORIES:Biblioteca
ATTACH;FMTTYPE=image/jpeg:https://bparlsr.azores.gov.pt/wp-content/uploads/2019/12/Sítio-web-e-TV-4.jpg
END:VEVENT
END:VCALENDAR