BEGIN:VCALENDAR
VERSION:2.0
PRODID:-//Biblioteca Pública e Arquivo Regional Luís da Silva Ribeiro - ECPv4.9.10//NONSGML v1.0//EN
CALSCALE:GREGORIAN
METHOD:PUBLISH
X-WR-CALNAME:Biblioteca Pública e Arquivo Regional Luís da Silva Ribeiro
X-ORIGINAL-URL:https://bparlsr.azores.gov.pt
X-WR-CALDESC:Events for Biblioteca Pública e Arquivo Regional Luís da Silva Ribeiro
BEGIN:VTIMEZONE
TZID:Atlantic/Azores
BEGIN:DAYLIGHT
TZOFFSETFROM:-0100
TZOFFSETTO:+0000
TZNAME:+00
DTSTART:20220327T010000
END:DAYLIGHT
BEGIN:STANDARD
TZOFFSETFROM:+0000
TZOFFSETTO:-0100
TZNAME:-01
DTSTART:20221030T010000
END:STANDARD
END:VTIMEZONE
BEGIN:VEVENT
DTSTART;TZID=Atlantic/Azores:20220420T203000
DTEND;TZID=Atlantic/Azores:20220420T213000
DTSTAMP:20260426T012934
CREATED:20220418T101337Z
LAST-MODIFIED:20220418T101347Z
UID:9196-1650486600-1650490200@bparlsr.azores.gov.pt
SUMMARY:“Reflexos de Origem” Performance músico-teatral
DESCRIPTION:  \nA Biblioteca Pública e Arquivo Regional Luís da Silva Ribeiro promove a performance músico-teatral “Reflexos de Origem”\, que decorrerá no dia 20 de abril\, das 20h30 às 21h30. Este evento realiza-se no âmbito da Semana do Livro “Somos o que lemos”\, organizado pela BPARLSR entre os dias 19 e 23 de abril. \nProtagonizada por Filipa Gomes e Luís Senra\, esta atuação visa levar os espetadores numa viagem sinestética pelas raízes e correntes vivas de cada um\, espelhando em contracorrente a essência pura daqueles que a integram. Da mesma forma que duas notas de igual frequência vibram por simpatia – mesmo em silêncio – também se constrói um espaço para mergulhar no mesmo propósito\, onde se renasce para tudo o que sempre se foi. \nO grupo\, igualmente chamado “Reflexos de Origem”\, também orientará uma Oficina de Música Intuitiva\, que se realizará no mesmo dia às 19h. Esta oficina pretende criar momentos de exploração sensorial através dos sons\, da poesia\, da criação da música e da arte\, desmistificando a ideia de que é necessário saber tocar um instrumento para se expressar musicalmente. \nParticipe nesta iniciativa\, inscrevendo-se através do número 295 401 000 ou enviando um email com o seu nome e contacto para: comunicacao.bparlsr@azores.gov.pt. \n  \nNotas Biográficas- Luís Senra e Filipa Gomes \nLuís Senra tem vindo a desenvolver projetos nas áreas artística\, social e pedagógica\, através de performances e workshops\, como forma de promover experiências de partilha\, interação e comunicação e contribuir para o desenvolvimento de uma consciência individual e coletiva\, por meio da ligação entre arte\, natureza e pessoas. \nFilipa Gomes procura desenvolver um trabalho musical\, poético e educativo através da realização de projetos com a comunidade\, criando momentos de inclusão por meio da arte e onde se torne possível expressar livremente e partilhar sentimentos e experiências. \n  \nFacebookTwitterGoogle+\n\n\n\n\n
URL:https://bparlsr.azores.gov.pt/destaque/reflexos-de-origem-performance-musico-teatral/
CATEGORIES:Biblioteca
ATTACH;FMTTYPE=image/jpeg:https://bparlsr.azores.gov.pt/wp-content/uploads/2022/04/Performance-Reflexos-Sitio-Web.jpg
END:VEVENT
END:VCALENDAR