BEGIN:VCALENDAR
VERSION:2.0
PRODID:-//Biblioteca Pública e Arquivo Regional Luís da Silva Ribeiro - ECPv4.9.10//NONSGML v1.0//EN
CALSCALE:GREGORIAN
METHOD:PUBLISH
X-WR-CALNAME:Biblioteca Pública e Arquivo Regional Luís da Silva Ribeiro
X-ORIGINAL-URL:https://bparlsr.azores.gov.pt
X-WR-CALDESC:Events for Biblioteca Pública e Arquivo Regional Luís da Silva Ribeiro
BEGIN:VTIMEZONE
TZID:Atlantic/Azores
BEGIN:DAYLIGHT
TZOFFSETFROM:-0100
TZOFFSETTO:+0000
TZNAME:+00
DTSTART:20200329T010000
END:DAYLIGHT
BEGIN:STANDARD
TZOFFSETFROM:+0000
TZOFFSETTO:-0100
TZNAME:-01
DTSTART:20201025T010000
END:STANDARD
END:VTIMEZONE
BEGIN:VEVENT
DTSTART;VALUE=DATE:20200630
DTEND;VALUE=DATE:20200701
DTSTAMP:20260424T203956
CREATED:20200527T092345Z
LAST-MODIFIED:20200527T092345Z
UID:4057-1593475200-1593561599@bparlsr.azores.gov.pt
SUMMARY:Regras de funcionamento e utilização de espaços
DESCRIPTION:FacebookTwitterGoogle+\n\n\n\n\n
URL:https://bparlsr.azores.gov.pt/destaque/regras-de-funcionamento-e-utilizacao-de-espacos/
CATEGORIES:Arquivo Regional,Biblioteca,Biblioteca Infantojuvenil
ATTACH;FMTTYPE=image/jpeg:https://bparlsr.azores.gov.pt/wp-content/uploads/2020/05/sitioweb_regrasgerais.jpg
END:VEVENT
END:VCALENDAR