BEGIN:VCALENDAR
VERSION:2.0
PRODID:-//Biblioteca Pública e Arquivo Regional Luís da Silva Ribeiro - ECPv4.9.10//NONSGML v1.0//EN
CALSCALE:GREGORIAN
METHOD:PUBLISH
X-WR-CALNAME:Biblioteca Pública e Arquivo Regional Luís da Silva Ribeiro
X-ORIGINAL-URL:https://bparlsr.azores.gov.pt
X-WR-CALDESC:Events for Biblioteca Pública e Arquivo Regional Luís da Silva Ribeiro
BEGIN:VTIMEZONE
TZID:Atlantic/Azores
BEGIN:DAYLIGHT
TZOFFSETFROM:-0100
TZOFFSETTO:+0000
TZNAME:+00
DTSTART:20180325T010000
END:DAYLIGHT
BEGIN:STANDARD
TZOFFSETFROM:+0000
TZOFFSETTO:-0100
TZNAME:-01
DTSTART:20181028T010000
END:STANDARD
END:VTIMEZONE
BEGIN:VEVENT
DTSTART;TZID=Atlantic/Azores:20180414T200000
DTEND;TZID=Atlantic/Azores:20180414T210000
DTSTAMP:20260426T032545
CREATED:20180404T124230Z
LAST-MODIFIED:20180404T124230Z
UID:1774-1523736000-1523739600@bparlsr.azores.gov.pt
SUMMARY:Serão de Contos Antigos
DESCRIPTION:“Serão de Contos Antigos” – Núcleo Museológico dos Altares \nData: 14 de abril \nHora: 20:00 \nLocal: Núcleo Museológico dos Altares \nPúblico-alvo: Público em geral \n  \nA Biblioteca Pública e Arquivo Regional Luís da Silva Ribeiro leva a cabo um Serão de Contos Antigos no Núcleo Museológico dos Altares\, destinado ao público geral. \nTrata-se de mais um contributo para perpetuar a tradição oral dos contos\, adivinhas\, cantigas e outras tipologias da narrativa popular\, testemunho da sabedoria dos antigos e força atuante em potência na resposta aos desafios atuais. \nEm paralelo\, dá-se evidência às coleções itinerantes do projeto “Biblioteca nas Freguesias”\, patente de 3 a 29 de abril de 2018. \n  \nBiografia do narrador \nRicardo Ávila\, 39 anos\, natural da ilha Terceira\, narrador\, mediador de leitura e ator. Licenciou-se em Educação de Infância na Universidade dos Açores\, em 2006\, e concluiu mestrado em teatro\, no ramo de ator-marionetista\, na Universidade de Évora em 2012. Tem-se dedicado à narração de contos de tradição portuguesa e participado em várias formações nesta área\, nomeadamente no Festival “Palavras Andarilhas” pela Biblioteca José Saramago. \nPresentemente ao serviço da Biblioteca Pública e Arquivo Regional Luís da Silva Ribeiro\, é responsável por diversas atividades de promoção da leitura e mediação leitora\, numa perspetiva de trabalho de continuidade em articulação com a escola e a comunidade. \nFacebookTwitterGoogle+\n\n\n\n\n
URL:https://bparlsr.azores.gov.pt/destaque/serao-de-contos-antigos/
CATEGORIES:Biblioteca
ATTACH;FMTTYPE=image/jpeg:https://bparlsr.azores.gov.pt/wp-content/uploads/2018/04/Imagem-TV.jpg
END:VEVENT
END:VCALENDAR