BEGIN:VCALENDAR
VERSION:2.0
PRODID:-//Biblioteca Pública e Arquivo Regional Luís da Silva Ribeiro - ECPv4.9.10//NONSGML v1.0//EN
CALSCALE:GREGORIAN
METHOD:PUBLISH
X-WR-CALNAME:Biblioteca Pública e Arquivo Regional Luís da Silva Ribeiro
X-ORIGINAL-URL:https://bparlsr.azores.gov.pt
X-WR-CALDESC:Events for Biblioteca Pública e Arquivo Regional Luís da Silva Ribeiro
BEGIN:VTIMEZONE
TZID:Atlantic/Azores
BEGIN:DAYLIGHT
TZOFFSETFROM:-0100
TZOFFSETTO:+0000
TZNAME:+00
DTSTART:20230326T010000
END:DAYLIGHT
BEGIN:STANDARD
TZOFFSETFROM:+0000
TZOFFSETTO:-0100
TZNAME:-01
DTSTART:20231029T010000
END:STANDARD
END:VTIMEZONE
BEGIN:VEVENT
DTSTART;TZID=Atlantic/Azores:20231020T210000
DTEND;TZID=Atlantic/Azores:20231020T220000
DTSTAMP:20260425T175958
CREATED:20231011T102550Z
LAST-MODIFIED:20231011T102550Z
UID:11043-1697835600-1697839200@bparlsr.azores.gov.pt
SUMMARY:Serão de Contos
DESCRIPTION:Junte-se a nós e venha ouvir as histórias envolventes de Luís Carmelo\, contador de histórias e investigador na área da literatura oral. O Serão de Contos acontece na Biblioteca\, no dia 20 de outubro\, às 21 horas. \nNeste Serão de Contos pode esperar uma experiência autêntica bem como\, histórias que o levarão para outras realidades e muitos sorrisos. Vai também ouvir histórias que refletem os valores e as crenças de comunidades do passado e que\, em muitos casos\, continuam a ter impacto na atualidade. \nApareça e venha descobrir os ensinamentos deixados pelas gerações do passado. \nPara mais informações contacte-nos através do número 295 401 000 ou do e-mail sij.bparlsr@azores.gov.pt. \nInscreva-se no Serão de Contos através da ligação… \n  \nNOTA BIOGRÁFICA – Luís Carmelo \nNasceu em Lisboa em 1976\, mas foi no Brasil que cresceu até 1991. É licenciado em Estudos Teatrais\, Mestre em Estudos Portugueses (Representações da Morte no Conto Tradicional Português\, Colibri\, 2011) e Doutor em Artes\, Cultura e Comunicação\, com a tese Narração Oral: uma arte performativa. Colabora com o Instituto de Estudos de Literatura Tradicional da Universidade Nova de Lisboa e o Centro de Investigação em Artes e Comunicação da Universidade do Algarve. \nConta histórias desde 2003\, em bibliotecas\, escolas\, associações\, teatros e festivais\, em Portugal e no estrangeiro. Criou projectos como os Contapetes\, os Contapetes Bebés\, a Barraquinha dos Contos\, as Contatinas\, entre outros. Organiza encontros e conferências dedicadas à narração oral\, tais como as duas edições de Narração Oral: Instrumento\, Tradição e Arte\, em Évora e Faro\, ou Tales – Aprender com as histórias na sala de aula\, em Beja. \n  \nFacebookTwitterGoogle+\n\n\n\n\n
URL:https://bparlsr.azores.gov.pt/destaque/serao-de-contos/
CATEGORIES:Biblioteca,Biblioteca Infantojuvenil
ATTACH;FMTTYPE=image/jpeg:https://bparlsr.azores.gov.pt/wp-content/uploads/2023/10/7_destaque_ictp_lc_20_Easy-Resize.com_.jpg
END:VEVENT
END:VCALENDAR