BEGIN:VCALENDAR
VERSION:2.0
PRODID:-//Biblioteca Pública e Arquivo Regional Luís da Silva Ribeiro - ECPv4.9.10//NONSGML v1.0//EN
CALSCALE:GREGORIAN
METHOD:PUBLISH
X-WR-CALNAME:Biblioteca Pública e Arquivo Regional Luís da Silva Ribeiro
X-ORIGINAL-URL:https://bparlsr.azores.gov.pt
X-WR-CALDESC:Events for Biblioteca Pública e Arquivo Regional Luís da Silva Ribeiro
BEGIN:VTIMEZONE
TZID:Atlantic/Azores
BEGIN:DAYLIGHT
TZOFFSETFROM:-0100
TZOFFSETTO:+0000
TZNAME:+00
DTSTART:20190331T010000
END:DAYLIGHT
BEGIN:STANDARD
TZOFFSETFROM:+0000
TZOFFSETTO:-0100
TZNAME:-01
DTSTART:20191027T010000
END:STANDARD
END:VTIMEZONE
BEGIN:VEVENT
DTSTART;TZID=Atlantic/Azores:20190504T143000
DTEND;TZID=Atlantic/Azores:20190504T153000
DTSTAMP:20260420T012922
CREATED:20190429T134101Z
LAST-MODIFIED:20190429T134101Z
UID:3235-1556980200-1556983800@bparlsr.azores.gov.pt
SUMMARY:Teatro para bebés
DESCRIPTION:Teatro para bebés\, com Maria Liberdade\nData: 4 de maio\nHora: 14h30\nLocal: Biblioteca Pública e Arquivo Regional Luís da Silva Ribeiro\nDestinatários: 12 bebés acompanhados pelos pais\nA Biblioteca Pública e Arquivo Regional Luís da Silva Ribeiro dá continuidade à atividade “Teatro para bebés”\, na secção infantojuvenil.\nA formadora\, Maria Liberdade\, compõe progressivamente um cenário com objetos de um quotidiano infantil\, à qual associa estímulos sonoros\, por vezes olfativos e tácteis\, desta forma convidando a uma leitura integrada da narrativa.\nAs inscrições são limitadas\, podendo os interessados solicitar ficha junto do endereço bpar.angra.info@azores.gov.pt\, a qual deverão devolver até dia 2 de maio.\nFacebookTwitterGoogle+\n\n\n\n\n
URL:https://bparlsr.azores.gov.pt/destaque/teatro-para-bebes/
CATEGORIES:Biblioteca Infantojuvenil
ATTACH;FMTTYPE=image/jpeg:https://bparlsr.azores.gov.pt/wp-content/uploads/2019/04/Sítio-web-e-TV-7.jpg
END:VEVENT
END:VCALENDAR