BEGIN:VCALENDAR
VERSION:2.0
PRODID:-//Biblioteca Pública e Arquivo Regional Luís da Silva Ribeiro - ECPv4.9.10//NONSGML v1.0//EN
CALSCALE:GREGORIAN
METHOD:PUBLISH
X-WR-CALNAME:Biblioteca Pública e Arquivo Regional Luís da Silva Ribeiro
X-ORIGINAL-URL:https://bparlsr.azores.gov.pt
X-WR-CALDESC:Events for Biblioteca Pública e Arquivo Regional Luís da Silva Ribeiro
BEGIN:VTIMEZONE
TZID:Atlantic/Azores
BEGIN:DAYLIGHT
TZOFFSETFROM:-0100
TZOFFSETTO:+0000
TZNAME:+00
DTSTART:20210328T010000
END:DAYLIGHT
BEGIN:STANDARD
TZOFFSETFROM:+0000
TZOFFSETTO:-0100
TZNAME:-01
DTSTART:20211031T010000
END:STANDARD
BEGIN:DAYLIGHT
TZOFFSETFROM:-0100
TZOFFSETTO:+0000
TZNAME:+00
DTSTART:20220327T010000
END:DAYLIGHT
BEGIN:STANDARD
TZOFFSETFROM:+0000
TZOFFSETTO:-0100
TZNAME:-01
DTSTART:20221030T010000
END:STANDARD
END:VTIMEZONE
BEGIN:VEVENT
DTSTART;VALUE=DATE:20210318
DTEND;VALUE=DATE:20220320
DTSTAMP:20260420T230919
CREATED:20210203T154517Z
LAST-MODIFIED:20210319T105612Z
UID:5127-1616025600-1647734399@bparlsr.azores.gov.pt
SUMMARY:Teotónio de Ornelas
DESCRIPTION: \n\n\n\n\n\n\n\n\n\n\n\n \nInício\n\nRoteiro\n\nExposição Virtual\n\nConferências\n\nCatálogo Digital\n\nVisita 360º\n \n\n\n \n\n  \n\n\n\n\n \n\n\n\n\n\n\n\n\nPormenor da cidade de Angra do Heroísmo visto do Pico das Cruzinhas\, onde se vê o palácio de Santa Luzia. Fins do séc. XIX. \nHOB/001/000002 \n\n\n  \n\n \n\n\n\n\n\n \n\n  \n  \n  \n  \n  \n  \n  \n  \n  \n  \n  \n  \n  \n  \n  \n  \n  \nBrasão da família Paim utilizado por Teotónio de Ornelas.\n            Desenho de Clemente Bellinque \nCCPV/A/B/doc. 02 \n\n\n\n \n\n\n \n \n \n\n\n \n\n \n\n\n \n\nCarta de D. Maria II concedendo o título de visconde de Bruges a Teotónio de Ornelas Bruges Ávila\, durante a sua vida\, pelos serviços prestados à causa da legitimidade no levantamento ocorrido no dia 22 de junho de 1828 na ilha Terceira. Lisboa\, 3 de fevereiro de 1835. Este título foi atribuído por decreto de D. Pedro datado de 8 de dezembro de 1832. \n CCPV/H-T04-A/004/doc. 01 \n           \n\n \n\n\n \n\n\n \n \n \n\n\n \n\n  \n  \n  \n  \n  \n  \n  \n  \n  \n  \n  \n  \n  \n  \nCarta de Jácome de Bruges dirigida ao pai congratulando-se pela atribuição do título de conde da Praia da Vitória\, 20 de agosto de 1863. \n CCPV/01/001/0001/doc. 294 \n           \n\n\n\n\n \n\n\n \n \n \n\n\n \n\n \n\n\n \n\nCarta de D. Maria II nomeando Teotónio de Ornelas Par do Reino. Lisboa\, 1 de outubro de 1835. \n CCPV/H-T04-A/004/doc. 03 \n           \n\n \n\n\n \n\n\n \n \n \n\n\n \n\n \n\n\n \n\nNomeação de Teotónio de Ornelas para Provedor do Concelho de Angra. Ponta Delgada\, 9 de junho de 1832. \n CCPV/H-T04/H/doc. 02  \n\n\n\n         \n\n\n\n \n\n\n \n \n \n\n\n \n\n \n\n\n \n\nInstruções inerentes ao cargo de governador civil do distrito administrativo de Angra\, entregues a Teotónio de Ornelas. Lisboa\, 4 de março de 1836. \n CCPV/H-T04/J/doc. 27 \n           \n\n\n\n         \n\n\n\n \n\n  \n  \n  \n  \n  \n  \n  \n  \n  \n  \n  \n  \n  \n  \n  \n  \n  \nNomeação de Teotónio de Ornelas para administrador geral interino do Distrito de Angra. Lisboa\, 18 de novembro de 1836. \n CCPV/H-T04/J/doc. 32 \n           \n\n\n\n \n\n\n \n \n \n\n\n \n\n  \n  \n  \n  \n  \n  \n  \n  \n  \n  \n  \n  \n  \n  \n  \n  \nExoneração de Teotónio de Ornelas do cargo de administrador geral do distrito de Angra do Heroísmo. Lisboa\, 27 de setembro de 1839. \n CCPV/H-T04/J/doc. 79  \n\n\n\n\n \n\n\n \n \n \n\n\n \n\n \n\n\n \n\nDecreto de 12 de janeiro de 1837 atribuindo a Teotónio de Ornelas o título de comendador honorário da Ordem de Cristo. \n CCPV/H-T04-A/004/doc.05  \n\n\n\n         \n\n\n\n \n\n\n \n \n \n\n\n \n\n \n\n\n \nPalácio de Santa Luzia em aguarela de Emanuel Félix\, artista plástico\, natural de Angra do Heroísmo. Janeiro de 2021.\n \n\n\n \n\n  \n  \n  \n  \n  \n  \n  \n  \n  \n  \n  \n  \n  \n  \n  \n  \n  \nInventário dos bens que ficaram por morte do capitão João de Ávila instituídos em morgado. Angra\, 13 de janeiro de 1671. \n CCPV/D-A/010/lv. 1  \n\n\n\n \n\n\n \n \n \n\n\n \n\n \n\n\n \n\nRelação dos bens e rendas dos morgadios\, capelas e terças provenientes da Casa de Teotónio de Ornelas Borges de Ávila Paim da Câmara\, avô materno de Teotónio de Ornelas\, 1777. \n CCPV/D-A/005/doc. 06 \n           \n\n\n\n         \n\n\n\n \n\n\n \n \n \n\n\n \n\n \n\n\n \n\nTítulo de permuta de bens vinculados por bens livres. Angra do Heroísmo\, 21 de fevereiro de 1842. \n CCPV/D-A/008/doc. 01  \n\n\n\n         \n\n\n\n \n\n\n \n \n \n\n\n \n\n  \n  \n  \n  \n  \n  \n  \n  \n  \n  \n  \n  \n  \n  \n  \n  \nRelação dos livros das diversas instituições de que era administrador Teotónio de Ornelas\, Angra do Heroísmo\, 3 de fevereiro de 1857. \n CCPV/D-A/005/doc. 07  \n\n\n\n\n \n\n\n \n \n \n\n\n \n\n \n\n\n \n\nEscritura de permuta\, efetuada entre o visconde de Bruges e Francisco de Lemos Álvares\, da Quinta da Estrela por um corpo de terras sito às Sete Ribeiras\, freguesia de Santa Bárbara. Angra\, 21 de junho de 1833. \n NOTAGH/49/A/Lv. 2\, fls. 37-43 \n\n\n\n         \n\n\n\n \n\n\n \n \n \n\n\n \n\n \n\n\n \n\nEscritura de permuta\, efetuada entre o visconde de Bruges e Francisco de Lemos Álvares\, da Quinta da Estrela por um corpo de terras sito às Sete Ribeiras\, freguesia de Santa Bárbara. Angra\, 21 de junho de 1833. \n NOTAGH/49/A/Lv. 2\, fls. 37-43 \n\n\n\n         \n\n\n\n \n\n\n \n \n \n\n\n \n\n \n\n\n \n\nEscritura de compra do convento de S. Francisco da Praia da Vitória por Teotónio de Ornelas a António Tomé da Fonseca. Angra do Heroísmo\, 2 de abril de 1841. \n NOTAGH/54/A/Lv. 2\, fls. 65v-67v \n\n\n\n         \n\n\n\n \n\n  \n  \n  \n  \n  \n  \n  \n  \n  \n  \n  \n  \nNomeação de Teotónio de Ornelas para administrador geral interino do Distrito de Angra. Lisboa\, 18 de novembro de 1836. \n CCPV/H-T04/J/doc. 32 \n           \n\n\n\n \n\n\n \n \n \n\n\n \n\n \n\n\n \n\nCaderno para as rendas relativas a 1827. \n CCPV/F/002-001/001/Cad. 1 \n\n\n\n         \n\n\n\n \n\n\n \n \n \n\n\n \n\n \n\n\n \n\nOrdem de pagamento passada por Teotónio de Ornelas a 5 de julho de 1829. \n CCPV/F/002-001/002/pt. 4/doc. 11 \n\n\n\n         \n\n\n\n \n\n\n \n \n \n\n\n \n\n \n\n\n \n\nNota de crédito de Teotónio de Ornelas a António Carlos Kilberg por aluguer de trens. Angra do Heroísmo\, 25 de setembro de 1868. \n CCPV/ F/002-001/002/pt. 7/doc. 62 \n\n\n\n         \n\n\n\n \n\n\n \n \n \n\n\n \n\n \n\n\n \n\nPagamento de foro de uma casa a Teotónio de Ornelas. Angra do Heroísmo\, 22 de fevereiro de 1869. \n CCPV/F/002-001/002/pt. 7/doc. 71 \n\n\n\n         \n\n\n\n \n\n\n \n \n \n\n\n \n\n \n\n\n \n\nRelação das propriedades do vínculo instituído pelo capitão João de Ávila. Angra do Heroísmo\, 1863. \n CCPV/D-A/T/doc. 10 \n\n\n\n         \n\n\n\n \n\n\n \n \n \n\n\n \n\n  \n  \n  \n  \n  \n  \n  \n  \n  \n  \n  \n  \n  \n  \n  \n  \nAtestado do percurso militar do soldado José da Rocha Coelho\, passado por Teotónio de Ornelas como coronel do Batalhão de Caçadores Artilheiros n.º 1. Angra\, 5 de dezembro de 1829. \n CCPV/H-T04-B/007/doc. 04  \n\n\n\n\n \n\n\n \n \n \n\n\n \n\n \n\n\n \n\nCircuito da ilha Terceira dividido em 8 distritos militares e força de cada um. 1831. \n CCPV/H-T04-B/006/doc. 14 \n\n\n\n         \n\n\n\n \n\n\n \n \n \n\n\n \n\n \n\n\n \n\nEnumeração dos motivos que levaram Teotónio de Ornelas a pedir que o exonerassem de estar às ordens do Governo Interino e solicitar licença por 6 meses para se deslocar à ilha Graciosa ou a qualquer outra ilha. Angra\, 3 de julho de 1828. \n CCPV/H-T04/C/doc. 02 \n\n\n\n         \n\n\n\n  \n \n\n\n\n\n\n\n\n\n \n\n\n \n\nVoltar ao início\n\nPróxima página\n\n\n\n \nFacebookTwitterGoogle+\n\n\n\n\n
URL:https://bparlsr.azores.gov.pt/destaque/teotonio-de-ornelas-3/
ATTACH;FMTTYPE=image/png:https://bparlsr.azores.gov.pt/wp-content/uploads/2021/02/13_ExposicaoVirtual.png
END:VEVENT
END:VCALENDAR