BEGIN:VCALENDAR
VERSION:2.0
PRODID:-//Biblioteca Pública e Arquivo Regional Luís da Silva Ribeiro - ECPv4.9.10//NONSGML v1.0//EN
CALSCALE:GREGORIAN
METHOD:PUBLISH
X-WR-CALNAME:Biblioteca Pública e Arquivo Regional Luís da Silva Ribeiro
X-ORIGINAL-URL:https://bparlsr.azores.gov.pt
X-WR-CALDESC:Events for Biblioteca Pública e Arquivo Regional Luís da Silva Ribeiro
BEGIN:VTIMEZONE
TZID:Atlantic/Azores
BEGIN:DAYLIGHT
TZOFFSETFROM:-0100
TZOFFSETTO:+0000
TZNAME:+00
DTSTART:20240331T010000
END:DAYLIGHT
BEGIN:STANDARD
TZOFFSETFROM:+0000
TZOFFSETTO:-0100
TZNAME:-01
DTSTART:20241027T010000
END:STANDARD
END:VTIMEZONE
BEGIN:VEVENT
DTSTART;TZID=Atlantic/Azores:20240106T150000
DTEND;TZID=Atlantic/Azores:20240106T170000
DTSTAMP:20260426T020203
CREATED:20240105T162010Z
LAST-MODIFIED:20240105T162010Z
UID:11230-1704553200-1704560400@bparlsr.azores.gov.pt
SUMMARY:Tertúlia Paleográfica
DESCRIPTION:A Biblioteca Pública e Arquivo Regional Luís da Silva Ribeiro organiza\, no próximo dia 6 de janeiro\, pelas 15h00 locais\, mais uma sessão de Tertúlia Paleográfica em formato presencial e online. \nEstas sessões decorrem sempre no primeiro sábado de cada mês e à mesma hora. Na Tertúlia deste mês\, coordenada por Avelino Santos e orientada por João Ventura\, será analisado um documento do livro do tombo de testamentos da Ordem Terceira de S. Francisco de Angra referente a um testamento de Melchior Machado Fagundes\, datado de 10 de dezembro de 1652. \nA Paleografia é a ciência que estuda a escrita ao longo dos tempos\, tanto na forma como no conteúdo. Nas Tertúlias far-se-ão leituras e interpretações de documentos escritos como cartas régias\, escrituras\, testamentos\, registos paroquiais e outros\, desde o século XVI ao XVIII. \nA inscrição pode ser feita através do endereço de e-mail comunicacao.bparlsr@azores.gov.pt ou do telefone 295 401000. \n  \nNota Biográfica: \nJoão Manuel Diniz da Silva Ventura \nNatural da ilha Terceira\, licenciado em Línguas e Literaturas Modernas\, variante de estudos Ingleses e Alemães\, pela Universidade de Coimbra\, com especialização em Ciências Documentais\, ramo de Arquivo\, pela mesma Universidade. De 2004 a 2007 colaborou com o Centro de Conhecimento dos Açores\, onde se deu início à digitalização dos Registos Paroquiais. Posteriormente foi arquivista da Direção Regional da Cultura. \n  \n  \nFacebookTwitterGoogle+\n\n\n\n\n
URL:https://bparlsr.azores.gov.pt/destaque/tertulia-paleografica-15/
CATEGORIES:Arquivo Regional,Biblioteca
ATTACH;FMTTYPE=image/jpeg:https://bparlsr.azores.gov.pt/wp-content/uploads/2024/01/formatos_tp_sitioweb_Easy-Resize.com_.jpg
END:VEVENT
END:VCALENDAR