BEGIN:VCALENDAR
VERSION:2.0
PRODID:-//Biblioteca Pública e Arquivo Regional Luís da Silva Ribeiro - ECPv4.9.10//NONSGML v1.0//EN
CALSCALE:GREGORIAN
METHOD:PUBLISH
X-WR-CALNAME:Biblioteca Pública e Arquivo Regional Luís da Silva Ribeiro
X-ORIGINAL-URL:https://bparlsr.azores.gov.pt
X-WR-CALDESC:Events for Biblioteca Pública e Arquivo Regional Luís da Silva Ribeiro
BEGIN:VTIMEZONE
TZID:Atlantic/Azores
BEGIN:DAYLIGHT
TZOFFSETFROM:-0100
TZOFFSETTO:+0000
TZNAME:+00
DTSTART:20250330T010000
END:DAYLIGHT
BEGIN:STANDARD
TZOFFSETFROM:+0000
TZOFFSETTO:-0100
TZNAME:-01
DTSTART:20251026T010000
END:STANDARD
END:VTIMEZONE
BEGIN:VEVENT
DTSTART;TZID=Atlantic/Azores:20250503T150000
DTEND;TZID=Atlantic/Azores:20250503T170000
DTSTAMP:20260425T142341
CREATED:20250428T092439Z
LAST-MODIFIED:20250428T092758Z
UID:12073-1746284400-1746291600@bparlsr.azores.gov.pt
SUMMARY:Tertúlia Paleográfica
DESCRIPTION:A Biblioteca Pública e Arquivo Regional Luís da Silva Ribeiro organiza\, no próximo dia 3 de maio\, pelas 15h00 locais\, mais uma sessão de Tertúlia Paleográfica em formato presencial e online. \nEstas sessões decorrem sempre no primeiro sábado de cada mês e à mesma hora. Na Tertúlia do mês de maio\, coordenada por Avelino Santos e orientada por João Ventura\, dar-se-á continuidade à análise do documento do arquivo da Mitra de Angra referente a um testamento do arcediago Lázaro de Sousa Pereira\, natural da ilha de S. Jorge e datado de 1747. \nA Paleografia é a ciência que estuda a escrita ao longo dos tempos\, tanto na forma como no conteúdo. Nas Tertúlias far-se-ão leituras e interpretações de documentos escritos como cartas régias\, escrituras\, testamentos\, registos paroquiais e outros\, desde o século XVI ao XVIII. \nA inscrição para participação pode ser feita através do endereço de e-mail comunicacao.bparlsr@azores.gov.pt ou do telefone 295 401 000. \nFacebookTwitterGoogle+\n\n\n\n\n
URL:https://bparlsr.azores.gov.pt/destaque/tertulia-paleografica-21/
CATEGORIES:Biblioteca
ATTACH;FMTTYPE=image/jpeg:https://bparlsr.azores.gov.pt/wp-content/uploads/2025/04/formatos_tp_maio_sitioweb.jpg
END:VEVENT
END:VCALENDAR