BEGIN:VCALENDAR
VERSION:2.0
PRODID:-//Biblioteca Pública e Arquivo Regional Luís da Silva Ribeiro - ECPv4.9.10//NONSGML v1.0//EN
CALSCALE:GREGORIAN
METHOD:PUBLISH
X-WR-CALNAME:Biblioteca Pública e Arquivo Regional Luís da Silva Ribeiro
X-ORIGINAL-URL:https://bparlsr.azores.gov.pt
X-WR-CALDESC:Events for Biblioteca Pública e Arquivo Regional Luís da Silva Ribeiro
BEGIN:VTIMEZONE
TZID:Atlantic/Azores
BEGIN:DAYLIGHT
TZOFFSETFROM:-0100
TZOFFSETTO:+0000
TZNAME:+00
DTSTART:20190331T010000
END:DAYLIGHT
BEGIN:STANDARD
TZOFFSETFROM:+0000
TZOFFSETTO:-0100
TZNAME:-01
DTSTART:20191027T010000
END:STANDARD
END:VTIMEZONE
BEGIN:VEVENT
DTSTART;TZID=Atlantic/Azores:20191015T140000
DTEND;TZID=Atlantic/Azores:20191015T163000
DTSTAMP:20260425T232159
CREATED:20191008T121211Z
LAST-MODIFIED:20191008T130310Z
UID:3489-1571148000-1571157000@bparlsr.azores.gov.pt
SUMMARY:Workshop “Afetos e Redes Sociais na 3.ª Idade”
DESCRIPTION:Workshop “Afetos e Redes Sociais na 3.ª Idade”\, por Nuno Silveira\, Letícia Leal e Diana Simões\nData: 15 de outubro\nHora: das 14:00 às 16:30\nLocal: Biblioteca Pública e Arquivo Regional Luís da Silva Ribeiro\nPúblico-alvo: a partir dos 60 anos\nAs redes sociais e a internet mudaram o nosso cotidiano. O de todos\, mas o dos idosos em particular\, que procuram companhia\, entretenimento\, e encontro de velhas amizades por este meio. Porém\, nem sempre esta utilização é segura e isenta de perigos. Conhecê-los é a melhor forma de evitá-los. A Biblioteca Pública e Arquivo Regional Luís da Silva Ribeiro\, em parceria com a Sta. Casa da Misericórdia da Praia da Vitória\, promove uma oficina destinada ao público sénior visando explicar o funcionamento das redes sociais\, através do reconhecimento das suas vantagens e potenciais desvantagens\, e aguçar a destreza na identificação dos perigos inerentes à sua utilização.\nAs inscrições (em número limitado) podem ser efetuadas presencialmente na Biblioteca ou através do email Carina.M.Borges@azores.gov.pt \nNuno Miguel Silveira trabalha na SCMPV onde exerce funções de monitor/ formador do centro de informática e dá apoio técnico na instituição.\nLetícia Leal é psicóloga e trabalha na SCMPV. Orienta com Nuno Silveira diversas oficinas e workshops para jovens.\nDiana Simões é psicóloga e trabalha na SCMPV. Orienta com Nuno Silveira diversas oficinas e workshops para jovens.\nFacebookTwitterGoogle+\n\n\n\n\n
URL:https://bparlsr.azores.gov.pt/destaque/workshop-afetos-e-redes-sociais-na-3-a-idade/
CATEGORIES:Biblioteca
ATTACH;FMTTYPE=image/jpeg:https://bparlsr.azores.gov.pt/wp-content/uploads/2019/10/Sítio-web-e-TV-4.jpg
END:VEVENT
END:VCALENDAR