BEGIN:VCALENDAR
VERSION:2.0
PRODID:-//Biblioteca Pública e Arquivo Regional Luís da Silva Ribeiro - ECPv4.9.10//NONSGML v1.0//EN
CALSCALE:GREGORIAN
METHOD:PUBLISH
X-WR-CALNAME:Biblioteca Pública e Arquivo Regional Luís da Silva Ribeiro
X-ORIGINAL-URL:https://bparlsr.azores.gov.pt
X-WR-CALDESC:Events for Biblioteca Pública e Arquivo Regional Luís da Silva Ribeiro
BEGIN:VTIMEZONE
TZID:Atlantic/Azores
BEGIN:DAYLIGHT
TZOFFSETFROM:-0100
TZOFFSETTO:+0000
TZNAME:+00
DTSTART:20220327T010000
END:DAYLIGHT
BEGIN:STANDARD
TZOFFSETFROM:+0000
TZOFFSETTO:-0100
TZNAME:-01
DTSTART:20221030T010000
END:STANDARD
END:VTIMEZONE
BEGIN:VEVENT
DTSTART;TZID=Atlantic/Azores:20220524T173000
DTEND;TZID=Atlantic/Azores:20220526T200000
DTSTAMP:20260425T162412
CREATED:20220513T111307Z
LAST-MODIFIED:20220513T111307Z
UID:9305-1653413400-1653595200@bparlsr.azores.gov.pt
SUMMARY:Workshop de Encadernação: Estilo Copta
DESCRIPTION:A Biblioteca Pública e Arquivo Regional Luís da Silva Ribeiro promove o Workshop de Encadernação: Estilo Copta\, nos dias 24\, 25 e 26 de maio\, das 17h30 às 20h00. Esta sessão decorrerá sob a orientação de Anahí Meyer Riera e Alzira S. Mendes. \nO livro antigo\, objeto de relevância histórico-artística\, é testemunho da nossa identidade cultural. No Workshop de Encadernação pretende-se dar a conhecer a história do livro desde as suas origens até aos nossos dias\, estabelecendo períodos históricos tendo em conta os diferentes materiais da encadernação e sua evolução. \nElaborar-se-á\, neste âmbito\, uma encadernação estilo copta. Este tipo de encadernação foi um dos primeiros a serem usados em forma de códice\, encarregado de preservar os cadernos\, acrescentando capas de madeira\, unidas por meio de uma costura realizada com nó de caderneta. \n  \nInscreva-se através do número 295 401 000 ou enviando um email com o seu nome e contacto para comunicacao.bparlsr@azores.gov.pt. \n  \nNota Biográfica de Anahí Meyer Riera \nNascida em Palma de Maiorca (Espanha). Licenciada em História da Arte pela Universidade das Ilhas Baleares; graduada como Técnica Superior de Conservação e Restauro na Escola Superior de Conservação e Restauro de Bens Culturais da Catalunha\, e Mestre com menção honorífica em Preservação da Arte Contemporânea\, na especialidade de obra sobre papel\, pela Universidade Complutense de Madrid. \nDedicada à preservação do património cultural\, tem desenvolvido projetos em diversos países do continente europeu e americano\, sendo que\, desde 2011\, se dedica principalmente à conservação de papel e do livro antigo. \nDe entre os seus últimos trabalhos\, destaca-se a coordenação do Centro de Conservação e Restauro do Arquivo Histórico de Yucatán\, e o cargo de responsável de conservação e restauro da Comissão de Arte Sacra da Arquidiocese de Yucatán\, ambos no México. \nRecentemente\, colaborou na Biblioteca Pública e Arquivo Regional Luís da Silva Ribeiro\, trabalhando na Oficina de Conservação e Restauro. Atualmente\, é doutoranda da Universidade dos Açores\, e bolseira do Fundo Regional da Ciência e Tecnologia. \n  \nNota Biográfica de Alzira Mendes \nAlzira dos Santos Mendes nasceu em Belo Horizonte\, Brasil em 1964. Licenciou-se pela Faculdade de Filosofia Ciências e Letras de Belo Horizonte\, (Brasil)\, habilitação reconhecida pelo Ministério da Ciência\, Tecnologia e Ensino Superior em Portugal. Complementou os estudos realizando o curso de Conservação e Restauro de Madeira e Mobiliário na Universidade dos Açores e realizou o Curso Breve de Preservação de Documentos Gráficos\, Instituto Politécnico de Tomar / Ateliê de Marta Bretão\, em Angra do Heroísmo. \nTrabalha desde 2015 na Biblioteca Pública e Arquivo Regional Luís da Silva Ribeiro. \nFacebookTwitterGoogle+\n\n\n\n\n
URL:https://bparlsr.azores.gov.pt/destaque/workshop-de-encadernacao-estilo-copta/
CATEGORIES:Arquivo Regional,Biblioteca
ATTACH;FMTTYPE=image/jpeg:https://bparlsr.azores.gov.pt/wp-content/uploads/2022/05/3-Workshop-de-Encadernação-Sitio-Web.jpg
END:VEVENT
END:VCALENDAR