BEGIN:VCALENDAR
VERSION:2.0
PRODID:-//Biblioteca Pública e Arquivo Regional Luís da Silva Ribeiro - ECPv4.9.10//NONSGML v1.0//EN
CALSCALE:GREGORIAN
METHOD:PUBLISH
X-WR-CALNAME:Biblioteca Pública e Arquivo Regional Luís da Silva Ribeiro
X-ORIGINAL-URL:https://bparlsr.azores.gov.pt
X-WR-CALDESC:Events for Biblioteca Pública e Arquivo Regional Luís da Silva Ribeiro
BEGIN:VTIMEZONE
TZID:Atlantic/Azores
BEGIN:DAYLIGHT
TZOFFSETFROM:-0100
TZOFFSETTO:+0000
TZNAME:+00
DTSTART:20180325T010000
END:DAYLIGHT
BEGIN:STANDARD
TZOFFSETFROM:+0000
TZOFFSETTO:-0100
TZNAME:-01
DTSTART:20181028T010000
END:STANDARD
END:VTIMEZONE
BEGIN:VEVENT
DTSTART;TZID=Atlantic/Azores:20180416T190000
DTEND;TZID=Atlantic/Azores:20180420T210000
DTSTAMP:20260425T195408
CREATED:20180405T102851Z
LAST-MODIFIED:20180405T102909Z
UID:1792-1523905200-1524258000@bparlsr.azores.gov.pt
SUMMARY:Workshop de Fotografia a Preto e Branco
DESCRIPTION:Workshop de Fotografia a Preto e Branco\, orientado por Luís Godinho \n  \nData: 16 a 20 de abril \nHora: das 19:00 às 21:00 \nLocal: Biblioteca Pública e Arquivo Regional Luís da Silva Ribeiro \nPúblico-alvo: maiores de 16 anos \nInscrições: até 12 de abril \n  \nA Biblioteca Pública e Arquivo Regional Luís da Silva Ribeiro promove um Workshop de Fotografia a Preto e Branco para todos os que se sentem seduzidos pelo universo e pela poesia visual do preto e branco\, trabalhando o mundo através dos contrastes\, das luzes e das sombras. A estética e a composição dos grandes temas\, por vezes tornam-se mais intensos numa versão a preto e branco. \nPara participar neste Workshop é necessário que a sua inscrição seja enviada para o seguinte endereço eletrónico: Fernanda.PA.Purificacao@azores.gov.pt\, até ao dia 12 de abril. \n  \nLuís Godinho nasceu em 1983\, em Angra do Heroísmo. Em 2009 concluiu a licenciatura em Engenharia e Gestão do Ambiente na Universidade dos Açores. A fotografia surge na sua vida desde novo\, mas só em 2008 é que começou a dedicar-se a esta arte\, considerando-se um autodidata. Tem realizado imensos trabalhos\, sendo a fotografia de paisagem\, de rua e da natureza a sua grande paixão. É um fotógrafo premiado. \nFacebookTwitterGoogle+\n\n\n\n\n
URL:https://bparlsr.azores.gov.pt/destaque/workshop-de-fotografia-a-preto-e-branco/
CATEGORIES:Biblioteca
ATTACH;FMTTYPE=image/jpeg:https://bparlsr.azores.gov.pt/wp-content/uploads/2018/04/Imagem-TV-1.jpg
END:VEVENT
END:VCALENDAR