BEGIN:VCALENDAR
VERSION:2.0
PRODID:-//Biblioteca Pública e Arquivo Regional Luís da Silva Ribeiro - ECPv4.9.10//NONSGML v1.0//EN
CALSCALE:GREGORIAN
METHOD:PUBLISH
X-WR-CALNAME:Biblioteca Pública e Arquivo Regional Luís da Silva Ribeiro
X-ORIGINAL-URL:https://bparlsr.azores.gov.pt
X-WR-CALDESC:Events for Biblioteca Pública e Arquivo Regional Luís da Silva Ribeiro
BEGIN:VTIMEZONE
TZID:Atlantic/Azores
BEGIN:DAYLIGHT
TZOFFSETFROM:-0100
TZOFFSETTO:+0000
TZNAME:+00
DTSTART:20190331T010000
END:DAYLIGHT
BEGIN:STANDARD
TZOFFSETFROM:+0000
TZOFFSETTO:-0100
TZNAME:-01
DTSTART:20191027T010000
END:STANDARD
END:VTIMEZONE
BEGIN:VEVENT
DTSTART;TZID=Atlantic/Azores:20190408T180000
DTEND;TZID=Atlantic/Azores:20190412T210000
DTSTAMP:20260425T022944
CREATED:20190318T171547Z
LAST-MODIFIED:20190318T171547Z
UID:3139-1554746400-1555102800@bparlsr.azores.gov.pt
SUMMARY:Workshop de Iniciação à Genealogia
DESCRIPTION:Workshop de Iniciação à Genealogia \nDatas: 8 a 12 de abril\nHora: 18h às 21h\nLocal: Biblioteca Pública e Arquivo Regional Luís da Silva Ribeiro\nPúblico-alvo: Público em geral\nSujeito ao número de vagas: 15\nConsiderando a missão da Biblioteca Pública e Arquivo Regional Luís da Silva Ribeiro bem como a sua participação ativa na sociedade na era da globalização\, existe a necessidade de criar ambientes de acesso e fomentar a partilha do conhecimento.\nNesta perspetiva\, iremos realizar o Workshop de Iniciação à Genealogia\, tema que julgamos pertinente face à cada vez maior procura do tipo de documentos que se relacionam com esta área no espólio da instituição. Para facilitar e desenvolver competências\, pretende-se dotar a comunidade e os nossos utentes de autonomia\, dando-lhes ferramentas e os instrumentos necessários para a obtenção de conhecimentos\, que permitam a elaboração de estudos genealógicos e que levem à descoberta das suas raízes\, uma vez que a genealogia\, ciência auxiliar da história\, estuda a origem\, o desenvolvimento e a dispersão das famílias e respetivos sobrenomes e apelidos\, possibilitando traçar todo um percurso social\, económico e geográfico de uma determinada família.\nO método utilizado será o expositivo com a vertente prática de organização de árvores genealógicas\, com base nas fontes documentais disponíveis e na informação contida nas mesmas.\nFacebookTwitterGoogle+\n\n\n\n\n
URL:https://bparlsr.azores.gov.pt/destaque/workshop-de-iniciacao-a-genealogia/
CATEGORIES:Arquivo Regional
ATTACH;FMTTYPE=image/jpeg:https://bparlsr.azores.gov.pt/wp-content/uploads/2019/03/Sítio-web-e-TV-4.jpg
END:VEVENT
END:VCALENDAR