BEGIN:VCALENDAR
VERSION:2.0
PRODID:-//Biblioteca Pública e Arquivo Regional Luís da Silva Ribeiro - ECPv4.9.10//NONSGML v1.0//EN
CALSCALE:GREGORIAN
METHOD:PUBLISH
X-WR-CALNAME:Biblioteca Pública e Arquivo Regional Luís da Silva Ribeiro
X-ORIGINAL-URL:https://bparlsr.azores.gov.pt
X-WR-CALDESC:Events for Biblioteca Pública e Arquivo Regional Luís da Silva Ribeiro
BEGIN:VTIMEZONE
TZID:Atlantic/Azores
BEGIN:DAYLIGHT
TZOFFSETFROM:-0100
TZOFFSETTO:+0000
TZNAME:+00
DTSTART:20180325T010000
END:DAYLIGHT
BEGIN:STANDARD
TZOFFSETFROM:+0000
TZOFFSETTO:-0100
TZNAME:-01
DTSTART:20181028T010000
END:STANDARD
END:VTIMEZONE
BEGIN:VEVENT
DTSTART;TZID=Atlantic/Azores:20180301T090000
DTEND;TZID=Atlantic/Azores:20180430T190000
DTSTAMP:20260425T165423
CREATED:20180226T144125Z
LAST-MODIFIED:20180226T144533Z
UID:521-1519894800-1525114800@bparlsr.azores.gov.pt
SUMMARY:Exposição de Fotografia “Refugiantes”\, de Rui Caria
DESCRIPTION:A Biblioteca Pública e Arquivo Regional Luís da Silva Ribeiro acolhe a exposição “Refugiantes”\, assente na coleção de fotografias que Rui Caria recolheu na missão Triton\, da Agência Europeia de Fronteiras e Guarda Costeira – FRONTEX\, entre Lampedusa e a Tunísia. \nEsta exposição incide no problema da atual migração em condições desumanas de milhares de pessoas numa luta desigual pela sobrevivência. Não se pode ficar indiferente à tragédia humana captada magistralmente pela objetiva de Rui Caria\, dando vivo testemunho da atual história trágica que o curso de um mundo em guerra faz gerar. \n  \nA coleção agora exposta ao público pela primeira vez\, já mereceu uma menção honrosa no “INTERNATIONAL PHOTOGRAPHER OF THE YEAR 2017” e é finalista do concurso “FEP European Professional Photographer of the Year Awards 2018” da Federação Europeia de Fotógrafos Profissionais. O resultado deste concurso será revelado no fim do mês de março\, na Irlanda. \n  \nA inauguração da exposição na Biblioteca\, contará com a presença de toda a guarnição do Navio da República Portuguesa\, Viana do Castelo. \n
URL:https://bparlsr.azores.gov.pt/destaque/exposicao-fotografia-refugiantes-rui-caria/
CATEGORIES:Biblioteca,Exposições
ATTACH;FMTTYPE=image/jpeg:https://bparlsr.azores.gov.pt/wp-content/uploads/Newsletter-2.jpg
END:VEVENT
BEGIN:VEVENT
DTSTART;TZID=Atlantic/Azores:20180301T090000
DTEND;TZID=Atlantic/Azores:20180623T190000
DTSTAMP:20260425T165423
CREATED:20180227T153003Z
LAST-MODIFIED:20180529T130956Z
UID:530-1519894800-1529780400@bparlsr.azores.gov.pt
SUMMARY:Mostra: “Por terra fora\, um bicho\, uma história”
DESCRIPTION:A Biblioteca Pública e Arquivo Regional Luís da Silva Ribeiro fará decorrer uma mostra intitulada “Por terra fora\, um bicho\, uma história”\, destacando-se a importância que tem o contacto com animais desde a infância. Para além de saudável\, ajuda a criança a desenvolver o sentido de responsabilidade\, a criatividade\, o vocabulário e a memória\,  a curiosidade e a vontade de aprofundar o seu conhecimento sobre determinados animais\, contribuindo também para a motivar para a leitura e a vontade de descodificar o código da linguagem escrita. \nPara além disso\, verifica-se que algumas histórias recorrem a personagens animais para introduzirem assuntos considerados complexos ou para abordarem sentimentos negativos ou positivos\, de forma a facilitarem a sua assimilação por parte das crianças.  \nÉ partindo de todos estes pressupostos que a mostra “Por terra fora\, um bicho\, uma história” será acompanhada de oficinas lúdicas e pedagógicas que irão cruzar histórias de bichos com atividades plásticas e criativas. \n  \nOficinas: \n“Animais e animenos…” – 10 março –  14h00 às 15h30 (mediante inscrição prévia);  \n“O circo maravilhoso da serpente vermelha” – 13 março – 10h00 às 11h00 (mediante inscrição para o contacto telefónico 295 401 000);  \n“O rato solteiro “–  24 março – 14h00 às 15h30 (mediante inscrição prévia); \nPáscoa da Bicharada – 26 a 28 março – 14h00 às 15h30 (mediante inscrição prévia) \n
URL:https://bparlsr.azores.gov.pt/destaque/mostra-terra-um-bicho-historia/
CATEGORIES:Biblioteca Infantojuvenil,Exposições
ATTACH;FMTTYPE=image/jpeg:https://bparlsr.azores.gov.pt/wp-content/uploads/Newsletter-5.jpg
END:VEVENT
BEGIN:VEVENT
DTSTART;TZID=Atlantic/Azores:20180322T090000
DTEND;TZID=Atlantic/Azores:20180529T190000
DTSTAMP:20260425T165423
CREATED:20180306T130349Z
LAST-MODIFIED:20180306T130349Z
UID:670-1521709200-1527620400@bparlsr.azores.gov.pt
SUMMARY:Oficina de Escrita para Teatro
DESCRIPTION:“Oficina de Escrita para Teatro” \n  \nData: 22 a 24 de março e 26 a 29 de maio \nHora: março | 22 e 23 – 17h às 19h | 24 – 10h às 13h \nmaio | 26 – 10h às 13h | 28 e 29 – 17h às 19h \nLocal: Biblioteca Pública e Arquivo Regional Luís da Silva Ribeiro \nPúblico-alvo: Público em geral a partir dos 16 anos \n   \nA Biblioteca Pública e Arquivo Regional Luís da Silva Ribeiro promove uma Oficina de Escrita para Teatro em dois módulos\, nos meses de março e maio\, destinada ao público geral a partir dos 16 anos\, num total de 14 horas. \nNo primeiro módulo\, de 22 a 24 de março\, a cargo do formador Ricardo Ávila\, os participantes serão convidados à improvisação de dramaturgias estritamente visuais\, a partir de um conjunto de jogos de improviso\, contatando em paralelo com uma rotina corporal do domínio da mímica (teatro físico)\, para enriquecer o jogo do ator. \nNo segundo módulo\, de 26 a 29 de maio\, dará continuidade ao trabalho o dramaturgo Peter Cann\, transmitindo alguns dos princípios e técnicas da escrita para teatro através de exercícios práticos a partir das narrativas emergentes no módulo I. \nEsta oficina inscreve-se num conjunto alargado de formações que terão lugar ao longo do ano na Biblioteca Luís da Silva Ribeiro\, no âmbito do Projeto “Mentirosos Compulsivos: oficinas para jovens criativos”. \nA participação é gratuita mas condicionada a um limite de 10 vagas e à seleção do coletivo\, que terá em conta a carta de motivação dos interessados\, a enviar até dia 20 de março para ricardo.ne.avila@azores.gov.pt. \n  \nRicardo Ávila natural da ilha Terceira\, narrador\, mediador de leitura e ator\, licenciou-se em Educação de Infância na Universidade dos Açores\, em 2006\, e concluiu mestrado em teatro\, no ramo de ator-marionetista\, na Universidade de Évora em 2012. Tem-se dedicado à narração de contos de tradição portuguesa e participado em várias formações nesta área\, nomeadamente no Festival “Palavras Andarilhas” pela Biblioteca José Saramago. \nPresentemente ao serviço da Biblioteca Pública e Arquivo Regional Luís da Silva Ribeiro\, é responsável por diversas atividades de promoção da leitura e mediação leitora\, numa perspetiva de trabalho de continuidade em articulação com a escola e a comunidade. \n  \nPeter Cann é encenador\, libretista\, dramaturgo e docente do curso de Teatro na Universidade de Wolverhampton. \nO seu trabalho tem sido produzido por companhias como: Isango Ensemble\, da África do Sul\, Birmingham Rep\, Shared Experience\, Ópera Nacional de Gales\, BBC Radio 4\, Channel 4 Television\, The Resurrectioniste\, The Theatre Royal Northampton. \nFoi Diretor Artístico do Pentabus Theatre\, de 1985 a 1989. Tem colaborado com o Teatro da Serra do Montemuro\, em Portugal\, em numerosos projetos\, incluindo: “Memórias Partilhadas” (uma co-produção com o Teatro Nacional D. Maria II e atualmente em digressão por Portugal)\, “Pertencia”\, “Louco na Serra”\, “A Taberna”\, “Alminhas”\, “O Canto da Cepa”\, “Enclave”\, “Estrada Nacional” “Caídos do Céu” e\, mais recentemente\, ” 4 Clowns of the Apocalypse”. \n
URL:https://bparlsr.azores.gov.pt/destaque/oficina-de-escrita-para-teatro/
CATEGORIES:Biblioteca
ATTACH;FMTTYPE=image/jpeg:https://bparlsr.azores.gov.pt/wp-content/uploads/2018/03/Newsletter-1.jpg
END:VEVENT
BEGIN:VEVENT
DTSTART;TZID=Atlantic/Azores:20180331T170000
DTEND;TZID=Atlantic/Azores:20181229T180000
DTSTAMP:20260425T165423
CREATED:20180314T174229Z
LAST-MODIFIED:20180314T174529Z
UID:1123-1522515600-1546106400@bparlsr.azores.gov.pt
SUMMARY:Cruzamentos Filosóficos II
DESCRIPTION:“CRUZAMENTOS FILOSÓFICOS II” \n– Leitura e diálogo –  \ncom a orientação de Luís Filipe Bettencourt \n  \nDatas: 31 de março\, 28 de abril\, 26 de maio\, 30 de junho\, 29 de setembro\, 27 de outubro\, 24 de novembro e 29 de dezembro \nHora: das 17:00 às 18:00 \nLocal: Biblioteca Pública e Arquivo Regional Luís da Silva Ribeiro \nPúblico-alvo: Maiores de 15 anos \nInscrição prévia: até 26 de março \n  \nA Biblioteca Pública e Arquivo Regional Luís da Silva Ribeiro promove o segundo ciclo de encontros filosóficos. Continuar-se-á a intercetar a reflexão filosófica com outros domínios do pensamento. A procura da harmonia – do equilíbrio entre o pensamento e a ação – seguirá orientada pelo Fluir de Csikszentmihalyi. \nNesta temporada\, guiados por Saul Friedländer\, daremos prioridade à história do século XX e\, inspirados por Maria Filomena Molder\, ao texto religioso Qohélet. \nPara participar nestes “Cruzamentos Filosóficos II” é necessário que a sua inscrição seja enviada para o seguinte endereço eletrónico: Maria.LC.Ribeiro@azores.gov.pt ou que seja entregue diretamente na Biblioteca até ao dia 26 de março. \n  \nLuís Filipe Bettencourt é licenciado (1995) e mestre (2006) em Filosofia pela FLUL. Professor de Filosofia do ensino secundário desde 1996. Vive e trabalha no concelho de Praia da Vitória. As suas motivações são\, para além da família\, a formação eterna em bateria – jazz e o culto da terra por imitação das florestas (forest garden). \n
URL:https://bparlsr.azores.gov.pt/destaque/cruzamentos-filosoficos-ii/
CATEGORIES:Biblioteca
ATTACH;FMTTYPE=image/jpeg:https://bparlsr.azores.gov.pt/wp-content/uploads/2018/03/Newsletter-4.jpg
END:VEVENT
BEGIN:VEVENT
DTSTART;TZID=Atlantic/Azores:20180402T090000
DTEND;TZID=Atlantic/Azores:20180530T190000
DTSTAMP:20260425T165423
CREATED:20180326T122612Z
LAST-MODIFIED:20180326T122612Z
UID:1525-1522659600-1527706800@bparlsr.azores.gov.pt
SUMMARY:Efemérides
DESCRIPTION:“Efemérides”\, \nmostra organizada pela secção de Periódicos \n  \nData: 2 a 30 de abril \nHora: Horário de funcionamento da Biblioteca \nLocal: Biblioteca Pública e Arquivo Regional Luís da Silva Ribeiro \nPúblico-alvo: Público em geral \n  \nA Biblioteca Pública e Arquivo Regional Luís da Silva Ribeiro terá patente uma mostra de artigos de publicações periódicas sobre os mais relevantes acontecimentos sociais\, políticos e económicos\, ocorridos no mês de fevereiro há 25\, há 50 e há 100 anos atrás. Revelando a evolução histórica à luz da imprensa de diferentes épocas. \n
URL:https://bparlsr.azores.gov.pt/destaque/efemerides/
ATTACH;FMTTYPE=image/jpeg:https://bparlsr.azores.gov.pt/wp-content/uploads/2018/03/Imagem-TV-3.jpg
END:VEVENT
BEGIN:VEVENT
DTSTART;TZID=Atlantic/Azores:20180402T090000
DTEND;TZID=Atlantic/Azores:20180430T190000
DTSTAMP:20260425T165423
CREATED:20180327T091742Z
LAST-MODIFIED:20180327T091742Z
UID:1536-1522659600-1525114800@bparlsr.azores.gov.pt
SUMMARY:Documento do Mês
DESCRIPTION:Documento do Mês\, \nexposição orientada por José Rocha \n  \nData: 2 de abril \nHora: 14:00 \nLocal: Biblioteca Pública e Arquivo Regional Luís da Silva Ribeiro \nPúblico-alvo: Público em geral \n  \nA Biblioteca Pública e Arquivo Regional Luís da Silva Ribeiro possui um vasto conjunto de fontes documentais que podem\, de algum modo\, complementar e enriquecer as informações sobre a genealogia\, a história local\, a história das mentalidades e outras. \nNo âmbito dos 70 anos do arquivo apresentamos neste mês de abril\, o seguinte documento: Projeto das obras de reparação\, modificação e ampliação do edifício destinado a museu e arquivo distrital – Alçado elaborado na Direção de Urbanização de Coimbra – Escala 1/100 – abril 1950. \nJunta Geral do Distrito Autónomo de Angra do Heroísmo – Direção de Obras Públicas e dos Serviços Industriais\, Elétricos e de Viação\, Processo T até 1996. \nJosé Elmiro Teixeira Rocha\, Licenciado em História pela Universidade dos Açores\, é pós-graduado em Ciências Documentais pela mesma universidade. \n
URL:https://bparlsr.azores.gov.pt/destaque/documento-do-mes/
CATEGORIES:Arquivo Regional,Exposições
ATTACH;FMTTYPE=image/jpeg:https://bparlsr.azores.gov.pt/wp-content/uploads/2018/03/Imagem-Tv.jpg
END:VEVENT
BEGIN:VEVENT
DTSTART;TZID=Atlantic/Azores:20180402T180000
DTEND;TZID=Atlantic/Azores:20180406T210000
DTSTAMP:20260425T165423
CREATED:20180321T154639Z
LAST-MODIFIED:20180321T154731Z
UID:1366-1522692000-1523048400@bparlsr.azores.gov.pt
SUMMARY:Curso de Iniciação à Genealogia
DESCRIPTION:Curso de Iniciação à Genealogia\, \ncom a orientação de João Ventura \n  \nData: 2 a 6 de abril de 2018 \nHora: das 18:00 às 21:00 \nLocal: Biblioteca Pública e Arquivo Regional Luís da Silva Ribeiro \nPúblico-alvo: jovens e adultos \nInscrições: até 28 de março \nLimite de participantes: 15 \n  \nA Biblioteca Pública e Arquivo Regional Luís da Silva Ribeiro promove uma oficina de \nIniciação à Genealogia\, orientada pelo Genealogista Dr. João ventura. \nO conhecimento do passado contribui para a compreensão do presente. Saber de onde vimos\, é importante para sabermos quem somos. É neste contexto que\, de 2 a 6 de abril\, decorrerá um curso de Iniciação à Genealogia que visa apetrechar os interessados com as ferramentas necessárias à elaboração da sua genealogia. \nPara participar neste evento é necessário que a inscrição seja enviada para o endereço eletrónico: bpar.angra.info@azores.gov.pt.\, pelo telefone 295 401 000 ou entregá-la diretamente na Biblioteca até ao dia 28 de março. \n  \nJoão Manuel Diniz da Silva Ventura\, 48 anos\, natural da ilha Terceira\, licenciado em Línguas \ne Literaturas Modernas\, variante de estudos Ingleses e Alemães\, pela Universidade de Coimbra\, com especialização em Ciências Documentais\, ramo de Arquivo\, pela mesma Universidade. \nArquivista da Direção Regional da Cultura desde 2007. \nDe 2004 a 2007 colaborou com o Centro de Conhecimento dos Açores\, onde se deu início à digitalização dos Registos Paroquiais. \nGenealogista a tempo parcial\, lecionou oficinas de iniciação à pesquisa genealógica nos Açores\, nas ilhas Terceira\, São Miguel e Faial\, e em vários locais do Estado da Califórnia\, E.U.A. \n
URL:https://bparlsr.azores.gov.pt/destaque/curso-de-iniciacao-a-genealogia/
CATEGORIES:Arquivo Regional
ATTACH;FMTTYPE=image/jpeg:https://bparlsr.azores.gov.pt/wp-content/uploads/2018/03/Imagem-TV-1.jpg
END:VEVENT
BEGIN:VEVENT
DTSTART;TZID=Atlantic/Azores:20180403T140000
DTEND;TZID=Atlantic/Azores:20180430T170000
DTSTAMP:20260425T165423
CREATED:20180326T104256Z
LAST-MODIFIED:20180326T104256Z
UID:1516-1522764000-1525107600@bparlsr.azores.gov.pt
SUMMARY:Biblioteca Itinerante
DESCRIPTION:Biblioteca nas Freguesias \n“Biblioteca Itinerante” \n  \nData: 3 a 29 de abril \nLocal: Núcleo Museológico dos Altares \nHora: terça-feira a domingo\, das 14:00 às 17:00 \n  \nA Biblioteca Pública e Arquivo Regional Luís da Silva Ribeiro e em parceria com a Câmara Municipal de Angra do Heroísmo\, promove a sua presença de uma forma deslocalizada\, procurando diversificar a oferta bibliográfica do seu serviço de empréstimo a um âmbito local\, ao nível da freguesia. A Biblioteca não pode estar em toda a parte\, mas pode seguramente esforçar-se por estar mais perto dos cidadãos e tem a responsabilidade de se aproximar de todos e de lhes proporcionar o contato com os livros\, favorecendo o empréstimo domiciliário. Neste enquadramento pretende-se levar até às populações das diversas freguesias\, do concelho de Angra do Heroísmo\, exemplares do nosso serviço de empréstimo com um duplo objetivo\, o de tornar mais visível as facilidades que o nosso serviço oferece aos cidadãos\, mas sobretudo com o intuito de permitir que a população mais idosa\, ou com menor mobilidade\, tenha acesso em igualdade de circunstâncias\, e sem necessitar de se deslocar\, às obras que disponibilizamos para empréstimo domiciliário\, mediante requisição e nas mesmas condições que oferece o serviço nas instalações da Biblioteca Pública e Arquivo Regional Luís da Silva Ribeiro\, contribuindo\, assim\, para fomentar o interesse pelo livro e pela leitura e dar a conhecer a biblioteca à comunidade. \n
URL:https://bparlsr.azores.gov.pt/destaque/biblioteca-itinerante/
CATEGORIES:Biblioteca
ATTACH;FMTTYPE=image/jpeg:https://bparlsr.azores.gov.pt/wp-content/uploads/2018/03/Newsletter-e-TV.jpg
END:VEVENT
END:VCALENDAR