BEGIN:VCALENDAR
VERSION:2.0
PRODID:-//Biblioteca Pública e Arquivo Regional Luís da Silva Ribeiro - ECPv4.9.10//NONSGML v1.0//EN
CALSCALE:GREGORIAN
METHOD:PUBLISH
X-WR-CALNAME:Biblioteca Pública e Arquivo Regional Luís da Silva Ribeiro
X-ORIGINAL-URL:https://bparlsr.azores.gov.pt
X-WR-CALDESC:Events for Biblioteca Pública e Arquivo Regional Luís da Silva Ribeiro
BEGIN:VTIMEZONE
TZID:Atlantic/Azores
BEGIN:DAYLIGHT
TZOFFSETFROM:-0100
TZOFFSETTO:+0000
TZNAME:+00
DTSTART:20180325T010000
END:DAYLIGHT
BEGIN:STANDARD
TZOFFSETFROM:+0000
TZOFFSETTO:-0100
TZNAME:-01
DTSTART:20181028T010000
END:STANDARD
END:VTIMEZONE
BEGIN:VEVENT
DTSTART;TZID=Atlantic/Azores:20180301T090000
DTEND;TZID=Atlantic/Azores:20180623T190000
DTSTAMP:20260419T141225
CREATED:20180227T153003Z
LAST-MODIFIED:20180529T130956Z
UID:530-1519894800-1529780400@bparlsr.azores.gov.pt
SUMMARY:Mostra: “Por terra fora\, um bicho\, uma história”
DESCRIPTION:A Biblioteca Pública e Arquivo Regional Luís da Silva Ribeiro fará decorrer uma mostra intitulada “Por terra fora\, um bicho\, uma história”\, destacando-se a importância que tem o contacto com animais desde a infância. Para além de saudável\, ajuda a criança a desenvolver o sentido de responsabilidade\, a criatividade\, o vocabulário e a memória\,  a curiosidade e a vontade de aprofundar o seu conhecimento sobre determinados animais\, contribuindo também para a motivar para a leitura e a vontade de descodificar o código da linguagem escrita. \nPara além disso\, verifica-se que algumas histórias recorrem a personagens animais para introduzirem assuntos considerados complexos ou para abordarem sentimentos negativos ou positivos\, de forma a facilitarem a sua assimilação por parte das crianças.  \nÉ partindo de todos estes pressupostos que a mostra “Por terra fora\, um bicho\, uma história” será acompanhada de oficinas lúdicas e pedagógicas que irão cruzar histórias de bichos com atividades plásticas e criativas. \n  \nOficinas: \n“Animais e animenos…” – 10 março –  14h00 às 15h30 (mediante inscrição prévia);  \n“O circo maravilhoso da serpente vermelha” – 13 março – 10h00 às 11h00 (mediante inscrição para o contacto telefónico 295 401 000);  \n“O rato solteiro “–  24 março – 14h00 às 15h30 (mediante inscrição prévia); \nPáscoa da Bicharada – 26 a 28 março – 14h00 às 15h30 (mediante inscrição prévia) \n
URL:https://bparlsr.azores.gov.pt/destaque/mostra-terra-um-bicho-historia/
CATEGORIES:Biblioteca Infantojuvenil,Exposições
ATTACH;FMTTYPE=image/jpeg:https://bparlsr.azores.gov.pt/wp-content/uploads/Newsletter-5.jpg
END:VEVENT
BEGIN:VEVENT
DTSTART;TZID=Atlantic/Azores:20180331T170000
DTEND;TZID=Atlantic/Azores:20181229T180000
DTSTAMP:20260419T141225
CREATED:20180314T174229Z
LAST-MODIFIED:20180314T174529Z
UID:1123-1522515600-1546106400@bparlsr.azores.gov.pt
SUMMARY:Cruzamentos Filosóficos II
DESCRIPTION:“CRUZAMENTOS FILOSÓFICOS II” \n– Leitura e diálogo –  \ncom a orientação de Luís Filipe Bettencourt \n  \nDatas: 31 de março\, 28 de abril\, 26 de maio\, 30 de junho\, 29 de setembro\, 27 de outubro\, 24 de novembro e 29 de dezembro \nHora: das 17:00 às 18:00 \nLocal: Biblioteca Pública e Arquivo Regional Luís da Silva Ribeiro \nPúblico-alvo: Maiores de 15 anos \nInscrição prévia: até 26 de março \n  \nA Biblioteca Pública e Arquivo Regional Luís da Silva Ribeiro promove o segundo ciclo de encontros filosóficos. Continuar-se-á a intercetar a reflexão filosófica com outros domínios do pensamento. A procura da harmonia – do equilíbrio entre o pensamento e a ação – seguirá orientada pelo Fluir de Csikszentmihalyi. \nNesta temporada\, guiados por Saul Friedländer\, daremos prioridade à história do século XX e\, inspirados por Maria Filomena Molder\, ao texto religioso Qohélet. \nPara participar nestes “Cruzamentos Filosóficos II” é necessário que a sua inscrição seja enviada para o seguinte endereço eletrónico: Maria.LC.Ribeiro@azores.gov.pt ou que seja entregue diretamente na Biblioteca até ao dia 26 de março. \n  \nLuís Filipe Bettencourt é licenciado (1995) e mestre (2006) em Filosofia pela FLUL. Professor de Filosofia do ensino secundário desde 1996. Vive e trabalha no concelho de Praia da Vitória. As suas motivações são\, para além da família\, a formação eterna em bateria – jazz e o culto da terra por imitação das florestas (forest garden). \n
URL:https://bparlsr.azores.gov.pt/destaque/cruzamentos-filosoficos-ii/
CATEGORIES:Biblioteca
ATTACH;FMTTYPE=image/jpeg:https://bparlsr.azores.gov.pt/wp-content/uploads/2018/03/Newsletter-4.jpg
END:VEVENT
BEGIN:VEVENT
DTSTART;TZID=Atlantic/Azores:20180420T090000
DTEND;TZID=Atlantic/Azores:20180609T190000
DTSTAMP:20260419T141225
CREATED:20180416T153404Z
LAST-MODIFIED:20180416T153404Z
UID:2180-1524214800-1528570800@bparlsr.azores.gov.pt
SUMMARY:Exposição “O Arquivo e o Documento: 1948-2018”
DESCRIPTION:Exposição “O Arquivo e o Documento: 1948-2018” e Conferência “Arquivo: passado e futuro”\, por Armando Malheiro da Silva \n  \nData: 20 de abril – 9 de junho de 2018 \nHora: 18:00 (Inauguração) \nLocal: Biblioteca Pública e Arquivo regional Luís da Silva Ribeiro \nPúblico-alvo: Jovens e adultos \n  \nA Biblioteca Pública e Arquivo Regional Luís da Silva Ribeiro comemora os 70 anos de existência do Arquivo de Angra e preparou uma exposição com catálogo que contempla a criação do Arquivo\, bem como os seus núcleos documentais mais importantes nos aspetos políticos\, administrativos\, sociais\, religiosos e militares\, com destaque para a documentação municipal\, Cabido e Mitra de Angra\, Capitania Geral dos Açores e Governo Civil. \nNa inauguração da exposição haverá uma conferência intitulada “Arquivo: passado e futuro”\, proferida por Armando Malheiro da Silva; no dia 18 de maio\, às 18:00\, haverá outra conferência\, por Jorge Forjaz: “A criação do Arquivo de Angra” e a finalizar teremos a 9 de junho\, às 18:00\, a última conferência incluída nesta exposição com o título “O arquivo dos provedores das Armadas da ilha Terceira\, por Rute Gregório. \n  \nArmando Manuel Barreiros Malheiro da Silva é Professor Catedrático do Departamento de Ciências da Comunicação e da Informação\, da Faculdade de Letras da Universidade do Porto. Doutor em História Contemporânea de Portugal pela Universidade do Minho\, aprovado com distinção e louvor\, é graduado em História pela Faculdade de Letras da Universidade do Porto e em Filosofia pela Faculdade de Filosofia de Braga da Universidade Católica Portuguesa. Tem pós-graduação em Biblioteconomia e Arquivologia pela Faculdade de Letras da Universidade de Coimbra. Pelo trabalho desenvolvido em mais de uma década de intensa cooperação cientifica praticada no domínio da Ciência da Informação e Documentação\, Arquivologia\, Museologia\, Comunicação\, Literacia da Informação e Plataformas Digitais destaca-se no Brasil como professor convidado\, pesquisador-colaborador\, orientador e consultor ad hoc em projetos científicos e programas de Mestrado\, Doutorado e Pós-doutoramento de diversas universidades\, a exemplo da Universidade Federal da Bahia (UFBA)\, Universidade Federal do Espírito Santo (UFES)\, Universidade Federal da Paraíba (UFPB)\, Universidade Federal de Pernambuco (UFPE)\, Universidade de São Paulo\, onde integra equipes de estudos em Arquivologia e Ciência da Informação e Universidade Federal de Minas Gerais (UFMG)\, onde integra grupo de pesquisa interdisciplinar sobre informação e imaginário. Participa como membro de bancas de dissertações e teses de Programas de Mestrado e Doutorado nas universidades portuguesas (Universidade de Coimbra\, Universidade do Minho\, Universidade de Évora e Universidade Católica Portuguesa)\, na Espanha e no Brasil. Nestes mais de vinte anos dedicados ao ensino\, pesquisa e extensão já publicou inúmeros artigos científicos para revistas nacionais e estrangeiras\, diversos livros. Participa como palestrante de Congressos Nacionais e Internacionais discutindo os rumos das Ciências Sociais e Humanas. \n
URL:https://bparlsr.azores.gov.pt/destaque/exposicao-o-arquivo-e-o-documento-1948-2018/
CATEGORIES:Arquivo Regional,Exposições
ATTACH;FMTTYPE=image/jpeg:https://bparlsr.azores.gov.pt/wp-content/uploads/2018/04/Imagem-Tv.jpg
END:VEVENT
BEGIN:VEVENT
DTSTART;TZID=Atlantic/Azores:20180421T090000
DTEND;TZID=Atlantic/Azores:20180630T190000
DTSTAMP:20260419T141225
CREATED:20180427T095913Z
LAST-MODIFIED:20180427T095923Z
UID:2331-1524301200-1530385200@bparlsr.azores.gov.pt
SUMMARY:Exposição “Postais do Japão” de Margarida Quinteiro
DESCRIPTION:Exposição “Postais do Japão”\,\nde Margarida Quinteiro \nData: de 21 de abril a 30 de junho\nHora: Horário de funcionamento da Biblioteca\nLocal: Biblioteca Pública e Arquivo Regional Luís da Silva Ribeiro \nEstá patente na Biblioteca Pública e Arquivo Regional Luís da Silva Ribeiro\, até 30 de junho\, uma exposição de fotografia intitulada “Postais do Japão”\, da autoria de Margarida Quinteiro\, cuja instalação esteve ao cuidado da REDA.\nPostais do Japão é o conjunto de 10 fotografias tiradas em 2016 e 2018\, aquando das duas visitas que Margarida Quinteiro fez àquele país. São registos fotográficos com pessoas no seu espaço de trabalho ou de ócio\, retratos de um Japão visto pelos olhos de uma ocidental\, que se deleita com as cores do outono e da primavera\, com a descoberta de uma sociedade onde o rigor\, o civismo e o asseio sobressaem e onde coincidem\, com aparente equilíbrio\, o passado e o presente. \nMargarida Quinteiro\, viajante inveterada\, entre muitos outros afazeres profissionais e de lazer\, fotografa essencialmente expressões culturais\, sejam elas práticas sociais tradicionais ou inovadoras\, por lhe permitirem\, em parte\, registar performances do ser humano no seu relacionamento com o trabalho e a arte. Enquanto viajante\, as pessoas ocupam cada vez mais espaço nos seus cartões de memória.\nRealizou cinco exposições individuais – Duas mãos cheias de jazz\, 2016\, Teatro Angrense; DUOs\, 2014\, Centro Cultural e de Congressos de Angra do Heroísmo; Memórias de janela em viagem\, 2007\, Casa do Sal\, Angra do Heroísmo; Itinerância de Luz entre Cacilhas e Serreta\, 2005\, e Islândia\, 2011\, em Almada\, numa produção da F4 – Associação de Imagem e Cultura. Participou nas exposições Prémio de fotografia Christiano Júnior\, 2016\, Palácio dos Capitães Generais\, Angra do Heroísmo\, e Espírito Santo\, 2015\, S. Carlos\, Angra do Heroísmo. Em 2014\, apresentou\, no Museu de Angra do Heroísmo\, fotografias da Namíbia\, China e Tibete\, no \nâmbito das edições Viajar pela Imagem\, e é coautora das fotografias do livro Carnaval da ilha Terceira\, emoção e catarse\, editado pela ART – Associação Regional de Turismo\, 2018. \n
URL:https://bparlsr.azores.gov.pt/destaque/exposicao-postais-do-japao-de-margarida-quinteiro/
CATEGORIES:Biblioteca,Exposições
ATTACH;FMTTYPE=image/jpeg:https://bparlsr.azores.gov.pt/wp-content/uploads/2018/04/Imagem-TV-6.jpg
END:VEVENT
BEGIN:VEVENT
DTSTART;TZID=Atlantic/Azores:20180517T090000
DTEND;TZID=Atlantic/Azores:20180623T190000
DTSTAMP:20260419T141225
CREATED:20180511T125733Z
LAST-MODIFIED:20180511T130023Z
UID:2421-1526547600-1529780400@bparlsr.azores.gov.pt
SUMMARY:Exposição do Arquiteto Miguel Cunha - Esquissos e Outros Riscos
DESCRIPTION:Exposição do Arquiteto Miguel Cunha\,\n“Esquissos e Outros Riscos” \nData: 17 de maio (inauguração) a 23 de junho\nHora: 18:00\nLocal: Biblioteca Pública e Arquivo Regional Luís da Silva Ribeiro\nPúblico-alvo: Público em geral \nA Biblioteca Pública e Arquivo Regional Luís da Silva Ribeiro\, através desta exposição do Arq. Miguel Cunha\, mostra o processo criativo em arquitetura e a importância do esquisso neste trabalho. Conforme refere o autor “o arquiteto é treinado para pensar com caneta e papel. A mão\, quando munida de uma caneta\, é a extensão da mente. Ela materializa em esquisso\, de uma forma imediata\, ideias\, por mais complexas que estas possam ser”.\nA exposição reúne um conjunto de esquissos executados entre 1988 e 2018\, que incluem imóveis e mobiliário. A acompanhar esses esquissos está uma fotografia da obra construída. \nMiguel Sieuve Lima Mendonça Cunha licenciou-se em Aquitetura nos Estados Unidos da América. Forma-se pela University of California at Berkeley com a classificação académica mais distinta daquela universidade – highest honors. Teve equivalência pela Escola Superior de Belas-Artes de Lisboa / Departamento de Arquitetura. Estagiou em Lisboa nos gabinetes dos arquitetos José Carvalheira e Troufa Real.\nEm 1985 regressa a Angra do Heroísmo\, onde se estabelece como profissional liberal.\nAo longo dos seus 35 anos de atividade como arquiteto\, tem executado e coordenado projetos\, tanto para edificações novas como para intervenções de reabilitação e restauro em imóveis existentes. Tem desenvolvido projetos nas mais variadas áreas\, desde habitações unifamiliares e coletivas\, até edifícios industriais e comerciais\, passando por edifícios para fins educacionais e culturais\, para fins turísticos\, e ainda edifícios nas áreas da saúde e solidariedade social. \n
URL:https://bparlsr.azores.gov.pt/destaque/exposicao-do-arquiteto-miguel-cunha-esquissos-e-outros-riscos/
CATEGORIES:Biblioteca,Exposições
ATTACH;FMTTYPE=image/jpeg:https://bparlsr.azores.gov.pt/wp-content/uploads/2018/05/Imagem-TV-3.jpg
END:VEVENT
BEGIN:VEVENT
DTSTART;TZID=Atlantic/Azores:20180601T090000
DTEND;TZID=Atlantic/Azores:20180628T130000
DTSTAMP:20260419T141225
CREATED:20180531T133505Z
LAST-MODIFIED:20180531T133505Z
UID:2472-1527843600-1530190800@bparlsr.azores.gov.pt
SUMMARY:Biblioteca nas Freguesias - “Biblioteca Itinerante”
DESCRIPTION:Biblioteca nas Freguesias – “Biblioteca Itinerante” \nData: 1 a 28 de junho\nLocal: Junta de Freguesia do Raminho\nHora: Segunda a sexta\, das 09:00 às 13:00; segunda\, quarta e sexta das 20:00 às 21:30 \nA Biblioteca Pública e Arquivo Regional Luís da Silva Ribeiro \, em parceria com a Câmara Municipal de Angra do Heroísmo\, promove a sua presença de uma forma deslocalizada\, procurando diversificar a oferta bibliográfica do seu serviço de empréstimo a um âmbito local\, ao nível da freguesia. Se gosta de ler e não tem oportunidade de vir à BPARLSR\, a Biblioteca vai até si\, com a responsabilidade de se aproximar de todos e de proporcionar o contato com os livros\, favorecendo o empréstimo domiciliário. Neste enquadramento pretende-se levar até às populações das diversas freguesias\, do concelho de Angra do Heroísmo\, exemplares do nosso serviço de empréstimo com um duplo objetivo\, o de tornar mais visível as facilidades que o nosso serviço oferece aos cidadãos\, mas sobretudo com o intuito de permitir que a população mais idosa\, ou com menor mobilidade\, tenha acesso em igualdade de circunstâncias\, e sem necessitar de se deslocar\, às obras que disponibilizamos para empréstimo domiciliário\, mediante requisição e nas mesmas condições que oferece o serviço nas instalações da Biblioteca Pública e Arquivo Regional Luís da Silva Ribeiro\, contribuindo\, assim\, para fomentar o interesse pelo livro e pela leitura e dar a conhecer a biblioteca à comunidade. \n
URL:https://bparlsr.azores.gov.pt/destaque/biblioteca-nas-freguesias-biblioteca-itinerante-2/
CATEGORIES:Biblioteca
ATTACH;FMTTYPE=image/jpeg:https://bparlsr.azores.gov.pt/wp-content/uploads/2018/05/Sítio-web-e-TV.jpg
END:VEVENT
BEGIN:VEVENT
DTSTART;TZID=Atlantic/Azores:20180601T090000
DTEND;TZID=Atlantic/Azores:20180630T190000
DTSTAMP:20260419T141225
CREATED:20180531T133722Z
LAST-MODIFIED:20180531T134452Z
UID:2475-1527843600-1530385200@bparlsr.azores.gov.pt
SUMMARY:“Efemérides”\, mostra organizada pela secção de Periódicos
DESCRIPTION:“Efemérides”\, mostra organizada pela secção de Periódicos \nData: 1 a 30 de junho\nHora: Horário de funcionamento da Biblioteca\nLocal: Biblioteca Pública e Arquivo Regional Luís da Silva Ribeiro\nPúblico-alvo: Público em geral \nA Biblioteca Pública e Arquivo Regional Luís da Silva Ribeiro terá patente uma mostra de artigos de publicações periódicas sobre os mais relevantes acontecimentos sociais\, políticos e económicos\, ocorridos no mês de fevereiro há 25\, 50\, 75 e 100 anos. Revelando a evolução histórica à luz da imprensa de diferentes épocas.\nSerá também possível observar o progresso da escrita ao longo do tempo\, do conteúdo dos artigos e do papel utilizado para impressão.\nPretende-se com esta mostra proporcionar uma viagem no tempo em que o visitante é convidado a percorrer as diferentes épocas da nossa história. \n
URL:https://bparlsr.azores.gov.pt/destaque/efemerides-mostra-organizada-pela-seccao-de-periodicos-2/
CATEGORIES:Biblioteca,Exposições
ATTACH;FMTTYPE=image/jpeg:https://bparlsr.azores.gov.pt/wp-content/uploads/2018/05/Sítio-web-e-TV-4.jpg
END:VEVENT
BEGIN:VEVENT
DTSTART;TZID=Atlantic/Azores:20180609T140000
DTEND;TZID=Atlantic/Azores:20180609T170000
DTSTAMP:20260419T141225
CREATED:20180531T134249Z
LAST-MODIFIED:20180531T134249Z
UID:2481-1528552800-1528563600@bparlsr.azores.gov.pt
SUMMARY:“Dia Aberto do Arquivo” - Visita guiada por Fátima Simão
DESCRIPTION:“Dia Aberto do Arquivo” – Visita guiada por Fátima Simão \nData: 9 de junho\nHora: das 14:00 às 17:00\nLocal: Biblioteca Pública e Arquivo Regional Luís da Silva Ribeiro\nPúblico-alvo: Público em geral\nMediante inscrição prévia (295 401 000) \nCom o propósito de divulgar o importante trabalho que acontece no âmbito do Arquivo Regional\, a Biblioteca Pública e Arquivo Regional Luís da Silva Ribeiro promove uma visita guiada\, pela técnica Fátima Simão\, aos documentos e aos serviços prestados pelo Arquivo. Desta visita e no âmbito do dia Internacional dos Arquivos\, constam uma visita à sala de atendimento\, ao open space de Arquivo\, à digitalização e microfilmagem\, aos depósitos\, e também à área expurgo\, à de encadernação e restauro.\nFátima Conceição Morais Simão é Assistente Técnica de Arquivo\, na Biblioteca Pública e Arquivo Regional Luís da Silva Ribeiro.\nTem uma Licenciatura em Ciências da Informação e Documentação\, com Pós-graduação em Estudos de Património. \n
URL:https://bparlsr.azores.gov.pt/destaque/dia-aberto-do-arquivo-visita-guiada-por-fatima-simao/
CATEGORIES:Arquivo Regional
ATTACH;FMTTYPE=image/jpeg:https://bparlsr.azores.gov.pt/wp-content/uploads/2018/05/Sítio-web-e-TV-6.jpg
END:VEVENT
BEGIN:VEVENT
DTSTART;TZID=Atlantic/Azores:20180609T140000
DTEND;TZID=Atlantic/Azores:20180609T170000
DTSTAMP:20260419T141225
CREATED:20180602T185233Z
LAST-MODIFIED:20180602T185233Z
UID:2507-1528552800-1528563600@bparlsr.azores.gov.pt
SUMMARY:Showcooking\, por Patrícia Cheio
DESCRIPTION:Showcooking\, por Patrícia Cheio \nData: 9 de junho\nHora: das 14:00 às 17:00\nLocal: Biblioteca Pública e Arquivo Regional Luís da Silva Ribeiro\nPúblico-alvo: Público em geral\nSujeito ao número de vagas\nInscrição prévia: até ao dia 7 de junho \nA Biblioteca Pública e Arquivo Regional Luís da Silva Ribeiro promove um Showcooking dinamizado por Patrícia Cheio\, com uma demonstração de algumas receitas de culinária: saladas como prato principal e sumos detox.\nOs participantes devem enviar a ficha de inscrição para o seguinte endereço eletrónico: Maria.GA.Cardoso@azores.gov.pt ou entrega-la diretamente na Biblioteca\, até ao dia 7 de junho.\nPatrícia Cheio é natural dos Açores\, residente na Ilha Terceira\, professora há vinte anos\, foodblogger desde 2010\, autora do blogue Food With a Meaning\, formadora de workshops desde 2015\, tendo desenvolvido\, até à data\, 57 workshops e showcookings para entidades públicas e privadas na Região Autónoma dos Açores e no continente português. Participou na primeira edição do Wine in Açores- Terceira e recentemente no Festival Internacional do Chocolate em Óbidos. É autora de receitas em várias publicações nacionais e criou o projeto Chef em Sua Casa by Patrícia Cheio\, através do qual dinamiza workshops de fingerfood\, com combinações criativas\, em festas privadas e corporativas. Para ela\, a cozinha é um espaço de alquimia\, onde os aromas e os sabores sazonais açorianos se conjugam\, transformando-se em momentos de partilhas significativas. Através da fotografia\, outra paixão\, regista em pixels os eventos gastronómicos em que participa e as estórias culinárias que constrói na cozinha. \n
URL:https://bparlsr.azores.gov.pt/destaque/showcooking-por-patricia-cheio/
CATEGORIES:Biblioteca
ATTACH;FMTTYPE=image/jpeg:https://bparlsr.azores.gov.pt/wp-content/uploads/2018/06/Sítio-web-e-TV-3.jpg
END:VEVENT
BEGIN:VEVENT
DTSTART;TZID=Atlantic/Azores:20180609T170000
DTEND;TZID=Atlantic/Azores:20180609T190000
DTSTAMP:20260419T141225
CREATED:20180602T141808Z
LAST-MODIFIED:20180602T141808Z
UID:2496-1528563600-1528570800@bparlsr.azores.gov.pt
SUMMARY:Visita Guiada e Conferência: “Em prol dos arquivos de família dos Canto e Castro\, provedores das armadas dos Açores (séculos XVI-XIX)”\, por Rute Gregório
DESCRIPTION:Visita Guiada e Conferência: “Em prol dos arquivos de família dos Canto e Castro\, provedores das armadas dos Açores (séculos XVI-XIX)”\, por Rute Gregório \nData: 9 de junho\nHora: 17:00 (visita guiada); 18:00 (conferência)\nLocal: Biblioteca Pública e Arquivo Regional Luís da Silva Ribeiro\nPúblico-alvo: Público em geral \nA Biblioteca Pública e Arquivo Regional Luís da Silva Ribeiro promove uma conferência que pretende abordar alguns dos elementos de representação mais significativos da família Canto e Castro e do seu papel na História dos Açores\, com particular destaque para o ser arquivo familiar. Entre os vários tipos e naturezas de arquivos existentes\, uma que tem merecido particular atenção dos estudiosos contemporâneos tem sido o dos arquivos de família.\nAntes da conferência\, às 17:00\, o Arquivo Regional dará a conhecer os seus serviços\, funções\, atividades e fundos documentais através de uma visita guiada às suas instalações. A participação neste evento será mediante inscrição prévia\, que poderá ser efetuada presencialmente\, por correio eletrónico\, para Ana.SR.Sousa@azores.gov.pt ou através do telefone 295 401000. \nRute Gregório nasceu no Uíge\, Angola\, em 1966. Professora Auxiliar da Faculdade de Ciências Sociais e Humanas da Universidade dos Açores. Investigadora do CHAM – Centro de Humanidades\, da FCSH da UNL e da Universidade dos Açores. Realizou profissionalização no ensino secundário\, área de História\, em 1992-1993. Fez Provas de Aptidão Pedagógica e Capacidade Científica em 1998\, com a dissertação Pero Anes do Canto: um homem e um património (1473-1556) [pub. 2001] e a aula pública. Nas franjas da sociedade medieval: problemáticas do estudo da marginalidade na Idade Média (pub. 1998). Doutorou-se em História\, em 2006\, com a tese Terra e fortuna: os primórdios da humanização da ilha Terceira (1450-1550) [pub. 2007]. Possui pós-graduação em Ciências Documentais e da Informação pela Universidade dos Açores (2008)\, tem um Master em Documentação pela Universidade de Alcalá de Henares (2011) [pub. 2015]. Foi diretora da Biblioteca Pública e Arquivo Regional de Ponta Delgada entre 1 de outubro de 2011 e 1 de janeiro de 2017. Atualmente é diretora da Biblioteca\, Museu e Arquivo da Universidade dos Açores e diretora do Serviço Diocesano dos Bens Culturais da Igreja. \n
URL:https://bparlsr.azores.gov.pt/destaque/visita-guiada-e-conferencia-em-prol-dos-arquivos-de-familia-dos-canto-e-castro-provedores-das-armadas-dos-acores-seculos-xvi-xix-por-rute-gregorio/
CATEGORIES:Arquivo Regional
ATTACH;FMTTYPE=image/jpeg:https://bparlsr.azores.gov.pt/wp-content/uploads/2018/06/Sítio-web-e-TV.jpg
END:VEVENT
END:VCALENDAR