BEGIN:VCALENDAR
VERSION:2.0
PRODID:-//Biblioteca Pública e Arquivo Regional Luís da Silva Ribeiro - ECPv4.9.10//NONSGML v1.0//EN
CALSCALE:GREGORIAN
METHOD:PUBLISH
X-WR-CALNAME:Biblioteca Pública e Arquivo Regional Luís da Silva Ribeiro
X-ORIGINAL-URL:https://bparlsr.azores.gov.pt
X-WR-CALDESC:Events for Biblioteca Pública e Arquivo Regional Luís da Silva Ribeiro
BEGIN:VTIMEZONE
TZID:Atlantic/Azores
BEGIN:DAYLIGHT
TZOFFSETFROM:-0100
TZOFFSETTO:+0000
TZNAME:+00
DTSTART:20190331T010000
END:DAYLIGHT
BEGIN:STANDARD
TZOFFSETFROM:+0000
TZOFFSETTO:-0100
TZNAME:-01
DTSTART:20191027T010000
END:STANDARD
END:VTIMEZONE
BEGIN:VEVENT
DTSTART;VALUE=DATE:20190112
DTEND;VALUE=DATE:20190331
DTSTAMP:20260420T172909
CREATED:20190107T173920Z
LAST-MODIFIED:20190107T173920Z
UID:3016-1547251200-1553990399@bparlsr.azores.gov.pt
SUMMARY:Exposição - Amigos de pano
DESCRIPTION:Exposição “Amigos de pano”\nData: 12 de janeiro\nHora: 15h45\nLocal: Biblioteca Pública e Arquivo Regional Luís da Silva Ribeiro\nDestinatários: público em geral\nA Biblioteca Pública e Arquivo Regional Luís da Silva Ribeiro inaugura a exposição “Amigos de pano”\, dando a conhecer um dos projetos de continuidade para 2019\, neste caso resultado do workshop protagonizado por pessoas idosas no passado mês de dezembro\, cujas criações serão agora encaminhadas a crianças que delas necessitem\, ficando\, por sua vez responsáveis\, as famílias\, por enviar carta de agradecimento ao autor.\nApresentada a atividade\, decorre na habitual Hora do conto para público familiar.\n
URL:https://bparlsr.azores.gov.pt/destaque/exposicao-amigos-de-pano/
CATEGORIES:Biblioteca Infantojuvenil,Exposições
ATTACH;FMTTYPE=image/jpeg:https://bparlsr.azores.gov.pt/wp-content/uploads/2019/01/Sítio-web-e-TV-2.jpg
END:VEVENT
BEGIN:VEVENT
DTSTART;VALUE=DATE:20190123
DTEND;VALUE=DATE:20190331
DTSTAMP:20260420T172909
CREATED:20190123T151505Z
LAST-MODIFIED:20190123T151505Z
UID:3039-1548201600-1553990399@bparlsr.azores.gov.pt
SUMMARY:Poesia divertida
DESCRIPTION:Poesia divertida \nData: 23 de janeiro a 30 de março\nLocal: Biblioteca Pública e Arquivo Regional Luís da Silva Ribeiro\nDestinatários: público infantojuvenil\nA Biblioteca Pública e Arquivo Regional Luís da Silva Ribeiro dinamiza\, de 23 de janeiro a 30 de março\, para grupos escolares\, a atividade “Oficina de leitura”\, subordinada ao tema “Poesia Divertida”. Ao itinerário para dar a conhecer os diversos espaços\, materiais e projetos em curso\, sucede uma dinâmica (leitura em voz alta\, mediação leitora\, jogos de palavras) e\, por fim\, uma exploração orientada dos diferentes espaços e recursos.\nEsta atividade destina-se aos alunos do ensino básico\, 2.º e 3.º ciclo\, sendo necessário um contato prévio com a equipa infantojuvenil prévia através do telefone 295 401 000.\n
URL:https://bparlsr.azores.gov.pt/destaque/poesia-divertida/
CATEGORIES:Biblioteca Infantojuvenil
ATTACH;FMTTYPE=image/jpeg:https://bparlsr.azores.gov.pt/wp-content/uploads/2019/01/Sítio-web-e-TV-9.jpg
END:VEVENT
BEGIN:VEVENT
DTSTART;VALUE=DATE:20190301
DTEND;VALUE=DATE:20190331
DTSTAMP:20260420T172909
CREATED:20190226T174000Z
LAST-MODIFIED:20190226T174000Z
UID:3110-1551398400-1553990399@bparlsr.azores.gov.pt
SUMMARY:Periódicos à Lupa
DESCRIPTION:“Periódicos à Lupa”\,\nmostra organizada pela secção de Periódicos\nData: 1 a 30 de março\nHora: Horário de funcionamento da Biblioteca\nLocal: Biblioteca Pública e Arquivo Regional Luís da Silva Ribeiro\nPúblico-alvo: Público em geral\nA Biblioteca Pública e Arquivo Regional Luís da Silva Ribeiro terá patente uma mostra de revistas dedicadas aos poetas portugueses e que tem por objetivo assinalar o Dia Mundial da Poesia\, divulgando assim uma pequena parte da coleção de recursos contínuos que esta instituição tem disponível para consulta dos seus leitores.\n
URL:https://bparlsr.azores.gov.pt/destaque/periodicos-a-lupa-3/
CATEGORIES:Biblioteca,Exposições
ATTACH;FMTTYPE=image/jpeg:https://bparlsr.azores.gov.pt/wp-content/uploads/2019/02/Sítio-web-e-TV-5.jpg
END:VEVENT
BEGIN:VEVENT
DTSTART;VALUE=DATE:20190308
DTEND;VALUE=DATE:20190407
DTSTAMP:20260420T172909
CREATED:20190301T193342Z
LAST-MODIFIED:20190301T193342Z
UID:3116-1552003200-1554595199@bparlsr.azores.gov.pt
SUMMARY:Exposição “Perdidamente – Florbela Espanca (1894-1930)”
DESCRIPTION:Exposição “Perdidamente – Florbela Espanca (1894-1930)”\nData: 8 de março a 6 de abril\nHora: Horário de funcionamento da Biblioteca\nLocal: Biblioteca Pública e Arquivo Regional Luísa da Silva Ribeiro\nPúblico-alvo: Público escolar e público em geral\nAssinalando-se este ano os 125 anos do nascimento de Florbela Espanca\, a Biblioteca Pública e Arquivo Regional Luís da Silva Ribeiro em parceria com a Sociedade Portuguesa de Autores\, promove a exposição “Perdidamente – Florbela Espanca (1894-1930)”.\nCriada pela Sociedade Portuguesa de Autores em 2010\, para assinalar os 80 anos do falecimento da escritora\, esta exposição apresenta um conjunto de 23 painéis onde é possível percorrermos a vida e obra de Florbela Espanca e percebermos como a poetisa foi inspiradora para tantos artistas\, músicos e escritores. \nFlorbela Espanca nasceu em Vila Viçosa\, a 8 de dezembro de 1894. Em 1903 escreve a sua primeira poesia de que há conhecimento\, «A Vida e a Morte»\, revelando precocidade e anunciando\, desde já\, a opção por temas que\, mais tarde\, virá a abordar de forma mais complexa. Em 1907\, Florbela aponta os primeiros sinais da sua doença\, a neurastenia.\nDesde menina vive de forma intensa e dramática. Serão sempre as emoções\, os sentimentos\, matéria da sua poesia\, escrita intuitiva e reveladora do mais íntimo de si.\nDesgostos na vida teve muitos. No amor\, três casamentos\, dois divórcios e muitos enamoramentos falhados. Depois\, a morte inesperada e violenta do irmão.\nEm 1915 inicia o seu caderno «Trocando Olhares»\, que completa ao longo de cerca de um ano e meio. Colabora com a revista «Modas e Bordados»\, e os jornais «O século»\, «D. Nuno»\, «Notícias de Évora» e «Portugal Feminino». Em junho de 1919\, depois de alguma correspondência trocada com Raul Proença\, sai a lume o «Livro de Mágoas». No ano seguinte inicia «Claustro das Quimeras» e em 1923 publica «Livro de Soror Saudade» e em 1925 «As Máscaras do Destino».\nEm Matosinhos\, a 8 de dezembro\, dia do nascimento\, Florbela suicida-se.\n
URL:https://bparlsr.azores.gov.pt/destaque/exposicao-perdidamente-florbela-espanca-1894-1930/
CATEGORIES:Biblioteca,Exposições
ATTACH;FMTTYPE=image/jpeg:https://bparlsr.azores.gov.pt/wp-content/uploads/2019/03/Sítio-web-e-TV.jpg
END:VEVENT
BEGIN:VEVENT
DTSTART;VALUE=DATE:20190318
DTEND;VALUE=DATE:20190414
DTSTAMP:20260420T172909
CREATED:20190314T095609Z
LAST-MODIFIED:20190314T095609Z
UID:3126-1552867200-1555199999@bparlsr.azores.gov.pt
SUMMARY:Mostra documental do depósito legal
DESCRIPTION:Mostra documental do depósito legal\nData: 18 de março a 13 de abril\nHora: Horário de funcionamento da Biblioteca\nLocal: Biblioteca Pública e Arquivo Regional Luís da Silva Ribeiro\nPúblico-alvo: Público em geral\nA Biblioteca Pública e Arquivo Regional Luís da Silva Ribeiro é\, desde 1979\, beneficiária do depósito legal\, recebendo por isso\, em princípio\, todas as publicações impressas e editadas em Portugal.\nEsta é a única biblioteca na região que tem à sua guarda este valioso património que temos por obrigação preservar sem deixar de o colocar ao serviço dos cidadãos.\nPretende-se por isso com esta mostra documental dar a conhecer alguns exemplares de espécies que por esta via incorporam os nossos fundos documentais.\n
URL:https://bparlsr.azores.gov.pt/destaque/mostra-documental-do-deposito-legal/
CATEGORIES:Biblioteca,Exposições
ATTACH;FMTTYPE=image/jpeg:https://bparlsr.azores.gov.pt/wp-content/uploads/2019/03/Sítio-web-e-TV-2.jpg
END:VEVENT
BEGIN:VEVENT
DTSTART;TZID=Atlantic/Azores:20190330T143000
DTEND;TZID=Atlantic/Azores:20190330T153000
DTSTAMP:20260420T172909
CREATED:20190326T095826Z
LAST-MODIFIED:20190326T095826Z
UID:3157-1553956200-1553959800@bparlsr.azores.gov.pt
SUMMARY:À Conversa com Alexandre Quintanilha
DESCRIPTION:À Conversa com Alexandre Quintanilha\n– O conhecimento como base da democracia-\nData: 30 de março\nHora: 14:30\nLocal: Biblioteca Pública e Arquivo Regional Luís da Silva Ribeiro\nPúblico-alvo: Público em geral\nA Biblioteca Pública e Arquivo Regional Luís da Silva Ribeiro dá continuidade a uma atividade iniciada no ano transato\, designada por “Conversa com…”\, em que são entrevistadas personalidades de diferentes áreas para se conhecer o seu percurso de vida e o trabalho que desenvolvem\, bem como a abordagem de temáticas atuais e pertinentes.\nNeste contexto a Biblioteca convidou o Prof. Alexandre Quintanilha\, para uma sessão de Conversa com… que vai ter como tema “O conhecimento como base da democracia”.\nAlexandre Tiedtke Quintanilha nasceu 1945\, pai açoriano (n.1892)\, mãe berlinense (n.1907).\nOs primeiros 25 anos em África (Lourenço Marques e Johannesburg).\nOs 20 anos seguintes em Berkeley\, Califórnia\, como professor\, investigador e fundador de um Centro de Estudos Ambientais.\nOs 25 anos seguintes na Universidade do Porto\, como professor\, investigador e fundador do Instituto de Biologia Molecular e Celular.\nOs últimos dois anos como deputado e presidente da Comissão Parlamentar de Educação e Ciência e da Comissão de Ética para a Investigação Clínica.\nTem uma vasta obra publicada de artigos e livros científicos. Os seus interesses atuais são nas áreas do stress biológico\, perceção do risco\, divulgação do conhecimento e políticas de ciência.\n
URL:https://bparlsr.azores.gov.pt/destaque/a-conversa-com-alexandre-quintanilha/
CATEGORIES:Biblioteca
ATTACH;FMTTYPE=image/jpeg:https://bparlsr.azores.gov.pt/wp-content/uploads/2019/03/1-Sítio-web-e-TV.jpg
END:VEVENT
BEGIN:VEVENT
DTSTART;TZID=Atlantic/Azores:20190330T173000
DTEND;TZID=Atlantic/Azores:20190330T190000
DTSTAMP:20260420T172909
CREATED:20190325T102503Z
LAST-MODIFIED:20190325T102503Z
UID:3146-1553967000-1553972400@bparlsr.azores.gov.pt
SUMMARY:Contadores de palmo e meio
DESCRIPTION:Contadores de palmo e meio\nData: 30 de março\nHora: às 17h30\nLocal: Biblioteca Pública e Arquivo Regional Luís da Silva Ribeiro\nDestinatários: crianças dos 8 aos 15 anos\nA Biblioteca Pública e Arquivo Regional Luís da Silva Ribeiro dá continuidade à atividade “Contadores de palmo e meio”\, 30 de março às 17h30\, numa perspetiva de consolidação das competências de comunicação e autoestima dos pequenos narradores que tenham entre 8 e 15 anos.\nInserida no projeto “Brincar aos Contistas” (3.ª edição)\, que visa salvaguardar o património imaterial dos contos populares\, esta atividade pressupõe uma escuta ativa por parte das crianças implicadas\, junto de anciãos do seu conhecimento\, e a partilha de tais conteúdos nas sessões mensais para o efeito (último sábado do mês).\nA biblioteca salienta as vantagens do investimento nos domínios da expressão oral e dramática\, sobretudo quando se trata de uma abordagem lúdica a um objeto nobre e do agrado da criança: o conto popular.\nOs interessados deverão contatar o responsável pelo projeto através do mail ricardo.ne.avila@azores.gov.pt.\n
URL:https://bparlsr.azores.gov.pt/destaque/contadores-de-palmo-e-meio/
CATEGORIES:Biblioteca Infantojuvenil
ATTACH;FMTTYPE=image/jpeg:https://bparlsr.azores.gov.pt/wp-content/uploads/2019/03/Sítio-web-e-TV-6.jpg
END:VEVENT
BEGIN:VEVENT
DTSTART;TZID=Atlantic/Azores:20190330T180000
DTEND;TZID=Atlantic/Azores:20190330T190000
DTSTAMP:20260420T172909
CREATED:20190326T100010Z
LAST-MODIFIED:20190326T100010Z
UID:3160-1553968800-1553972400@bparlsr.azores.gov.pt
SUMMARY:Encontro com o Escritor Richard Zimler
DESCRIPTION:“Encontro com o Escritor” Richard Zimler\nData: 30 de março\nHora: 18:00\nLocal: Biblioteca Pública e Arquivo Regional Luís da Silva Ribeiro\nPúblico-alvo: Público em geral\nA Biblioteca Pública e Arquivo Regional Luís da Silva Ribeiro promove mais um “Encontro com o Escritor”\, com a presença de Richard Zimler\, numa sessão moderada por Maria Manuel Ribeiro\, dando continuidade a um projeto que tem por objetivo trazer ao público escritores de diferentes áreas para dar a conhecer um pouco mais da obra e do percurso pessoal e literário do autor.\nRichard Zimler nasceu em 1956 em Roslyn Heights\, Nova Iorque. Formou-se em religião comparada na Duke University e fez mestrado em jornalismo na Stanford University. Trabalhou como jornalista durante oito anos na região de San Francisco. Em 1990 mudou-se para Portugal\, onde se tornou professor de jornalismo. Atualmente\, tem dupla nacionalidade. Já publicou onze romances\, uma coletânea de contos e cinco livros infantis\, que depressa entraram nas listas de bestsellers de vários países (Portugal\, Brasil\, EUA\, Inglaterra\, Itália\, etc.). Os seus romances encontram-se traduzidos para 23 línguas.  “Os dez espelhos de Benjamin Zarco” é o seu mais recente romance.\nMaria Manuel Velasquez Ribeiro é Licenciada em História\, Pós-Graduada em História Insular e Atlântida\, e Mestre em Museologia.\nÉ Técnica Superior no Museu de Angra do Heroísmo e tem passado a vida a ler\, por obrigação profissional ou académica\, ou por simples prazer. Foi nesse cantinho do cruzamento entre o prazer de ler\, e o gosto/dever pelo conhecimento do passado que tropeçou em Richard Zimler há muitos anos\, através do seu primeiro livro “O último cabalista de Lisboa”.\n
URL:https://bparlsr.azores.gov.pt/destaque/encontro-com-o-escritor-richard-zimler/
CATEGORIES:Biblioteca
ATTACH;FMTTYPE=image/jpeg:https://bparlsr.azores.gov.pt/wp-content/uploads/2019/03/2-Sítio-web-e-TV.jpg
END:VEVENT
END:VCALENDAR