BEGIN:VCALENDAR
VERSION:2.0
PRODID:-//Biblioteca Pública e Arquivo Regional Luís da Silva Ribeiro - ECPv4.9.10//NONSGML v1.0//EN
CALSCALE:GREGORIAN
METHOD:PUBLISH
X-WR-CALNAME:Biblioteca Pública e Arquivo Regional Luís da Silva Ribeiro
X-ORIGINAL-URL:https://bparlsr.azores.gov.pt
X-WR-CALDESC:Events for Biblioteca Pública e Arquivo Regional Luís da Silva Ribeiro
BEGIN:VTIMEZONE
TZID:Atlantic/Azores
BEGIN:DAYLIGHT
TZOFFSETFROM:-0100
TZOFFSETTO:+0000
TZNAME:+00
DTSTART:20200329T010000
END:DAYLIGHT
BEGIN:STANDARD
TZOFFSETFROM:+0000
TZOFFSETTO:-0100
TZNAME:-01
DTSTART:20201025T010000
END:STANDARD
END:VTIMEZONE
BEGIN:VEVENT
DTSTART;TZID=Atlantic/Azores:20200219T164500
DTEND;TZID=Atlantic/Azores:20200702T173000
DTSTAMP:20260424T235056
CREATED:20200127T171538Z
LAST-MODIFIED:20200210T142939Z
UID:3703-1582130700-1593711000@bparlsr.azores.gov.pt
SUMMARY:Clube de Leitura para Jovens – Pelo Livro Dentro
DESCRIPTION:Clube de Leitura para Jovens – Pelo Livro Dentro\nData: Primeira sessão dia 19 de fevereiro (mensalmente às quartas-feiras\, com exceção dos meses de julho e agosto)\nHora: das 16:45 às 17:30\nLocal: Biblioteca Pública e Arquivo Regional Luís da Silva Ribeiro\nPúblico-alvo: Jovens dos 13 aos 15 anos\nQueres ler\, de forma entoada e certinha\, obras obrigatórias\, onde vais analisar\, exaustivamente\, cada vírgula do texto? Então esquece…esta atividade não é para ti!\nMas se tens entre os 13 e os 15 anos\, se queres descobrir novos livros e de forma interativa liga-los a outras áreas artísticas\, então este clube de leitura é a tua cena!\nPensar para lá da história do livro\, compreender em que contexto foi escrito\, qual a realidade do autor quando o escreveu e tudo o que poderá estar ligado à obra\, é o desafio proposto pelo Tiago Rodrigues\, que é um apaixonado por literatura e que vai guiar estas sessões.\nPor isso\, prepara o teu espírito crítico e junta-te ao clube\, onde\, uma vez por mês durante 45 minutos\, vamos explorar o outro lado da literatura.\nDo que é que estás à espera? inscreve-te já!Inscreve-te presencialmente na Biblioteca ou enviando a ficha de inscrição para o e-mail: Carina.M.Borges@azores.gov.p até ao dia 17 de fevereiro (inscrições limitadas).\n
URL:https://bparlsr.azores.gov.pt/destaque/clube-de-leitura-para-jovens-pelo-livro-dentro/
CATEGORIES:Biblioteca
ATTACH;FMTTYPE=image/jpeg:https://bparlsr.azores.gov.pt/wp-content/uploads/2020/01/Sítio-web-1-1.jpg
END:VEVENT
BEGIN:VEVENT
DTSTART;VALUE=DATE:20200531
DTEND;VALUE=DATE:20200601
DTSTAMP:20260424T235056
CREATED:20200513T150844Z
LAST-MODIFIED:20200513T150844Z
UID:4027-1590883200-1590969599@bparlsr.azores.gov.pt
SUMMARY:Empréstimo domiciliário
DESCRIPTION:O serviço de empréstimo domiciliário da Biblioteca Pública e Arquivo Regional Luís da Silva Ribeiro volta a estar disponível para todos a partir do dia 18 de maio.\nCom o objetivo de manter a segurança dos seus leitores e colaboradores\, a Biblioteca dispõe agora de uma nova forma de realizar a requisição\, levantamento e entrega de livros.\nApenas necessita de seguir as orientações abaixo: \n1- Escolha os livros que pretende no catálogo online da biblioteca em:\nhttps://ccbibliotecas.azores.gov.pt/ \n2- Faça o seu pedido por marcação prévia através do telefone 295 401 000 ou endereço de e-mail: bpar.angra.info@azores.gov.pt\nIndique o nome completo e o nº de leitor\, contato telefónico e os títulos dos livros que pretende requisitar (máximo de 5 documentos). \n3- Levante os seus livros em segurança na data e horários agendados \nPara além desta nova modalidade\, é também possível usufruir deste serviço de forma presencial. No entanto\, o acesso às estantes\, para recolha de livros ou documentos\, será sempre realizado pelo técnico da Biblioteca.\nDepois de ler o seu livro\, deverá deixá-lo na caixa de devoluções\, disponível no átrio da instituição\, até 30 dias após a requisição.\nPosteriormente à devolução\, os livros passarão por um processo de desinfeção e higienização e serão colocados em quarentena num espaço isolado\, durante 10 dias.\nO serviço de empréstimo domiciliário estará disponível durante o horário de funcionamento da Biblioteca\, de segunda a sexta-feira\, das 9h00 às 19h00\, e ao sábado\, das 14h00 às 19h00. \n
URL:https://bparlsr.azores.gov.pt/destaque/emprestimo-domiciliario/
CATEGORIES:Biblioteca
ATTACH;FMTTYPE=image/jpeg:https://bparlsr.azores.gov.pt/wp-content/uploads/2020/05/serviço-de-empréstimo_SítioWeb.jpg
END:VEVENT
BEGIN:VEVENT
DTSTART;TZID=Atlantic/Azores:20200531T150000
DTEND;TZID=Atlantic/Azores:20200531T210000
DTSTAMP:20260424T235056
CREATED:20200427T203603Z
LAST-MODIFIED:20200427T203603Z
UID:4015-1590937200-1590958800@bparlsr.azores.gov.pt
SUMMARY:Hora do Conto
DESCRIPTION:Hora do Conto: Boas Leituras e Leio para Ti \nData e hora: Quartas e sextas-feiras às 15h00 (Boas Leituras)\nDomingos e segundas-feiras às 21h00 (Leio para Ti)\nPúblico-alvo: Crianças dos 3 aos 7 anos (Boas Leituras)\nCrianças dos 8 aos 12 anos (Leio para Ti) \nComeçamos a sentir falta das nossas habituais Horas do Conto e de nos vermos rodeados de crianças de todas as idades.\nDecidimos por isso reunir os contadores de histórias da Biblioteca Pública e Arquivo Regional Luís da Silva Ribeiro\, que preparam agora os melhores livros\, a melhor voz e toda a sua expressividade para levarem até aos seus filhos as personagens mais carismáticas dos contos infantis.\nTal como no espaço físico da Biblioteca\, aqui serão também preparadas sessões diferentes para idades diferentes\, dividindo esta iniciativa em duas: “Boas leituras” que vai ser transmitida todas as quartas e sextas-feiras às 15h00 e que é dedicado a todas as crianças dos 3 aos 7 anos e “Leio para ti”\, a acontecer aos domingos e segundas-feiras às 21h00\, dirigido a todas as crianças dos 8 aos 12 anos.\nA magia dos livros não fica fechada dentro da Biblioteca\, e nós\, através da nossa página do Facebook\, vamos levá-la até sua casa! \n
URL:https://bparlsr.azores.gov.pt/destaque/hora-do-conto-3/
CATEGORIES:Biblioteca Infantojuvenil
ATTACH;FMTTYPE=image/jpeg:https://bparlsr.azores.gov.pt/wp-content/uploads/2020/04/Boas-leituras.jpg
END:VEVENT
BEGIN:VEVENT
DTSTART;TZID=Atlantic/Azores:20200531T150000
DTEND;TZID=Atlantic/Azores:20200531T210000
DTSTAMP:20260424T235056
CREATED:20200427T203726Z
LAST-MODIFIED:20200427T203726Z
UID:4018-1590937200-1590958800@bparlsr.azores.gov.pt
SUMMARY:Hora do Conto
DESCRIPTION:Hora do Conto: Boas Leituras e Leio para Ti \nData e hora: Quartas e sextas-feiras às 15h00 (Boas Leituras)\nDomingos e segundas-feiras às 21h00 (Leio para Ti)\nPúblico-alvo: Crianças dos 3 aos 7 anos (Boas Leituras)\nCrianças dos 8 aos 12 anos (Leio para Ti) \nComeçamos a sentir falta das nossas habituais Horas do Conto e de nos vermos rodeados de crianças de todas as idades.\nDecidimos por isso reunir os contadores de histórias da Biblioteca Pública e Arquivo Regional Luís da Silva Ribeiro\, que preparam agora os melhores livros\, a melhor voz e toda a sua expressividade para levarem até aos seus filhos as personagens mais carismáticas dos contos infantis.\nTal como no espaço físico da Biblioteca\, aqui serão também preparadas sessões diferentes para idades diferentes\, dividindo esta iniciativa em duas: “Boas leituras” que vai ser transmitida todas as quartas e sextas-feiras às 15h00 e que é dedicado a todas as crianças dos 3 aos 7 anos e “Leio para ti”\, a acontecer aos domingos e segundas-feiras às 21h00\, dirigido a todas as crianças dos 8 aos 12 anos.\nA magia dos livros não fica fechada dentro da Biblioteca\, e nós\, através da nossa página do Facebook\, vamos levá-la até sua casa! \n
URL:https://bparlsr.azores.gov.pt/destaque/hora-do-conto-4/
CATEGORIES:Biblioteca Infantojuvenil
ATTACH;FMTTYPE=image/jpeg:https://bparlsr.azores.gov.pt/wp-content/uploads/2020/04/Leio-para-ti.jpg
END:VEVENT
BEGIN:VEVENT
DTSTART;TZID=Atlantic/Azores:20200531T153000
DTEND;TZID=Atlantic/Azores:20200531T163000
DTSTAMP:20260424T235056
CREATED:20200429T124650Z
LAST-MODIFIED:20200429T124650Z
UID:4022-1590939000-1590942600@bparlsr.azores.gov.pt
SUMMARY:Sabia que…?
DESCRIPTION:Sabia que…? \nData: Todos os sábados\nHora: 15:30\nPúblico-alvo: Público em geral \nA Secção dos Periódicos da Biblioteca Pública e Arquivo Regional Luísa da Silva Ribeiro\, que estava a verificar-se cada vez mais procurada pelos utilizadores\, tem\, desde janeiro\, uma rubrica intitulada “Sabia que…?”\,que pretende dar a conhecer informações diversas sobre o mundo dos jornais e revistas.\nNuma época em que o espaço físico da Biblioteca não pode servir de lugar de pesquisa pela informação\, a página do Facebook da instituição leva até aos seus seguidores\, todos os sábados pelas 15:30\, várias curiosidades que envolvem esta área.\nE você\, “Sabia que…?” \n
URL:https://bparlsr.azores.gov.pt/destaque/sabia-que/
CATEGORIES:Biblioteca
ATTACH;FMTTYPE=image/png:https://bparlsr.azores.gov.pt/wp-content/uploads/2020/04/Sabia-Que.png
END:VEVENT
END:VCALENDAR