BEGIN:VCALENDAR
VERSION:2.0
PRODID:-//Biblioteca Pública e Arquivo Regional Luís da Silva Ribeiro - ECPv4.9.10//NONSGML v1.0//EN
CALSCALE:GREGORIAN
METHOD:PUBLISH
X-WR-CALNAME:Biblioteca Pública e Arquivo Regional Luís da Silva Ribeiro
X-ORIGINAL-URL:https://bparlsr.azores.gov.pt
X-WR-CALDESC:Events for Biblioteca Pública e Arquivo Regional Luís da Silva Ribeiro
BEGIN:VTIMEZONE
TZID:Atlantic/Azores
BEGIN:DAYLIGHT
TZOFFSETFROM:-0100
TZOFFSETTO:+0000
TZNAME:+00
DTSTART:20200329T010000
END:DAYLIGHT
BEGIN:STANDARD
TZOFFSETFROM:+0000
TZOFFSETTO:-0100
TZNAME:-01
DTSTART:20201025T010000
END:STANDARD
END:VTIMEZONE
BEGIN:VEVENT
DTSTART;VALUE=DATE:20200701
DTEND;VALUE=DATE:20200801
DTSTAMP:20260420T172851
CREATED:20200623T180130Z
LAST-MODIFIED:20200623T180130Z
UID:4104-1593561600-1596239999@bparlsr.azores.gov.pt
SUMMARY:Periódicos à Lupa
DESCRIPTION:“Periódicos à Lupa”\,\nData: 1 a 31 de julho\nHora: Horário de funcionamento da Biblioteca\nLocal: Biblioteca Pública e Arquivo Regional Luís da Silva Ribeiro\nPúblico-alvo: Público em geral\nNo mês em que se assinala o Dia das Bibliotecas\, a secção de Periódicos homenageia estes espaços de conhecimento que em muito contribuem para a evolução das sociedades.\n Com este objetivo\, foi preparada uma breve mostra de publicações editadas por bibliotecas e também de outros jornais e revistas que dedicaram alguns dos seus artigos a estas instituições.\n\n
URL:https://bparlsr.azores.gov.pt/destaque/periodicos-a-lupa-15/
CATEGORIES:Biblioteca,Exposições
ATTACH;FMTTYPE=image/jpeg:https://bparlsr.azores.gov.pt/wp-content/uploads/2020/06/Sítio-web.jpg
END:VEVENT
BEGIN:VEVENT
DTSTART;VALUE=DATE:20200701
DTEND;VALUE=DATE:20200801
DTSTAMP:20260420T172851
CREATED:20200623T180846Z
LAST-MODIFIED:20200626T101603Z
UID:4107-1593561600-1596239999@bparlsr.azores.gov.pt
SUMMARY:Documento do Mês
DESCRIPTION:Documento do Mês\n“Registo de passaportes do Fundo da Capitania Geral dos Açores”\nData: julho\nLocal: Biblioteca Pública e Arquivo Regional Luís da Silva Ribeiro\nPúblico-alvo: Público em geral\nA secção de Arquivo da Biblioteca Pública e Arquivo Regional selecionou como “Documento do Mês” um “Registo de passaportes do Fundo da Capitania Geral dos Açores”\, que data de 13 de julho de 1772.\nSediada no atual Palácio dos Capitães Generais\, em Angra do Heroísmo\, a Capitania Geral dos Açores era encabeçada por um capitão general com o título majestático de Governador e Capitão General dos Açores\, com alargada jurisdição administrativa\, judicial e militar sobre todas as ilhas do arquipélago\nEsta estrutura político-administrativa foi criada por Decreto a 2 de agosto de 1766\, integrada nas chamadas reformas pombalinas da administração portuguesa durante o reinado de D. José I de Portugal\, por iniciativa de Sebastião José de Carvalho e Melo\, o Marquês de Pombal. Funcionou durante 65 anos\, até ser extinta pelo Decreto de 4 de junho de 1832\, assinado em Ponta Delgada por D. Pedro IV. Contudo\, já anteriormente\, em 1828\, a Capitania Geral deixara de exercer as suas valências\, devido aos movimentos revolucionários que levariam à Guerra Civil Portuguesa (1828-1834).\nO documento referente ao mês de julho\, é o registo de passaportes de 13 de julho de 1772 (Livro nº 2\, fl. 42). Documentos que eram emitidos a açorianos durante o período da Capitania Geral dos Açores.\n
URL:https://bparlsr.azores.gov.pt/destaque/documento-do-mes-20/
CATEGORIES:Arquivo Regional,Exposições
ATTACH;FMTTYPE=image/jpeg:https://bparlsr.azores.gov.pt/wp-content/uploads/2020/06/Sitioweb-1.jpg
END:VEVENT
BEGIN:VEVENT
DTSTART;TZID=Atlantic/Azores:20200731T210000
DTEND;TZID=Atlantic/Azores:20200731T220000
DTSTAMP:20260420T172851
CREATED:20200722T145322Z
LAST-MODIFIED:20200722T162640Z
UID:4332-1596229200-1596232800@bparlsr.azores.gov.pt
SUMMARY:Painel “Sobre a Poesia de Álamo Oliveira - Exposição “O Meu Coração é Assim”
DESCRIPTION:Painel “Sobre a Poesia de Álamo Oliveira\n– Exposição “O Meu Coração é Assim” – \nData: 31 de julho\nHora: 21h00\nLocal: Página no Facebook BPARLSR – www.facebook.com/BPARLSR\nPúblico-alvo: Público em geral \nA poesia de Álamo Oliveira estará em destaque no próximo dia 31 de julho na página no Facebook da Biblioteca Pública e Arquivo Regional Luís da Silva Ribeiro.\n“O Meu Coração é Assim” não é apenas o título da exposição patente nesta instituição desde o dia 10 de julho. É também um dos inúmeros poemas do escritor terceirense que dedicou grande parte da sua escrita a este estilo literário.\nO painel “Sobre a Poesia de Álamo Oliveira”\, mediado pelo filólogo e ensaísta Luiz Fagundes Duarte\, é também composto pelo Professor e poeta Urbano Bettencourt\, pela professora e dinamizadora do clube de literatura da Biblioteca Álamo Oliveira\, no Raminho\, Ana Bretão\, pela Professora e historiadora Assunção Melo\, e que contará também com a presença do homenageado.\nAlém de conhecedor da sua obra\, todo este painel é composto por amigos de Álamo Oliveira\, pelo que se prevê uma vídeo-conversa onde\, para além de se abordarem as temáticas\, o fazer poético\, os procedimentos discursivos e os referenciais do poeta\, se dará a conhecer o homem para lá da sua escrita.\nA exposição “O Meu Coração é Assim” celebra o 75.º aniversário de Álamo Oliveira e estará patente na Biblioteca até ao dia 5 de novembro. A ela estarão associadas diferentes iniciativas que pretendem dar a conhecer a personalidade multifacetada do escritor.\nAssista a este painel em www.facebook.com/BPARLSR \n
URL:https://bparlsr.azores.gov.pt/destaque/painel-sobre-a-poesia-de-alamo-oliveira-exposicao-o-meu-coracao-e-assim/
CATEGORIES:Biblioteca
ATTACH;FMTTYPE=image/jpeg:https://bparlsr.azores.gov.pt/wp-content/uploads/2020/07/Sítio-web-1.jpg
END:VEVENT
END:VCALENDAR