BEGIN:VCALENDAR
VERSION:2.0
PRODID:-//Biblioteca Pública e Arquivo Regional Luís da Silva Ribeiro - ECPv4.9.10//NONSGML v1.0//EN
CALSCALE:GREGORIAN
METHOD:PUBLISH
X-WR-CALNAME:Biblioteca Pública e Arquivo Regional Luís da Silva Ribeiro
X-ORIGINAL-URL:https://bparlsr.azores.gov.pt
X-WR-CALDESC:Events for Biblioteca Pública e Arquivo Regional Luís da Silva Ribeiro
BEGIN:VTIMEZONE
TZID:Atlantic/Azores
BEGIN:DAYLIGHT
TZOFFSETFROM:-0100
TZOFFSETTO:+0000
TZNAME:+00
DTSTART:20200329T010000
END:DAYLIGHT
BEGIN:STANDARD
TZOFFSETFROM:+0000
TZOFFSETTO:-0100
TZNAME:-01
DTSTART:20201025T010000
END:STANDARD
END:VTIMEZONE
BEGIN:VEVENT
DTSTART;VALUE=DATE:20200901
DTEND;VALUE=DATE:20201001
DTSTAMP:20260424T235048
CREATED:20200826T141245Z
LAST-MODIFIED:20200826T141246Z
UID:4448-1598918400-1601510399@bparlsr.azores.gov.pt
SUMMARY:“Periódicos à Lupa”\, mostra organizada pela secção de Periódicos
DESCRIPTION:Data: 1 a 30 de setembro \nHora: Horário de funcionamento da Biblioteca \nLocal: Biblioteca Pública e Arquivo Regional Luís da Silva Ribeiro \nPúblico-alvo: Público em geral \n  \nO ambiente estará em destaque\, durante o mês de setembro\, na secção de Periódicos da Biblioteca Pública e Arquivo Regional Luís da Silva Ribeiro. \nAtravés de uma pequena mostra\, serão colocadas “à lupa” algumas publicações periódicas subordinadas ao tema da consciencialização ambiental ou publicadas por movimentos ou associações ambientalistas. \nVenha conhecer a seleção que preparámos para si. \n
URL:https://bparlsr.azores.gov.pt/destaque/periodicos-a-lupa-mostra-organizada-pela-seccao-de-periodicos/
CATEGORIES:Biblioteca
ATTACH;FMTTYPE=image/jpeg:https://bparlsr.azores.gov.pt/wp-content/uploads/2020/08/2-sítio-web_Periódicos-à-Lupa_setembro.jpg
END:VEVENT
BEGIN:VEVENT
DTSTART;VALUE=DATE:20200901
DTEND;VALUE=DATE:20201001
DTSTAMP:20260424T235048
CREATED:20200831T153823Z
LAST-MODIFIED:20201127T143402Z
UID:4480-1598918400-1601510399@bparlsr.azores.gov.pt
SUMMARY:Documento do Mês “Mapa da população da Ilha Graciosa”
DESCRIPTION:Data: setembro \nLocal: Biblioteca Pública e Arquivo Regional Luís da Silva Ribeiro \nPúblico-alvo: Público em geral \n  \n  \nA Divisão de Arquivo da Biblioteca Pública e Arquivo Regional Luís da Silva Ribeiro selecionou como “Documento do Mês” um “Lista dos povos da freguesia da Senhora da Luz da Ilha Graciosa”\, datado de 1813/1814. \nO documento deste mês de setembro\, é a lista de população de 1813/1814\, dividida por classes. Estas listas serviam para conhecer o número de habitantes\, por localidade e nível económico. \nCaixa 6- Mapas da população de São Jorge\, Graciosa\, Flores e Corvo entre os anos 1789 e 1827. \n
URL:https://bparlsr.azores.gov.pt/destaque/documento-do-mes-mapa-da-populacao-da-ilha-graciosa/
CATEGORIES:Arquivo Regional
ATTACH;FMTTYPE=image/jpeg:https://bparlsr.azores.gov.pt/wp-content/uploads/2020/08/2_sitiowebTV_DocMes_set2020.jpg
END:VEVENT
BEGIN:VEVENT
DTSTART;TZID=Atlantic/Azores:20200907T080000
DTEND;TZID=Atlantic/Azores:20200930T170000
DTSTAMP:20260424T235048
CREATED:20200827T162936Z
LAST-MODIFIED:20200827T162936Z
UID:4473-1599465600-1601485200@bparlsr.azores.gov.pt
SUMMARY:Dia Mundial para a Preservação da Camada do Ozono
DESCRIPTION:Data: 7 a 30 de setembro \nHora: Horário Funcionamento Biblioteca \nLocal: Biblioteca Pública e Arquivo Regional Luís da Silva Ribeiro \nPúblico-alvo: Público em geral \n  \n  \nCom o intuito de celebrar o “Dia Mundial para a Preservação da Camada do Ozono”\, assinalado a 16 de setembro\, a Biblioteca Pública e Arquivo Regional Luís da Silva Ribeiro prepara uma seleção de livros sobre a temática do ambiente e das alterações climáticas. \nNa Sala de Leitura e Empréstimo Domiciliário poderá descobrir diferentes separadores de livros  onde encontrará diversas curiosidades sobre este tema. \n
URL:https://bparlsr.azores.gov.pt/destaque/dia-mundial-para-a-preservacao-da-camada-do-ozono/
CATEGORIES:Biblioteca
ATTACH;FMTTYPE=image/jpeg:https://bparlsr.azores.gov.pt/wp-content/uploads/2020/08/2_sitiowebTV_camada-do-ozono.jpg
END:VEVENT
BEGIN:VEVENT
DTSTART;VALUE=DATE:20200918
DTEND;VALUE=DATE:20200919
DTSTAMP:20260424T235048
CREATED:20200910T152942Z
LAST-MODIFIED:20201204T115848Z
UID:4541-1600387200-1600473599@bparlsr.azores.gov.pt
SUMMARY:Dia aberto do Arquivo
DESCRIPTION: \nData: 18 de setembro \nLocal: https://bparlsr.azores.gov.pt/ \nPúblico-alvo: População em geral \n  \nO “Dia aberto do Arquivo” promovido pela Biblioteca Pública e Arquivo Regional Luís da Silva Ribeiro volta a acontecer no dia 18 de setembro\, mas agora em formato virtual no sítio web da instituição. \nNesta iniciativa será destacado o fundo documental da Capitania Geral dos Açores\, onde estará disponível para consulta alguma da diversa documentação que o integra. \nA Capitania Geral dos Açores era encabeçada por um Capitão General com o título majestático de Governador e Capitão General dos Açores\, com alargada jurisdição administrativa\, judicial e militar sobre todas as ilhas do arquipélago. Esta estrutura político-administrativa foi criada por Decreto a 2 de agosto de 1766 e extinta pelo Decreto de 4 de junho de 1832\, assinado em Ponta Delgada por D. Pedro IV. Contudo\, já anteriormente\, em 1828\, a Capitania Geral deixara de exercer as suas valências\, devido aos movimentos revolucionários que levariam à Guerra Civil Portuguesa (1828-1834). \nA iniciativa “Dia Aberto do Arquivo” divulga\, desta forma\, os fundos do Arquivo Regional de Angra do Heroísmo promovendo a salvaguarda\, valorização\, divulgação\, acesso e fruição do património arquivístico à sua guarda. \n
URL:https://bparlsr.azores.gov.pt/destaque/dia-aberto-do-arquivo-12/
CATEGORIES:Biblioteca
ATTACH;FMTTYPE=image/jpeg:https://bparlsr.azores.gov.pt/wp-content/uploads/2020/09/sitiowebTV_DiaAbertoArquivo_set.jpg
END:VEVENT
BEGIN:VEVENT
DTSTART;TZID=Atlantic/Azores:20200918T210000
DTEND;TZID=Atlantic/Azores:20200918T220000
DTSTAMP:20260424T235048
CREATED:20200909T145216Z
LAST-MODIFIED:20200909T145216Z
UID:4524-1600462800-1600466400@bparlsr.azores.gov.pt
SUMMARY:Painel “A Ficção Narrativa de Álamo Oliveira” - Exposição “O Meu Coração é Assim” -
DESCRIPTION:Data: 18 de setembro \nHora: 21h00 \nLocal: Página no Facebook BPARLSR – www.facebook.com/BPARLSR \nPúblico-alvo: Público em geral \n  \nDando continuidade ao programa de dinamização da exposição “O Meu Coração é Assim”\, patente na Biblioteca Pública e Arquivo Regional Luís da Silva Ribeiro\, reúne-se\, no próximo dia 18 de setembro pelas 21h00\, o painel “A Ficção Narrativa de Álamo Oliveira”. \nModerada pelo escritor e dramaturgo Nuno Costa Santos\, a conversa decorre entre autores\, com a presença de Onésimo Teotónio de Almeida\, de Vamberto Freitas\, de Carlos Bessa e de Joel Neto. \nAlém das muitas obras do autor de “Já Não Gosto de Chocolates”\, serão também abordadas as diferentes facetas de um escritor que leva palavras dos Açores para o Mundo\, numa conversa que permitirá aos intervenientes colocar questões a Álamo Oliveira\, presente também nesta conversa. \nA vídeo-conversa será transmitida através da página no Facebook da Biblioteca Pública e Arquivo Regional Luísa da Silva Ribeiro. \nA exposição “O Meu Coração é Assim” celebra o 75.º aniversário de Álamo Oliveira e estará patente na Biblioteca até ao dia 5 de novembro. A ela estarão associadas diferentes iniciativas que pretendem dar a conhecer a personalidade multifacetada do escritor. \nAssista a este painel em www.facebook.com/BPARLSR \n
URL:https://bparlsr.azores.gov.pt/destaque/painel-a-ficcao-narrativa-de-alamo-oliveira-exposicao-o-meu-coracao-e-assim/
CATEGORIES:Biblioteca
ATTACH;FMTTYPE=image/jpeg:https://bparlsr.azores.gov.pt/wp-content/uploads/2020/09/2-sítio-web_A-ficção-narrativa-de-AO.jpg
END:VEVENT
END:VCALENDAR