BEGIN:VCALENDAR
VERSION:2.0
PRODID:-//Biblioteca Pública e Arquivo Regional Luís da Silva Ribeiro - ECPv4.9.10//NONSGML v1.0//EN
CALSCALE:GREGORIAN
METHOD:PUBLISH
X-WR-CALNAME:Biblioteca Pública e Arquivo Regional Luís da Silva Ribeiro
X-ORIGINAL-URL:https://bparlsr.azores.gov.pt
X-WR-CALDESC:Events for Biblioteca Pública e Arquivo Regional Luís da Silva Ribeiro
BEGIN:VTIMEZONE
TZID:Atlantic/Azores
BEGIN:DAYLIGHT
TZOFFSETFROM:-0100
TZOFFSETTO:+0000
TZNAME:+00
DTSTART:20200329T010000
END:DAYLIGHT
BEGIN:STANDARD
TZOFFSETFROM:+0000
TZOFFSETTO:-0100
TZNAME:-01
DTSTART:20201025T010000
END:STANDARD
END:VTIMEZONE
BEGIN:VEVENT
DTSTART;VALUE=DATE:20201101
DTEND;VALUE=DATE:20201201
DTSTAMP:20260423T182044
CREATED:20201103T150519Z
LAST-MODIFIED:20201105T164141Z
UID:4730-1604188800-1606780799@bparlsr.azores.gov.pt
SUMMARY:Documento do Mês - Carta de Cura Coadjutor
DESCRIPTION:Data: novembro \nLocal: Sala de Consulta do Arquivo da Biblioteca Pública e Arquivo Regional Luís da Silva Ribeiro \nPúblico-alvo: Público em geral \n  \n  \nA Divisão de Arquivo da Biblioteca Pública e Arquivo Regional Luís da Silva Ribeiro selecionou como “Documento do Mês” uma carta de Cura Coadjutor\, com a recondução do Padre João Jacinto Coelho de Brito\, na freguesia da Fonte do Bastardo. \nEste documento pertence ao fundo da Mitra à guarda nesta instituição e estará em destaque\, numa vitrine\, na Sala de Atendimento da Divisão de Arquivo. \n
URL:https://bparlsr.azores.gov.pt/destaque/documento-do-mes-carta-de-cura-coadjutor/
CATEGORIES:Arquivo Regional
ATTACH;FMTTYPE=image/jpeg:https://bparlsr.azores.gov.pt/wp-content/uploads/2020/11/2_sitiowebTV_DocMes_nov2020.jpg
END:VEVENT
BEGIN:VEVENT
DTSTART;VALUE=DATE:20201102
DTEND;VALUE=DATE:20201201
DTSTAMP:20260423T182044
CREATED:20201028T174447Z
LAST-MODIFIED:20201028T174447Z
UID:4708-1604275200-1606780799@bparlsr.azores.gov.pt
SUMMARY:Periódicos à Lupa
DESCRIPTION:Data: 2 a 30 de novembro \nHorário: Horário de funcionamento da Biblioteca \nLocal: Secção de Periódicos \nPúblico-alvo: Público em geral \n  \n  \nA presença de publicidade em jornais e revistas foi aumentando ao longo dos anos\, desde o seu aparecimento. \nEm novembro\, colocamos “à Lupa” algumas publicações que nos permitem ver essa evolução na imprensa escrita\, numa breve mostra que estará na secção de Periódicos da Biblioteca. \nPoderá visitá-la durante todo o mês. \n
URL:https://bparlsr.azores.gov.pt/destaque/periodicos-a-lupa-17/
CATEGORIES:Biblioteca
ATTACH;FMTTYPE=image/jpeg:https://bparlsr.azores.gov.pt/wp-content/uploads/2020/10/2-sítio-web_Periódicos-à-Lupa_novembro.jpg
END:VEVENT
BEGIN:VEVENT
DTSTART;TZID=Atlantic/Azores:20201107T170000
DTEND;TZID=Atlantic/Azores:20201107T180000
DTSTAMP:20260423T182044
CREATED:20201028T174702Z
LAST-MODIFIED:20201028T174702Z
UID:4710-1604768400-1604772000@bparlsr.azores.gov.pt
SUMMARY:Palestra “Desperdício zero” - com Ana Milhazes
DESCRIPTION:Data: 7 de novembro \nHora: 17h00 \nLocal: Página no Facebook Biblioteca Pública e Arquivo Regional Luís da Silva Ribeiro \nPúblico-alvo: Público em geral \n  \nAna Milhazes é convidada da Biblioteca Pública e Arquivo Regional Luís da Silva Ribeiro para a vídeo-palestra “Desperdício Zero”\, que será transmitida em direto na página no Facebook da instituição\, no dia 7 de novembro às 17h00. \nA autora do livro “Vida Lixo Zero”\, que conta já com a segunda edição\, começou a viver de forma mais minimalista\, o que a levou a questionar o papel de cada coisa\, cada compromisso e cada pessoa na sua vida. \nSaber como adotar um estilo de vida “Desperdício Zero” e quais os itens que devem fazer parte dele\, compreender se conseguimos viver sem produzir resíduos\, conhecendo dicas para o tornar possível\, e perceber o impacto que tudo o que produzimos tem no nosso planeta\, são alguns dos conceitos que a escritora do blog “Ana\, go slowly” trará para esta vídeo-palestra. \nNão perca esta iniciativa na página no Facebook da Biblioteca: https://www.facebook.com/BPARLSR/ \n  \n  \n  \nAna Milhazes: É ativista\, socióloga\, formadora\, fundadora do movimento Lixo Zero Portugal\, instrutora de yoga\, autora do blog “Ana\, go slowly” e do livro “Vida Lixo Zero“. Considera-se\, acima de tudo\, uma apaixonada pela vida e pelo nosso planeta! \n
URL:https://bparlsr.azores.gov.pt/destaque/palestra-desperdicio-zero-com-ana-milhazes/
CATEGORIES:Biblioteca
ATTACH;FMTTYPE=image/jpeg:https://bparlsr.azores.gov.pt/wp-content/uploads/2020/10/2-sítio-web_Zerowaste.jpg
END:VEVENT
END:VCALENDAR