BEGIN:VCALENDAR
VERSION:2.0
PRODID:-//Biblioteca Pública e Arquivo Regional Luís da Silva Ribeiro - ECPv4.9.10//NONSGML v1.0//EN
CALSCALE:GREGORIAN
METHOD:PUBLISH
X-WR-CALNAME:Biblioteca Pública e Arquivo Regional Luís da Silva Ribeiro
X-ORIGINAL-URL:https://bparlsr.azores.gov.pt
X-WR-CALDESC:Events for Biblioteca Pública e Arquivo Regional Luís da Silva Ribeiro
BEGIN:VTIMEZONE
TZID:Atlantic/Azores
BEGIN:DAYLIGHT
TZOFFSETFROM:-0100
TZOFFSETTO:+0000
TZNAME:+00
DTSTART:20200329T010000
END:DAYLIGHT
BEGIN:STANDARD
TZOFFSETFROM:+0000
TZOFFSETTO:-0100
TZNAME:-01
DTSTART:20201025T010000
END:STANDARD
END:VTIMEZONE
BEGIN:VEVENT
DTSTART;VALUE=DATE:20201101
DTEND;VALUE=DATE:20201201
DTSTAMP:20260425T033737
CREATED:20201103T150519Z
LAST-MODIFIED:20201105T164141Z
UID:4730-1604188800-1606780799@bparlsr.azores.gov.pt
SUMMARY:Documento do Mês - Carta de Cura Coadjutor
DESCRIPTION:Data: novembro \nLocal: Sala de Consulta do Arquivo da Biblioteca Pública e Arquivo Regional Luís da Silva Ribeiro \nPúblico-alvo: Público em geral \n  \n  \nA Divisão de Arquivo da Biblioteca Pública e Arquivo Regional Luís da Silva Ribeiro selecionou como “Documento do Mês” uma carta de Cura Coadjutor\, com a recondução do Padre João Jacinto Coelho de Brito\, na freguesia da Fonte do Bastardo. \nEste documento pertence ao fundo da Mitra à guarda nesta instituição e estará em destaque\, numa vitrine\, na Sala de Atendimento da Divisão de Arquivo. \n
URL:https://bparlsr.azores.gov.pt/destaque/documento-do-mes-carta-de-cura-coadjutor/
CATEGORIES:Arquivo Regional
ATTACH;FMTTYPE=image/jpeg:https://bparlsr.azores.gov.pt/wp-content/uploads/2020/11/2_sitiowebTV_DocMes_nov2020.jpg
END:VEVENT
BEGIN:VEVENT
DTSTART;VALUE=DATE:20201102
DTEND;VALUE=DATE:20201201
DTSTAMP:20260425T033737
CREATED:20201028T174447Z
LAST-MODIFIED:20201028T174447Z
UID:4708-1604275200-1606780799@bparlsr.azores.gov.pt
SUMMARY:Periódicos à Lupa
DESCRIPTION:Data: 2 a 30 de novembro \nHorário: Horário de funcionamento da Biblioteca \nLocal: Secção de Periódicos \nPúblico-alvo: Público em geral \n  \n  \nA presença de publicidade em jornais e revistas foi aumentando ao longo dos anos\, desde o seu aparecimento. \nEm novembro\, colocamos “à Lupa” algumas publicações que nos permitem ver essa evolução na imprensa escrita\, numa breve mostra que estará na secção de Periódicos da Biblioteca. \nPoderá visitá-la durante todo o mês. \n
URL:https://bparlsr.azores.gov.pt/destaque/periodicos-a-lupa-17/
CATEGORIES:Biblioteca
ATTACH;FMTTYPE=image/jpeg:https://bparlsr.azores.gov.pt/wp-content/uploads/2020/10/2-sítio-web_Periódicos-à-Lupa_novembro.jpg
END:VEVENT
BEGIN:VEVENT
DTSTART;VALUE=DATE:20201115
DTEND;VALUE=DATE:20201205
DTSTAMP:20260425T033737
CREATED:20201110T172530Z
LAST-MODIFIED:20201111T123840Z
UID:4767-1605398400-1607126399@bparlsr.azores.gov.pt
SUMMARY:Cancelamento dos eventos presenciais
DESCRIPTION:No seguimento da monitorização permanente feita à situação da pandemia de COVID-19 na Região Autónoma dos Açores\, e de acordo com a Resolução do Conselho do Governo nº278/2020 de 7 de novembro de 2020\, informamos que se encontram cancelados os eventos presenciais previstos até às 24:00 do próximo dia 30 de novembro na Biblioteca Pública e Arquivo Regional Luís da Silva Ribeiro. \n
URL:https://bparlsr.azores.gov.pt/destaque/4767/
CATEGORIES:Biblioteca
ATTACH;FMTTYPE=image/png:https://bparlsr.azores.gov.pt/wp-content/uploads/2020/11/Informacao_sitioweb.png
END:VEVENT
BEGIN:VEVENT
DTSTART;TZID=Atlantic/Azores:20201116T090000
DTEND;TZID=Atlantic/Azores:20201211T170000
DTSTAMP:20260425T033737
CREATED:20201106T133153Z
LAST-MODIFIED:20201110T172843Z
UID:4759-1605517200-1607706000@bparlsr.azores.gov.pt
SUMMARY:Clínica do livro
DESCRIPTION:Data: De 16 de novembro a 11 de dezembro \nHora: Das 9h00 às 17h00 \nLocal: Sala de empréstimo da Biblioteca Pública e Arquivo Regional Luís da Silva Ribeiro \nPúblico-alvo: Público em geral \n  \n  \nA Biblioteca Pública e Arquivo Regional Luís da Silva Ribeiro vai abrir uma “Clínica do Livro” para todos os seus leitores a partir do dia 16 de novembro até ao dia 11 de dezembro\, no horário das 09h00 às 17h00. \nPara todos os que se questionam sobre qual o próximo livro a ler\, terão agora disponível este serviço na sala de leitura\, onde um funcionário os irá ouvir\, perceber os seus gostos e aconselhá-los com obras de várias áreas do conhecimento. \nUsufrua deste serviço e tenha a “receita” da sua próxima leitura. \n
URL:https://bparlsr.azores.gov.pt/destaque/clinica-do-livro/
CATEGORIES:Biblioteca
ATTACH;FMTTYPE=image/jpeg:https://bparlsr.azores.gov.pt/wp-content/uploads/2020/11/News_Clínica-do-Livro.jpg
END:VEVENT
BEGIN:VEVENT
DTSTART;TZID=Atlantic/Azores:20201120T200000
DTEND;TZID=Atlantic/Azores:20201120T210000
DTSTAMP:20260425T033737
CREATED:20201112T150539Z
LAST-MODIFIED:20201112T150546Z
UID:4771-1605902400-1605906000@bparlsr.azores.gov.pt
SUMMARY:Conversas na Biblioteca - A Ciência ao Serviço do Cidadão
DESCRIPTION:Data: 20 de novembro \nHora: 20h00 \nLocal: Página no Facebook Biblioteca Pública e Arquivo Regional Luís da Silva Ribeiro \nPúblico-alvo: Público em geral \n  \nA Biblioteca Pública e Arquivo Regional Luís da Silva Ribeiro reúne em “Conversas na Biblioteca” os cientistas Carlos Fiolhais e David Marçal\, com a moderação de João Miguel Ferreira\, no próximo dia 20 de novembro pelas 20h00\, na sua página no Facebook. \nColocando “A Ciência ao serviço do Cidadão”\, os autores de “Darwin aos Tiros e Outras Histórias de Ciência”\, estarão juntos\, num encontro virtual\, para debater algumas questões que\, dizendo respeito a este tema\, são comuns a todos. \nEsta conversa abre assim a possibilidade de ir ao encontro das curiosidades mais básicas do cidadão\, dando lugar a novas questões e compreendendo que a ciência é algo presente no dia-a-dia. \nNuma altura em que as deslocações e eventos presenciais obedecem a várias limitações\, a vídeo-conversa é a solução encontrada para continuar a oferta cultural a que a Biblioteca tem habituado o seu público. \nContamos com a sua presença através da página no Facebook https://www.facebook.com/BPARLSR/ \n  \n  \nCarlos Fiolhais licenciado em Física na Universidade de Coimbra (1978) e doutorado em Física Teórica na Universidade Goethe\, Frankfurt (1982). É professor catedrático no Departamento de Física da Universidade de Coimbra desde 2000. Foi professor convidado em universidades do Brasil e EUA. É autor de vários livros pedagógicos e de divulgação científica e de numerosos artigos científicos\, pedagógicos e de divulgação. Ganhou os Prémios: José Mariano Gago da SPA (2018)\, Ciência Viva-Montepio (2017)\, o Globo de Ouro de Mérito e Excelência em Ciência da SIC (2005)\, a Ordem do Infante D. Henrique (2005)\, Inovação do Fórum III Milénio (2006) e Rómulo de Carvalho da Universidade de Évora (2006). Foi diretor da Biblioteca Geral da Universidade de Coimbra e Coordenador da área do Conhecimento da Fundação Francisco Manuel dos Santos. É diretor do Rómulo – Centro Ciência Viva da Universidade de Coimbra e da coleção Ciência Aberta da Gradiva. \n  \nDavid Marçal é doutorado pela Universidade Nova de Lisboa (2008)\, é bioquímico e comunicador de ciência. Na Gradiva\, em co­autoria com Carlos Fio­lhais\, assinou os livros “Darwin aos Tiros e Outras Histórias de Ciência” e “Pipocas com Telemóvel e Outras Histórias de Falsa Ciên­cia” e “A Ciência e os seus Inimigos”. É autor de centenas de artigos na comunicação social\, de espetáculos e de programas de televisão sobre ciência. Ensina Comunica­ção de Ciência na Universidade Nova de Lisboa. Foi distinguido com os prémios Quí­micos Jovens (da Sociedade Portuguesa de Química)\, Ideias Verdes (da Fundação Luso e do jornal Expresso) e COMCEPT (da Comunidade Céptica Portuguesa). \n  \nJoão Miguel Tavarela da Silva Ferreira é professor auxiliar da Universidade dos Açores. Fez a sua formação académica entre Portugal e o Reino Unido\, tendo-se doutorado em Astrofísica. \nDedica há já vários anos uma boa parte do seu tempo a organizar e a participar em diversos eventos de divulgação e promoção de ciência\, nas áreas da física\, astronomia\, matemática e ciência em geral. \n
URL:https://bparlsr.azores.gov.pt/destaque/conversas-na-biblioteca-a-ciencia-ao-servico-do-cidadao/
ATTACH;FMTTYPE=image/jpeg:https://bparlsr.azores.gov.pt/wp-content/uploads/2020/11/2-sítio-web_novConversas-na-Biblioteca.jpg
END:VEVENT
END:VCALENDAR