BEGIN:VCALENDAR
VERSION:2.0
PRODID:-//Biblioteca Pública e Arquivo Regional Luís da Silva Ribeiro - ECPv4.9.10//NONSGML v1.0//EN
CALSCALE:GREGORIAN
METHOD:PUBLISH
X-WR-CALNAME:Biblioteca Pública e Arquivo Regional Luís da Silva Ribeiro
X-ORIGINAL-URL:https://bparlsr.azores.gov.pt
X-WR-CALDESC:Events for Biblioteca Pública e Arquivo Regional Luís da Silva Ribeiro
BEGIN:VTIMEZONE
TZID:Atlantic/Azores
BEGIN:DAYLIGHT
TZOFFSETFROM:-0100
TZOFFSETTO:+0000
TZNAME:+00
DTSTART:20210328T010000
END:DAYLIGHT
BEGIN:STANDARD
TZOFFSETFROM:+0000
TZOFFSETTO:-0100
TZNAME:-01
DTSTART:20211031T010000
END:STANDARD
BEGIN:DAYLIGHT
TZOFFSETFROM:-0100
TZOFFSETTO:+0000
TZNAME:+00
DTSTART:20220327T010000
END:DAYLIGHT
BEGIN:STANDARD
TZOFFSETFROM:+0000
TZOFFSETTO:-0100
TZNAME:-01
DTSTART:20221030T010000
END:STANDARD
END:VTIMEZONE
BEGIN:VEVENT
DTSTART;VALUE=DATE:20210419
DTEND;VALUE=DATE:20220702
DTSTAMP:20260425T143457
CREATED:20210416T095905Z
LAST-MODIFIED:20210514T165508Z
UID:5639-1618790400-1656719999@bparlsr.azores.gov.pt
SUMMARY:Comunidade de Apoio ao Estudo  - Biblioteca recebe material de escritório para servir este projeto
DESCRIPTION: \n“Comunidade de Apoio ao Estudo” é o título do projeto que a Biblioteca Pública e Arquivo Regional Luís da Silva Ribeiro está a desenvolver\, desde o passado mês de abril\, com o apoio do Rotary Clube de Angra do Heroísmo\, através da candidatura aos Projetos de Apoio da Fundação Rotária Portuguesa. \nTendo como principal objetivo criar um centro de explicações extraescolar\, destinado a jovens de vários níveis de ensino que de outra forma não teriam este tipo de ajuda nos seus estudos\, esta iniciativa da Biblioteca foi aprovada no âmbito dos projetos de apoio aos clubes rotários na área da alfabetização e educação. \nDesde o seu início\, que ocorreu há cerca de três semanas\, a “Comunidade de Apoio ao Estudo” já conseguiu reunir dez voluntários\, que estão a auxiliar os onze estudantes inscritos nas disciplinas de Matemática\, Português\, História\, Francês (virtual)\, Filosofia\, Ciências da Natureza e Inglês\, existindo a expectativa de que este número\, tanto de explicadores como de alunos\, venha a aumentar. \nEstas sessões acontecem duas horas por semana para cada disciplina\, e os horários são articulados entre voluntários e alunos inscritos\, de forma contínua ou apenas pontualmente\, conforme as necessidades de cada estudante. \nO contributo do Rotary Clube de Angra do Heroísmo\, através desta candidatura à Fundação Rotária Portuguesa\, ascende aos três mil euros que se revertem em material escolar e de escritório\, contando ainda com o contributo da empresa local “Escritório Digital”. \nNa passada semana\, foi entregue à Biblioteca\, pelas mãos dos representantes destes parceiros\, uma parte do apoio\, nomeadamente um computador\, uma impressora e material de papelaria que se apresentam como uma mais-valia para o normal desenvolvimento das explicações. \nUma vez que este é um projeto de continuidade\, e também pela aproximação dos exames nacionais\, as inscrições para voluntários e alunos mantêm-se abertas\, pelo que a Biblioteca convida todos os interessados a inscreverem-se através do e-mail: comunicacao.bparlsr@azores.gov.pt. \nSeja para transmitir conhecimento\, seja para o aprender\, venha fazer parte desta comunidade! \n  \n  \n  \n  \n  \nData: 3.º período do ano letivo de 2021 e ano letivo 2022 \nLocal: Biblioteca Pública e Arquivo Regional Luís da Silva Ribeiro \nPúblico-alvo: Alunos do 1.º ciclo ao ensino secundário \n  \n  \nA Biblioteca Pública e Arquivo Regional Luís da Silva Ribeiro\, após reunir voluntários para a “Comunidade de Apoio ao Estudo”\, abre agora inscrições aos estudantes dos diferentes níveis de ensino que pretendam usufruir de apoio em diferentes disciplinas escolares. \nNeste projeto estão inscritos voluntários habilitados para auxiliar alunos nas disciplinas de Português\, História\, História da Cultura e das Artes\, Geografia\, Literatura\, Filosofia\, Matemática\, Física\, Química\, Inglês e Francês\, esta última apenas em formato virtual. \nEstas explicações gratuitas acontecem a partir do mês de maio\, onde\, no espaço da Biblioteca\, decorrem em horário articulado entre voluntários e alunos inscritos\, de forma contínua ou apenas pontualmente\, conforme as necessidades de cada estudante. \nPara te inscreveres\, envia um e-mail para comunicacao.bparlsr@azores.gov.pt. \nVem fazer parte desta comunidade e rentabiliza as tuas horas de estudo na Biblioteca! \n
URL:https://bparlsr.azores.gov.pt/destaque/comunidade-de-apoio-ao-estudo-inscricao-para-alunos/
CATEGORIES:Biblioteca
ATTACH;FMTTYPE=image/jpeg:https://bparlsr.azores.gov.pt/wp-content/uploads/2021/04/2_sitioweb-1.jpg
END:VEVENT
BEGIN:VEVENT
DTSTART;VALUE=DATE:20220401
DTEND;VALUE=DATE:20220501
DTSTAMP:20260425T143457
CREATED:20220321T151132Z
LAST-MODIFIED:20220321T151132Z
UID:9046-1648771200-1651363199@bparlsr.azores.gov.pt
SUMMARY:Documento do Mês  “25 de abril de 1975: antecedentes e consequências”
DESCRIPTION:A Biblioteca Pública e Arquivo Regional Luís da Silva Ribeiro\, promove a mostra “Documento do Mês” entre os dias 1 e 30 de abril. Estarão expostos\, na sala de consulta do Arquivo\, vários documentos que evocam a temática do dia 25 de abril de 1974\, data em que ocorreu a Revolução dos Cravos. No entanto\, mais do que mostrar o dia específico da Revolução\, pretende-se levar os visitantes por uma cronologia que se foca principalmente nos antecedentes e consequências da Revolução\, começando na Crise Académica de 1962\, passando pelo Movimento de Libertação das Colónias\, Movimento das Forças Armadas\, culminando na Revolução do 25 de abril e a criação dos Partidos Políticos\, chegando à Frente de Libertação dos Açores. \nVisite a BPARLSR e explore estas temáticas inerentes a um dos eventos mais marcantes de toda a história nacional e regional. \n
URL:https://bparlsr.azores.gov.pt/destaque/documento-do-mes-25-de-abril-de-1975-antecedentes-e-consequencias/
CATEGORIES:Arquivo Regional
ATTACH;FMTTYPE=image/jpeg:https://bparlsr.azores.gov.pt/wp-content/uploads/2022/03/Doc-do-mês-abril-Newsletter.jpg
END:VEVENT
BEGIN:VEVENT
DTSTART;VALUE=DATE:20220401
DTEND;VALUE=DATE:20220501
DTSTAMP:20260425T143457
CREATED:20220330T131817Z
LAST-MODIFIED:20220330T131825Z
UID:9083-1648771200-1651363199@bparlsr.azores.gov.pt
SUMMARY:Periódicos à Lupa de abril | Arte Floral
DESCRIPTION:Data: 1 a 30 de abril \nLocal: Secção de Periódicos \nPúblico-alvo: Interessados em decoração; Profissionais da área de decoração ou/e floricultura; Pessoal da área de planeamento de eventos e cerimónias \n  \nNo mês de abril\, a Secção de Periódicos da Biblioteca Pública e Arquivo Regional Luís da Silva Ribeiro destaca\, no âmbito da mostra mensal “Periódicos à Lupa”\, publicações que exploram a arte floral\, com o intuito de inspirar os interessados em decoração natural e fomentar conhecimentos na área da botânica. \nVenha conhecer esta breve mostra na Sala de Consulta de Periódicos da BPARLSR. \n
URL:https://bparlsr.azores.gov.pt/destaque/periodicos-a-lupa-de-abril-arte-floral/
CATEGORIES:Biblioteca
ATTACH;FMTTYPE=image/jpeg:https://bparlsr.azores.gov.pt/wp-content/uploads/2022/03/1_sitioweb_periodicosalupa.jpg
END:VEVENT
BEGIN:VEVENT
DTSTART;VALUE=DATE:20220407
DTEND;VALUE=DATE:20220429
DTSTAMP:20260425T143457
CREATED:20220404T111749Z
LAST-MODIFIED:20220404T111919Z
UID:9117-1649289600-1651190399@bparlsr.azores.gov.pt
SUMMARY:Autores Açorianos | Urbano Bettencourt
DESCRIPTION:A Biblioteca Pública e Arquivo Regional Luís da Silva Ribeiro promove a segunda edição da mostra “Autores Açorianos”\, dedicada ao escritor picoense Urbano Bettencourt. Estará patente uma seleção da sua extensa obra literária\, desde a poesia à prosa de ficção. \nVisite a Sala de Leitura e Empréstimo Domiciliário entre os dias 7 e 28 de abril e descubra os autores e obras açorianas que perfazem o património literário da região. \n  \nNota biográfica- Urbano Bettencourt \nUrbano Bettencourt (nome literário de Manuel Urbano Bettencourt Machado) nasceu na Ilha do Pico a 24 de novembro de 1949. É atualmente considerado uma das figuras mais proeminentes da cultura açoriana. \nLicenciou-se em Filologia Românica pela Faculdade de Letras de Lisboa\, completando mais tarde o Doutoramento em Estudos Portugueses pela Universidade dos Açores\, com a qual colaborou na área da investigação. Dedicou a sua carreira ao ensino\, lecionando na Universidade dos Açores\, de 1990 a 2014\, e atualmente na Escola Secundária Antero de Quental; \nCom uma longa obra literária iniciada em 1972\, Urbano Bettencourt desenvolveu um trabalho que abrange o ensaísmo\, a poesia e a prosa de ficção. \nDa sua obra poética e narrativa\, destacam-se a sua primeira publicação Raiz de Mágoa (1972)\, Algumas das cidades (1995)\, Lugares sombras e afectos (2005)\, Outros nomes\, outras guerras (2013)\, entre muitos outros. Como ensaísta\, desenvolveu o seu trabalho tanto na região natal dos Açores\, como nos arquipélagos restantes da Macaronésia (Cabo Verde\, Canárias e Madeira)\, trabalho este publicado além-fronteiras regionais e depois nacionais. A trilogia O Gosto das Palavras (1983\, 1995\, 1999)\, ou Ilhas: conforme as circunstâncias (2003)\, são algumas das suas publicações de maior relevância. Colaborou em diversas antologias de poesia açoriana\, publicadas tanto em Portugal como no estrangeiro. É o caso da Antologia Poética Açoriano-Catarinense (Florianópolis\, 2005) ou de Azoru Salu. Dzejas antologija (Letónia\, 2009). Em 2020\, a editora Companhia das Ilhas iniciou a publicação das Obras Completas do autor picoense. \n  \n
URL:https://bparlsr.azores.gov.pt/destaque/autores-acorianos-urbano-bettencourt/
CATEGORIES:Biblioteca
ATTACH;FMTTYPE=image/jpeg:https://bparlsr.azores.gov.pt/wp-content/uploads/2022/04/1_sitioweb_autoresacorianos_urbano_b.jpg
END:VEVENT
BEGIN:VEVENT
DTSTART;VALUE=DATE:20220419
DTEND;VALUE=DATE:20220424
DTSTAMP:20260425T143457
CREATED:20220405T164105Z
LAST-MODIFIED:20220414T093711Z
UID:9122-1650326400-1650758399@bparlsr.azores.gov.pt
SUMMARY:Semana do Livro
DESCRIPTION:A Biblioteca Pública e Arquivo Regional Luís da Silva Ribeiro realizará\, de 19 a 23 de abril\, a Semana do Livro\, “Somos o que lemos”. \nEsta iniciativa tem como principal objetivo promover bons hábitos de leitura\, formar leitores e celebrar com as escolas e os utilizadores da BPARLSR a importância do livro para o desenvolvimento da literacia e de uma cultura humanista. \nDurante esta semana decorrerão atividades que abrangem as áreas da literatura\, música\, teatro\, cinema e muito mais. Estão previstas atividades como testemunhos dos leitores\, a abertura do Depósito Legal (acontecimento inédito na instituição)\, o “Encontro com a Escritora”\, com Mafalda Milhões e Luzia de Maria\, ou o regresso do célebre teatro para bebés “Plim!”. A iniciativa integra também atividades de teor prático\, das quais se destacam a “Visita Literária: Angra de Nemésio”\, com Luíz Fagundes Duarte\, a Oficina de Poeterapia\, com Bianca Mendes\, o Workshop de Multimédia\, entre outros. \nA abertura da Semana do Livro “Somos o que Lemos” será no dia 19 de abril às 18h. \n  \nA participação neste evento será mediante inscrição prévia\, através do número 295 401 000 ou enviando um e-mail com o seu nome e contacto para: comunicacao.bparlsr@azores.gov.pt. \n\n  \n
URL:https://bparlsr.azores.gov.pt/destaque/semana-do-livro/
CATEGORIES:Biblioteca
ATTACH;FMTTYPE=image/jpeg:https://bparlsr.azores.gov.pt/wp-content/uploads/2022/04/1_sitioweb_semanadolivro-1.jpg
END:VEVENT
BEGIN:VEVENT
DTSTART;VALUE=DATE:20220420
DTEND;VALUE=DATE:20220511
DTSTAMP:20260425T143457
CREATED:20220503T113400Z
LAST-MODIFIED:20220503T113421Z
UID:9285-1650412800-1652227199@bparlsr.azores.gov.pt
SUMMARY:Os Tesouros da Biblioteca
DESCRIPTION:A Biblioteca Pública e Arquivo Regional Luís da Silva Ribeiro na “Semana do Livro” abre as suas portas para revelar os “tesouros” literários da instituição\, destacados numa mostra patente entre os dias 20 de abril e 10 de maio\, aberta a toda a comunidade. \nEstará exposta uma seleção de monografias de valor inestimável que se encontram à guarda da BPARLSR\, quer por doação quer por aquisição\, como é o caso da mais pequena edição do clássico de Luís de Camões\, “Os Lusíadas”\, entre muitas outras raridades. \nVisite esta mostra e descubra o vasto património literário nacional e regional. \n
URL:https://bparlsr.azores.gov.pt/destaque/os-tesouros-da-biblioteca-2/
CATEGORIES:Biblioteca
ATTACH;FMTTYPE=image/jpeg:https://bparlsr.azores.gov.pt/wp-content/uploads/2022/05/3-Os-Tesouros-da-Biblioteca-Sitio-Web.jpg
END:VEVENT
BEGIN:VEVENT
DTSTART;TZID=Atlantic/Azores:20220422T130000
DTEND;TZID=Atlantic/Azores:20220422T140000
DTSTAMP:20260425T143457
CREATED:20220418T101224Z
LAST-MODIFIED:20220418T101254Z
UID:9193-1650632400-1650636000@bparlsr.azores.gov.pt
SUMMARY:Acesso Inédito aos Reservados | Abertura do Depósito Legal
DESCRIPTION:A Biblioteca Pública e Arquivo Regional Luís da Silva Ribeiro realizará\, no dia 22 de abril\, pelas 13h\, a abertura do Depósito Legal\, enviado à instituição pela Biblioteca Nacional de Portugal\, aberta ao público. Esta atividade\, integrada na Semana do Livro “Somos o que lemos”\, é um acontecimento inédito na BPARLSR\, a única biblioteca beneficiária deste depósito na Região Autónoma dos Açores\, e tem como principal intuito permitir a participação da comunidade numa tarefa habitualmente reservada aos técnicos da instituição. \nO depósito legal provém do envio de\, pelo menos\, um exemplar de todas as publicações produzidas em território nacional\, quer se tratem de manuais escolares\, periódicos ou monografias\, reunido com o objetivo de assegurar a preservação e a difusão de conhecimento a nível nacional e regional. Os participantes nesta atividade poderão saber mais sobre o tratamento destas espécies e conhecer a riqueza do acervo da Biblioteca. \nA Semana do Livro\, “Somos o que lemos”\, decorre de 19 a 23 de abril. \nParticipe nesta iniciativa\, inscrevendo-se através do número 295 401 000 ou enviando um email com o seu nome e contacto para: comunicacao.bparlsr@azores.gov.pt . \n
URL:https://bparlsr.azores.gov.pt/destaque/acesso-inedito-aos-reservados-abertura-do-deposito-legal/
CATEGORIES:Biblioteca
ATTACH;FMTTYPE=image/jpeg:https://bparlsr.azores.gov.pt/wp-content/uploads/2022/04/Abertura-do-Depósito-Legal-Sitio-Web.jpg
END:VEVENT
BEGIN:VEVENT
DTSTART;TZID=Atlantic/Azores:20220422T180000
DTEND;TZID=Atlantic/Azores:20220422T190000
DTSTAMP:20260425T143457
CREATED:20220418T101048Z
LAST-MODIFIED:20220418T101134Z
UID:9190-1650650400-1650654000@bparlsr.azores.gov.pt
SUMMARY:Oficina de Ilustração “À procura do traço”\, com Mafalda Milhões
DESCRIPTION:A Biblioteca Pública e Arquivo Regional Luís da Silva Ribeiro recebe a ilustradora Mafalda Milhões\, no decorrer da Semana do Livro\, “Somos o que lemos”\, com uma Oficina de Ilustração “À procura do traço” que se realizará a 22 de abril às 18h. \nDirigida a todos\, especialmente a quem acha que não sabe desenhar\, esta oficina procura descobrir texturas\, materiais e técnicas\, sempre na tentativa de construir imagens que contam histórias. Do texto à imagem\, da imagem ao texto\, esta proposta tem como objetivo maior cruzar a identidade de cada participante com as diversas técnicas e linguagens gráficas. \nA Semana do Livro\, “Somos o que lemos”\, decorre de 19 a 23 de abril. \nParticipe nesta oficina\, inscrevendo-se através do número 295 401 000 ou enviando um email com o seu nome e contacto para: comunicacao.bparlsr@azores.gov.pt . \n  \nBiografia: \nMafalda Milhões \nDedica-se à ilustração\, mas também é editora\, livreira\, curadora\, autora e mediadora de leitura. Formou-se em Artes Gráficas em Tomar\, é discípula de Gutenberg e uma das impulsionadoras do projeto editorial O Bichinho de Conto\, agora sediado em Óbidos. A ilustração de Mafalda Milhões expressa bem as suas ideias e personalidade. É uma ilustradora de causas. A sua obra conta com várias distinções. Em 2014 foi galardoada em Espanha com o Gourmand Award na categoria Best Illustrations CookBook com o livro Maruxa (ed. OQO\, 2014). \nPorque as imagens também contam histórias e refletem a identidade dos criadores\, cada livro é um objeto único com uma linguagem gráfica construída à medida de cada encontro entre si e o autor. Para ela\, ler também é ouvir\, ser\, estar e sentir. \n  \n
URL:https://bparlsr.azores.gov.pt/destaque/oficina-de-ilustracao-a-procura-do-traco-com-mafalda-milhoes/
CATEGORIES:Biblioteca
ATTACH;FMTTYPE=image/jpeg:https://bparlsr.azores.gov.pt/wp-content/uploads/2022/04/Oficina-Mafalda-M-Sitio-Web.jpg
END:VEVENT
END:VCALENDAR