BEGIN:VCALENDAR
VERSION:2.0
PRODID:-//Biblioteca Pública e Arquivo Regional Luís da Silva Ribeiro - ECPv4.9.10//NONSGML v1.0//EN
CALSCALE:GREGORIAN
METHOD:PUBLISH
X-WR-CALNAME:Biblioteca Pública e Arquivo Regional Luís da Silva Ribeiro
X-ORIGINAL-URL:https://bparlsr.azores.gov.pt
X-WR-CALDESC:Events for Biblioteca Pública e Arquivo Regional Luís da Silva Ribeiro
BEGIN:VTIMEZONE
TZID:Atlantic/Azores
BEGIN:DAYLIGHT
TZOFFSETFROM:-0100
TZOFFSETTO:+0000
TZNAME:+00
DTSTART:20220327T010000
END:DAYLIGHT
BEGIN:STANDARD
TZOFFSETFROM:+0000
TZOFFSETTO:-0100
TZNAME:-01
DTSTART:20221030T010000
END:STANDARD
BEGIN:DAYLIGHT
TZOFFSETFROM:-0100
TZOFFSETTO:+0000
TZNAME:+00
DTSTART:20230326T010000
END:DAYLIGHT
BEGIN:STANDARD
TZOFFSETFROM:+0000
TZOFFSETTO:-0100
TZNAME:-01
DTSTART:20231029T010000
END:STANDARD
BEGIN:DAYLIGHT
TZOFFSETFROM:-0100
TZOFFSETTO:+0000
TZNAME:+00
DTSTART:20240331T010000
END:DAYLIGHT
BEGIN:STANDARD
TZOFFSETFROM:+0000
TZOFFSETTO:-0100
TZNAME:-01
DTSTART:20241027T010000
END:STANDARD
END:VTIMEZONE
BEGIN:VEVENT
DTSTART;VALUE=DATE:20221114
DTEND;VALUE=DATE:20231115
DTSTAMP:20260423T084106
CREATED:20221114T114546Z
LAST-MODIFIED:20221114T114546Z
UID:9982-1668384000-1700006399@bparlsr.azores.gov.pt
SUMMARY:Comunidade de Apoio ao Estudo | Bolsa de Explicadores Voluntários
DESCRIPTION:A Biblioteca Pública e Arquivo Regional Luís da Silva Ribeiro promove o projeto “Comunidade de Apoio ao Estudo”\, durante o ano letivo de 2022/2023\, para auxiliar alunos de diferentes níveis de ensino. \nDe modo a consolidar esta oferta\, apela-se à participação de professores\, aposentados\, estudantes e toda a comunidade interessada\, de diferentes áreas disciplinares\, que queiram partilhar o seu conhecimento com quem necessita de apoio e enriquecimento de aprendizagens. \nTratando-se a instituição de uma biblioteca pública\, que\, segundo o Manifesto da Unesco de 1994\, deverá tornar acessíveis aos seus utilizadores o conhecimento e a informação de todos os géneros\, a BPARLSR pretende auxiliar especialmente alunos que de outra forma não teriam acesso a explicações extracurriculares\, promovendo um melhor desempenho escolar. \nOs voluntários para este projeto podem candidatar-se enviando a ficha de candidatura (em anexo) para o e-mail comunicacao.bparlsr@azores.gov.pt. \nPrecisamos de si para fazer a diferença na nossa comunidade! \n
URL:https://bparlsr.azores.gov.pt/destaque/comunidade-de-apoio-ao-estudo-bolsa-de-explicadores-voluntarios/
CATEGORIES:Biblioteca
ATTACH;FMTTYPE=image/jpeg:https://bparlsr.azores.gov.pt/wp-content/uploads/2022/11/1_sitioweb_comunidadeapoioestudo.jpg
END:VEVENT
BEGIN:VEVENT
DTSTART;VALUE=DATE:20230303
DTEND;VALUE=DATE:20231101
DTSTAMP:20260423T084106
CREATED:20230223T141206Z
LAST-MODIFIED:20230605T105726Z
UID:10330-1677801600-1698796799@bparlsr.azores.gov.pt
SUMMARY:“Oceanos\, Infinito azul”
DESCRIPTION:A Biblioteca Pública e Arquivo Regional Luís da Silva Ribeiro em parceria com o Instituto de Investigação em Ciências do Mar – OKEANOS – Universidade dos Açores\, organiza a exposição “Oceanos\, Infinito azul”\, no âmbito da Década da Ciência Oceânica para o Desenvolvimento Sustentável/2021 a 2030 e do Objetivo 14 da Agenda 2030\, da ONU\, “Proteger a vida marinha”. \n  \nA exposição estrutura-se em dois momentos: de 3 de março a 30 de junho “A vida na água” e de 7 de julho a 31 de outubro “Oceano\, fonte de desenvolvimento sustentável”. Esta iniciativa tem o seu foco nos Açores\, mas com uma abordagem a temáticas gerais\, com o objetivo de sensibilizar e dar a conhecer o que está a ser feito ao nível da proteção e exploração sustentável dos Oceanos e o que pode e deve ser concretizado nesta década. \n  \nCom uma forte componente didática\, será de leitura fácil e acessível a todas as idades e constará de documentação impressa\, audiovisual\, algumas peças e espécies marinhas. Terá um programa complementar com a realização de conferências\, fóruns de discussão\, atividades ao ar livre e exibição de filmes e documentários. \n  \n  \n  \n  \n
URL:https://bparlsr.azores.gov.pt/destaque/oceanos-infinito-azul/
CATEGORIES:Biblioteca,Exposições
ATTACH;FMTTYPE=image/jpeg:https://bparlsr.azores.gov.pt/wp-content/uploads/2023/02/6_sítioweb-_-7_nota_inf.jpg
END:VEVENT
BEGIN:VEVENT
DTSTART;VALUE=DATE:20230707
DTEND;VALUE=DATE:20231026
DTSTAMP:20260423T084106
CREATED:20230629T160225Z
LAST-MODIFIED:20230629T160225Z
UID:10840-1688688000-1698278399@bparlsr.azores.gov.pt
SUMMARY:Exposição “Oceanos Infinito Azul” Momento II – “Oceano\, fonte de desenvolvimento sustentável
DESCRIPTION:Os oceanos cobrem 70% da superfície da Terra\, alimentam 80% da vida no nosso planeta e geram 50% do oxigénio que respiramos. \nDa sua proteção e exploração sustentável depende a vida da Humanidade. \nNeste segundo momento da exposição a documentação e os audiovisuais disponibilizados focam-se na economia do mar\, nos recursos biológicos do mar dos Açores e na fruição lúdica do oceano. \nDestacamos neste contexto\, num dos televisores\, a exposição “Na rota das grandes manchas”\, de Pepe Brix. \n  \n
URL:https://bparlsr.azores.gov.pt/destaque/exposicao-oceanos-infinito-azul-momento-ii-oceano-fonte-de-desenvolvimento-sustentavel/
CATEGORIES:Biblioteca
ATTACH;FMTTYPE=image/jpeg:https://bparlsr.azores.gov.pt/wp-content/uploads/2023/06/6_sítioweb-_-7_nota_inf_Easy-Resize.com_-4.jpg
END:VEVENT
BEGIN:VEVENT
DTSTART;VALUE=DATE:20230807
DTEND;VALUE=DATE:20240602
DTSTAMP:20260423T084106
CREATED:20230804T120325Z
LAST-MODIFIED:20230804T120325Z
UID:10882-1691366400-1717286399@bparlsr.azores.gov.pt
SUMMARY:Apoio ao Estudo
DESCRIPTION:Gostaríamos de informar que em 2024 vamos prosseguir com o projeto “Comunidade de Apoio ao Estudo”\, com a intenção de ajudar aqueles que não têm acesso a um apoio extraescolar. Nesse sentido\, estamos a angariar voluntários dispostos a dedicar algum do seu tempo a alunos que precisam. \nO apelo é dirigido à participação de professores\, reformados\, estudantes e comunidade interessada\, bem como a pessoas com formação em diferentes áreas disciplinares\, que queiram partilhar o seu conhecimento junto de quem necessita de apoio e enriquecimento de aprendizagens. \nSegundo o Manifesto da Unesco de 1994\, que sustenta que as bibliotecas públicas devem tornar acessíveis aos seus utilizadores o conhecimento e a informação de todos os géneros\, a Biblioteca Pública e Arquivo Regional Luís da Silva Ribeiro\, pretende assim\, prestar apoio na área escolar\, sobretudo a alunos que de outra forma não teriam explicações extracurriculares. \nOs voluntários para este projeto\, podem candidatar-se através do envio da ficha de candidatura preenchida\, para o e-mail: dinamizacao.bparlsr@azores.gov.pt. \n
URL:https://bparlsr.azores.gov.pt/destaque/apoio-ao-estudo/
CATEGORIES:Biblioteca
ATTACH;FMTTYPE=image/jpeg:https://bparlsr.azores.gov.pt/wp-content/uploads/2023/08/1_sitioweb_cae_23_24.jpg
END:VEVENT
BEGIN:VEVENT
DTSTART;VALUE=DATE:20230904
DTEND;VALUE=DATE:20240602
DTSTAMP:20260423T084106
CREATED:20230828T153954Z
LAST-MODIFIED:20230828T154000Z
UID:10916-1693785600-1717286399@bparlsr.azores.gov.pt
SUMMARY:Comunidade de Apoio ao Estudo
DESCRIPTION:Gostaríamos de informar que em 2024 vamos prosseguir com o projeto “Comunidade de Apoio ao Estudo”\, com a intenção de ajudar aqueles que não têm acesso a um apoio extraescolar. Nesse sentido\, estamos a angariar voluntários dispostos a dedicar algum do seu tempo a alunos que precisam. \nO apelo é dirigido à participação de professores\, reformados\, estudantes e comunidade interessada\, bem como a pessoas com formação em diferentes áreas disciplinares\, que queiram partilhar o seu conhecimento junto de quem necessita de apoio e enriquecimento de aprendizagens. \nSegundo o Manifesto da Unesco de 1994\, que sustenta que as bibliotecas públicas devem tornar acessíveis aos seus utilizadores o conhecimento e a informação de todos os géneros\, a Biblioteca Pública e Arquivo Regional Luís da Silva Ribeiro\, pretende assim\, prestar apoio na área escolar\, sobretudo a alunos que de outra forma não teriam explicações extracurriculares. \nOs voluntários para este projeto\, podem candidatar-se através do envio da ficha de candidatura preenchida\, para o e-mail: dinamizacao.bparlsr@azores.gov.pt. \n  \n
URL:https://bparlsr.azores.gov.pt/destaque/comunidade-de-apoio-ao-estudo/
CATEGORIES:Biblioteca
ATTACH;FMTTYPE=image/jpeg:https://bparlsr.azores.gov.pt/wp-content/uploads/2023/08/1_sitioweb_cae_23_24_3.jpg
END:VEVENT
BEGIN:VEVENT
DTSTART;VALUE=DATE:20230921
DTEND;VALUE=DATE:20231021
DTSTAMP:20260423T084106
CREATED:20230925T091234Z
LAST-MODIFIED:20230925T091235Z
UID:10978-1695254400-1697846399@bparlsr.azores.gov.pt
SUMMARY:Exposição Itinerante | “A Décima Ilha”
DESCRIPTION:Os Açores estão onde estiver um açoriano. E são muito mais os açorianos de sangue do que os açorianos de residência. Somos menos de 250 mil habitantes nas nove ilhas\, mas seremos porventura dois milhões de açorianos e açordescendentes\, de sucessivas gerações\, nas diferentes comunidades da diáspora açoriana\, incluindo quatro séculos de presença no Brasil. Por isso\, o Governo dos Açores sempre teve\, e não podia deixar de ter\, um departamento próprio na sua estrutura orgânica especialmente vocacionado para manter e desenvolver a relação das nossas ilhas com a nossa diáspora. Numa primeira fase\, de 1976 a 1996\, o Gabinete de Emigração e Apoio às Comunidades Açorianas\, sempre dirigido por Duarte Mendes. Numa segunda fase\, desde há 25 anos\, a Direção Regional das Comunidades\, sucessivamente dirigida por Alzira Silva\, Rita Dias\, Graça Castanho\, Paulo Teves e José Andrade. \n  \nA Direção Regional das Comunidades relaciona-se com as comunidades açorianas\, designadamente\, através das Casas dos Açores e dos Conselheiros da Diáspora Açoriana. As Casas dos Açores são as casas da saudade\, as embaixadas da diáspora\, os santuários da açorianidade. Elas são a marca dos Açores nas comunidades e a montra da comunidade nas sociedades. Estão articuladas pelo Conselho Mundial das Casas dos Açores\, desde 1997. Em 2019\, é criado o Conselho da Diáspora Açoriana\, com membros eleitos pelas próprias comunidades\, que fica formalmente instituído a 10 de junho de 2021. \n
URL:https://bparlsr.azores.gov.pt/destaque/exposicao-itinerante-a-decima-ilha/
CATEGORIES:Biblioteca
ATTACH;FMTTYPE=image/jpeg:https://bparlsr.azores.gov.pt/wp-content/uploads/2023/09/1_sitioweb.jpg
END:VEVENT
END:VCALENDAR