BEGIN:VCALENDAR
VERSION:2.0
PRODID:-//Biblioteca Pública e Arquivo Regional Luís da Silva Ribeiro - ECPv4.9.10//NONSGML v1.0//EN
CALSCALE:GREGORIAN
METHOD:PUBLISH
X-WR-CALNAME:Biblioteca Pública e Arquivo Regional Luís da Silva Ribeiro
X-ORIGINAL-URL:https://bparlsr.azores.gov.pt
X-WR-CALDESC:Events for Biblioteca Pública e Arquivo Regional Luís da Silva Ribeiro
BEGIN:VTIMEZONE
TZID:Atlantic/Azores
BEGIN:DAYLIGHT
TZOFFSETFROM:-0100
TZOFFSETTO:+0000
TZNAME:+00
DTSTART:20250330T010000
END:DAYLIGHT
BEGIN:STANDARD
TZOFFSETFROM:+0000
TZOFFSETTO:-0100
TZNAME:-01
DTSTART:20251026T010000
END:STANDARD
END:VTIMEZONE
BEGIN:VEVENT
DTSTART;VALUE=DATE:20250214
DTEND;VALUE=DATE:20250601
DTSTAMP:20260425T143456
CREATED:20250207T120105Z
LAST-MODIFIED:20250214T143325Z
UID:11874-1739491200-1748735999@bparlsr.azores.gov.pt
SUMMARY:Exposição | Tourada no Prelo de Pedro Evangelho
DESCRIPTION:A Biblioteca Pública e Arquivo Regional Luís da Silva Ribeiro promove\, de 14 de fevereiro a 31 de maio\, no espaço Arte & Debates a exposição Tourada no Prelo\, de Pedro Evangelho. \nA expressão “no prelo” refere-se\, comummente\, a um trabalho em curso\, geralmente uma publicação em vias de ser editada e divulgada. O prelo\, enquanto objeto\, é hoje utilizado sobretudo por artistas gráficos interessados nas técnicas vernaculares da impressão. Para além dos artistas\, as práticas da gravura têm vindo a despertar a atenção de designers e ilustradores\, cansados das burocráticas horas passadas diante dos ecrãs. \nEsta exposição pretende revelar algumas das metodologias processuais do contexto oficinal\, iluminando fracassos e sucessos\, numa permanente procura pela boa forma. A temática das gravuras aborda a questão da afirmação de uma identidade terceirense\, ao jeito de Nemésio na sua Festa Redonda. Explora o toiro como símbolo e objeto de culto\, constantemente presente no imaginário da ilha Terceira. Tourada no Prelo une os paralelismos entre o universo tauromáquico terceirense e o da gravura: a imprevisibilidade\, o risco e uma vocação democrática\, desejando chegar a todos\, horizontalmente. Demonstra a construção de uma açorianidade convicta passando pelas artes gráficas. \n  \nNota Biográfica  \nPedro Evangelho (Terceira\, 2001) é licenciado em Design de Comunicação pela Faculdade de Belas Artes da Universidade do Porto e integra\, de momento\, o 2º ano do Mestrado em Ensino de Artes Visuais na mesma instituição. O designer e ilustrador interessa-se por estabelecer pontes entre os meios digitais e vernaculares\, encontrando no universo da autoedição\, dos livros de artista e das fanzines uma forma de abordar narrativas visuais em torno da açorianidade e das perspetivas de insularidade. É autor do livro Hoje fiz um amigo\, editado pelas Edições Araucária. \n
URL:https://bparlsr.azores.gov.pt/destaque/exposicao-tourada-no-prelo-de-pedro-evangelho/
CATEGORIES:Biblioteca
ATTACH;FMTTYPE=image/jpeg:https://bparlsr.azores.gov.pt/wp-content/uploads/2025/02/formatos_div_tourada_no_prelo_inauguracao_.jpg
END:VEVENT
BEGIN:VEVENT
DTSTART;VALUE=DATE:20250307
DTEND;VALUE=DATE:20250601
DTSTAMP:20260425T143456
CREATED:20250226T123316Z
LAST-MODIFIED:20250226T123316Z
UID:11937-1741305600-1748735999@bparlsr.azores.gov.pt
SUMMARY:Exposição de Fotografia | Dentro e fora\, de Kol Carvalho
DESCRIPTION:A exposição Dentro e fora\, corresponde a um projeto iniciado em dezembro de 2021\, do arquiteto Kol de Carvalho\, com a curadoria de José Franco\, tendo sido apresentado um ano depois\, no dia das “Montras”\, na Cagarra em Ponta Delgada. Tem precisamente a ver com as montras\, em que o que vemos\, não é o que nos querem mostrar. A exposição é constituída por 15 fotografias a preto e branco\, que espelham a observação do flâneur que a partir do exterior capta o que se encontra dentro\, “partindo do que ele julga fora do plano\, mantendo a sua própria visão\, nada lhe é indiferente \, nem a passagem do tempo”. \nA exposição decorrerá no espaço Cultura & História\, entre os dias 7 de março e 31 de maio. \n  \nNota Biográfica \nJorge Kol de Carvalho \nNasce a 26 de abril de 1948\, na Terra Chã\, Angra do Heroísmo. Em 1968 inicia a formação de iniciação em fotografia no Instituto Português de Fotografia (IPF). Conclui em 1971 a licenciatura em Arquitetura da Escola Superior de Belas Artes de Lisboa. \nEm 2012 retoma a Fotografia\, interrompida em 1971 pela licenciatura em Arquitetura. \nPassa a vida a arquitetar\, mas a partir de 2013 só o que lhe apetece\, quando quer\, no que quer\, com quem quer e devagar\, saboreando a vida\, que é uma festa. \n
URL:https://bparlsr.azores.gov.pt/destaque/exposicao-de-fotografia-dentro-e-fora-de-kol-carvalho/
CATEGORIES:Biblioteca
ATTACH;FMTTYPE=image/jpeg:https://bparlsr.azores.gov.pt/wp-content/uploads/2025/02/formatos_dentroefora_sitioweb.jpg
END:VEVENT
BEGIN:VEVENT
DTSTART;VALUE=DATE:20250328
DTEND;VALUE=DATE:20250601
DTSTAMP:20260425T143456
CREATED:20250324T103944Z
LAST-MODIFIED:20250324T103944Z
UID:11978-1743120000-1748735999@bparlsr.azores.gov.pt
SUMMARY:Laboratório de Expressão Dramática e Teatro
DESCRIPTION:A Biblioteca Pública e Arquivo Regional Luís da Silva Ribeiro acolherá\, entre março e maio de 2025\, o Laboratório de Expressão Dramática e Teatro\, dinamizado por Raquel Raposo. \nDestinado a crianças dos 5 aos 12 anos\, este laboratório tem como objetivo promover o conhecimento pessoal e social através da expressão dramática\, estimulando a criatividade\, a imaginação e a confiança. \nAs sessões decorrerão às terças e quartas-feiras\, com grupos distintos para crianças dos 5 aos 7 anos e dos 8 aos 12 anos\, contando com um mínimo de 5 e um máximo de 10 participantes por grupo. O programa inclui jogos dramáticos\, exploração de sons\, imagens\, objetos e outras formas de expressão artística. \nO valor da inscrição é de 20€ por mês\, sendo pago diretamente à formadora. \nPara mais informações\, contactar Raquel Raposo através do e-mail raquelarrudaraposo@gmail.com ou do telefone 938 647 731. \n
URL:https://bparlsr.azores.gov.pt/destaque/laboratorio-de-expressao-dramatica-e-teatro/
CATEGORIES:Biblioteca
ATTACH;FMTTYPE=image/jpeg:https://bparlsr.azores.gov.pt/wp-content/uploads/2025/03/formatos_lab_exp_sitioweb_.jpg
END:VEVENT
BEGIN:VEVENT
DTSTART;VALUE=DATE:20250402
DTEND;VALUE=DATE:20250914
DTSTAMP:20260425T143456
CREATED:20250325T113836Z
LAST-MODIFIED:20250325T113836Z
UID:11987-1743552000-1757807999@bparlsr.azores.gov.pt
SUMMARY:Exposição | O Cabido atlântico de Angra: fronteira da expansão da fé e da Coroa
DESCRIPTION:A Biblioteca Pública e Arquivo Regional Luís da Silva Ribeiro promove\, de 2 de abril a 13 de setembro\, a exposição O Cabido atlântico de Angra: fronteira da expansão da fé e da Coroa. \nNo âmbito da exposição\, terá lugar a Conferência “O Cabido ontem e hoje”\, pelo Bispo da Diocese de Angra\, D. Armando Esteves Domingues\, pelas 18h30 no auditório da biblioteca. \nOs cabidos são dos órgãos da organização e administração da igreja mais antigos\, cujo modelo radica no fim da Idade Antiga e inícios da Alta Idade Média\, quando os padres viviam em comunidade nas catedrais dos centros urbanos\, formando colégios à volta dos bispos à semelhança dos cardeais com o Papa. A vida em comum\, mesmo tendo desaparecido no século X\, não apagou do clero das catedrais a obrigação de recitar o Ofício em comunidade. \nO Cabido de Angra\, nasceu com a Bula da Criação da Diocese\, Aequum reputamus\, a 3 de novembro de 1534. Estamos\, pois\, a comemorar o seu quadringentésimo nonagésimo ano de existência. Um dos seus principais objetivos é celebrar o culto mais solene das Catedrais\, o que ainda hoje se perpetua. O Cabido de Angra\, no meio do Atlântico\, não só colaborou ativamente com os bispos que presidiram ao governo da Diocese\, fornecendo o clero mais capaz para auxílio dos prelados\, como também governou a mesma nos períodos de sede vacante\, que não foram poucos\, e ainda em alguns períodos por delegação episcopal. A autoridade senatorial dos cabidos foi também de um imprescindível auxílio à Coroa\, sendo-lhe delegada uma multiplicidade de serviços para agilizar o bem não só espiritual\, mas também material destes povos. \n
URL:https://bparlsr.azores.gov.pt/destaque/exposic%cc%a7a%cc%83o-o-cabido-atla%cc%82ntico-de-angra-fronteira-da-expansa%cc%83o-da-fe-e-da-coroa/
CATEGORIES:Biblioteca
ATTACH;FMTTYPE=image/jpeg:https://bparlsr.azores.gov.pt/wp-content/uploads/2025/03/formatos_cabido_sitioweb.jpg
END:VEVENT
BEGIN:VEVENT
DTSTART;VALUE=DATE:20250407
DTEND;VALUE=DATE:20250524
DTSTAMP:20260425T143456
CREATED:20250404T155903Z
LAST-MODIFIED:20250404T155903Z
UID:12039-1743984000-1748044799@bparlsr.azores.gov.pt
SUMMARY:Mostra | Centenário Dias de Melo
DESCRIPTION:A Biblioteca Pública e Arquivo Regional Luís da Silva Ribeiro celebra o centenário do nascimento de Dias de Melo\, com uma mostra bibliográfica que pretende homenagear o legado literário e cultural deste escritor. A mostra estará patente ao público entre os dias 7 de abril e 23 de maio\, na Sala de Leitura e Empréstimo Domiciliário. \nNascido no Pico\, uma ilha marcada pela força da sua paisagem vulcânica e pela singularidade das suas gentes\, Dias de Melo dedicou-se a transmitir\, através das suas narrativas\, as cores locais\, os hábitos\, os costumes e as tradições de uma região que tão bem conhecia. O seu estilo de escrita distingue-se pela forma equilibrada como usa as palavras para contar e descrever. \nCelebramos não só um grande nome da literatura portuguesa\, mas também a voz de um povo\, a preservação da memória cultural e a perpetuação de uma obra literária que continua a ser um marco fundamental na literatura insular. \nFaça-nos uma visita! \n  \nNota Biográfica do escritor \nJosé Dias de Melo nasceu na freguesia da Calheta de Nesquim\, na ilha do Pico\, a 8 de abril de 1925. \nFindos os estudos liceais na cidade da Horta\, estreia-se no meio jornalístico\, colaborando nos jornais açorianos O Telégrafo\, Ilha\, Correio dos Açoreste Açoriano Oriental. Em 1949\, radica-se em Ponta Delgada\, onde se dedicou ao ensino\, vendo-se mais tarde obrigado a abandonar a ilha de São Miguel\, devido às perseguições políticas executadas pela Polícia Internacional e de Defesa do Estado (PIDE)\, e a estabelecer-se em Lisboa. Na capital\, continua a sua carreira como docente e soma colaborações com os jornais Diário de Notícias e Diário de Lisboa. \nO seu percurso literário\, dividido entre romances\, contos\, poemas e crónicas\, foi fortemente marcado pela experiência açoriana face às adversidades naturais e socioeconómicas\, nomeadamente a figura dos baleeiros na sua ilha natal do Pico\, que evocou algumas das suas criações mais marcantes. \nEm 1954 publicou a sua primeira obra\, o livro de poesia “Toadas do Mar e da Terra” (1954)\, seguindo-se “Mar Rubro” (1958) e “Pedras Negras (1964)\, a sua obra mais conhecida\, que tem como temas centrais a pobreza insular\, a guerra colonial e a emigração para o continente Americano. Seguem-se “Na Memória das Gentes” (1985)\, um retrato da sociedade picoense\, de alta relevância etnográfica; “O Autógrafo” (1999) e o romance “Milhas Contadas” (2002). \nFoi condecorado\, em 1990\, com a Ordem do Infante pelo então Presidente da República\, Mário Soares\, e em 2002 pelo município das Lajes do Pico\, com o título de Cidadão Honorário do Concelho. \nPassou o final da sua vida na ilha de São Miguel\, onde faleceu no dia 24 de setembro de 2008. \n
URL:https://bparlsr.azores.gov.pt/destaque/mostra-centenario-dias-de-melo/
CATEGORIES:Biblioteca
ATTACH;FMTTYPE=image/jpeg:https://bparlsr.azores.gov.pt/wp-content/uploads/2025/04/Mostra_Dias_de_Melo_formatos_.com_.jpg
END:VEVENT
BEGIN:VEVENT
DTSTART;VALUE=DATE:20250411
DTEND;VALUE=DATE:20250701
DTSTAMP:20260425T143456
CREATED:20250404T092325Z
LAST-MODIFIED:20250404T092325Z
UID:12036-1744329600-1751327999@bparlsr.azores.gov.pt
SUMMARY:Exposição de fotografia e estreia de documentário de curta-metragem   Jaliya: A Storytelling of Jali Kunda
DESCRIPTION:A Biblioteca Pública e Arquivo Regional Luís da Silva Ribeiro promove\, de 11 de abril a 30 de junho\, a exposição de fotografia Jaliya: A Storytelling of Jali Kunda\, de Timothy Lima e a estreia do documentário de curta-metragem\, realizado por Timothy Lima e Ebrima Mbye. \nEsta exposição oferece ao público uma experiência visual única\, que ilustra o mundo dos Jali (Griots) da Gâmbia — contadores de histórias\, músicos e historiadores — cujo papel é fundamental na preservação da cultura e das tradições das suas comunidades. \nCom uma composição rica de retratos\, paisagens e cenas do quotidiano\, o documentário apresenta uma visão imersiva sobre a vida e a música dos Jali\, destacando o delicado equilíbrio entre a preservação do legado ancestral e as influências da modernidade. \nJaliya: A Storytelling of Jali Kunda é uma homenagem à tradição e resistência cultural dos griots da Gâmbia\, celebrando o poder da música e da narrativa para manter viva a história e as raízes de uma comunidade. \n  \n  \nNotas Biográficas \nTimothy Francisco Lima (Boston\, Massachusetts\, 1978) é fotógrafo e realizador documental\, com um trabalho focado na humanidade\, na cultura e nas histórias que unem as pessoas. Depois de anos dedicados ao ensino universitário em enfermagem\, decidiu seguir a sua paixão pela fotografia e pela produção audiovisual\, explorando narrativas visuais que revelam realidades muitas vezes invisíveis. \nO seu percurso inclui a exposição Filhos da Luz\, um retrato documental da população africana em contexto humanitário\, exibido no Museu de Angra do Heroísmo. O seu olhar sensível foi reconhecido internacionalmente\, com prémios nos International Photo Awards (IPA) e uma distinção no World Press Photo em 2021. Em 2022\, documentou a realidade dos refugiados em Bangladesh no projeto Entre Fronteiras e Identidades Perdidas\, um testemunho visual sobre deslocamento e pertença. \nAlém do seu trabalho autoral\, tem trabalhado como fotógrafo de cena em produções televisivas\, captando a essência visual dos bastidores e das narrativas em construção. \nRecentemente\, esse percurso levou-o à direção de fotografia de uma curta-metragem\, com estreia prevista para o último trimestre de 2025\, um projeto que marca o seu envolvimento na criação de storytelling cinematográfico com uma abordagem visual única. Para Timothy\, cada projeto é uma viagem — não apenas para os lugares que visita\, mas também para dentro das histórias que encontra e das lições que o transformam. Jaliya é um reflexo dessa busca contínua por compreender\, partilhar e\, acima de tudo\, aprender. \n  \nEbrima Mbye \nMbye Ebrima é korista\, compositor\, cantor e contador de histórias. Nasceu em 1988 em Jarra Soma\, Gâmbia. É oriundo de uma família djéli\, guardiões da tradição mandinga-kaabunké\, conhecidos há muitas gerações pela mestria na kora e pela transmissão oral da história e cultura do seu povo. \nCom uma carreira marcada por uma profunda ligação à tradição e uma abordagem inovadora à música\, Mbye Ebrima já percorreu diversos palcos e festivais internacionais. Após uma extensa digressão pela Europa\, fixou-se em Portugal em 2015\, onde tem colaborado com artistas como Selma Uamusse\, Moullinex e Kimi Djabaté\, ampliando as pontes entre a música tradicional da África Ocidental e as novas sonoridades contemporâneas. \nEm 2025\, lançou em Lisboa o seu primeiro álbum\, “Dunya”\, um trabalho que reflete a sua identidade musical e conta com a participação de vários músicos nacionais e internacionais. Atualmente\, dedica-se à gravação de dois novos álbuns\, um a solo e outro com banda. \n
URL:https://bparlsr.azores.gov.pt/destaque/exposicao-de-fotografia-e-estreia-de-documentario-de-curta-metragem-jaliya-a-storytelling-of-jali-kunda/
CATEGORIES:Biblioteca
ATTACH;FMTTYPE=image/jpeg:https://bparlsr.azores.gov.pt/wp-content/uploads/2025/04/formatos_div_jaliya_exposicao_kunda_sitioweb.jpg
END:VEVENT
BEGIN:VEVENT
DTSTART;VALUE=DATE:20250502
DTEND;VALUE=DATE:20250601
DTSTAMP:20260425T143456
CREATED:20250429T093128Z
LAST-MODIFIED:20250429T093133Z
UID:12079-1746144000-1748735999@bparlsr.azores.gov.pt
SUMMARY:Um Olhar Periódico | “Visita do Almirante Jean François Darlan à Ilha Terceira\, maio de 1935”
DESCRIPTION:A Biblioteca Pública e Arquivo Regional Luís da Silva Ribeiro\, no mês de maio\, apresenta a mostra mensal Um Olhar Periódico\, dedicada ao tema “Visita do Almirante Jean François Darlan à ilha Terceira\, maio de 1935”\, disponível ao público entre os dias 2 e 31 de maio. \nNo âmbito da realização da Semana Militar de 1935\, decorreu um conjunto de cerimónias de elevado simbolismo\, na ilha Terceira\, entre as quais se destacou o juramento de bandeira dos recrutas de Infantaria 23. Neste ato solene participaram o Almirante Jean François Darlan e os oficiais de bordo dos dois grandes navios de guerra franceses\, o “Provence” e o “Bretagne”. \nDurante a ocasião\, o Almirante Darlan proferiu um discurso onde destacou os laços profundos entre Portugal e França\, enfatizando a partilha de valores civilizacionais e ideais comuns\, sublinhando a afinidade entre os dois povos e apelando ao entendimento e à cooperação mútua. \nA visita do Almirante à ilha Terceira\, em maio de 1935\, assumiu um significado especial\, ao reforçar as relações luso-francesas\, num momento de grande importância simbólica para a comunidade terceirense. \n
URL:https://bparlsr.azores.gov.pt/destaque/um-olhar-periodico-visita-do-almirante-jean-francois-darlan-a-ilha-terceira-maio-de-1935/
CATEGORIES:Biblioteca
ATTACH;FMTTYPE=image/jpeg:https://bparlsr.azores.gov.pt/wp-content/uploads/2025/04/formatos_op_maio_sitioweb.jpg
END:VEVENT
BEGIN:VEVENT
DTSTART;VALUE=DATE:20250506
DTEND;VALUE=DATE:20250701
DTSTAMP:20260425T143456
CREATED:20250505T161101Z
LAST-MODIFIED:20250505T161108Z
UID:12091-1746489600-1751327999@bparlsr.azores.gov.pt
SUMMARY:Documento do Mês | A Flora Açoriana de José Agostinho
DESCRIPTION:Nos meses de maio e junho\, a mostra “Documento do mês”\, promovida pela BPARLSR\, será dedicada ao tema A Flora Açoriana de José Agostinho\, apresentada na sala de arquivo desta instituição. \nJosé Agostinho foi um estudioso apaixonado das mais variadas áreas de conhecimento\, cujo arquivo pessoal temos\, afortunadamente\, à nossa guarda. Em particular\, destacamos um documento sem título\, datilografado em inglês\, que descreve os diferentes tipos de paisagem que se podem observar nos Açores\, e a vegetação que ocorre em cada um deles: os líquenes e musgos dos mistérios\, as plantas herbáceas que crescem junto ao mar\, e as ervas e arbustos que se observam nas zonas altas. \nA pequena exposição que acompanha este documento inclui também notas\, listas de plantas\, desenhos e exemplares de herbário\, fruto do trabalho de campo deste ilustre cientista terceirense. Estes documentos não dizem respeito apenas à flora endémica\, mas também às espécies invasoras\, e a todos os espécimes vegetais que José Agostinho observava nas suas pesquisas. \nQuem conhece os Açores\, sabe que estas ilhas são palco de uma grande exuberância vegetal\, sobretudo a partir destes dois últimos meses de primavera. Venha conhecer um pouco do que o arquivo de José Agostinho tem a oferecer no que respeita ao estudo desta diversidade e abundância. \n
URL:https://bparlsr.azores.gov.pt/destaque/documento-do-mes-a-flora-acoriana-de-jose-agostinho/
CATEGORIES:Arquivo Regional,Biblioteca
ATTACH;FMTTYPE=image/jpeg:https://bparlsr.azores.gov.pt/wp-content/uploads/2025/05/formatos_dm_mai_jun_sitioweb.jpg
END:VEVENT
BEGIN:VEVENT
DTSTART;VALUE=DATE:20250512
DTEND;VALUE=DATE:20250531
DTSTAMP:20260425T143456
CREATED:20250509T105230Z
LAST-MODIFIED:20250509T105250Z
UID:12115-1747008000-1748649599@bparlsr.azores.gov.pt
SUMMARY:Prémio Princesa das Astúrias de Comunicação e Humanidades 2025 | Byung-Chul Han
DESCRIPTION:A BPARLSR promove uma mostra bibliográfica\, no espaço Arte & Debates\, de 12 de maio a 30 de junho\, no âmbito da atribuição do “Prémio Princesa das Astúrias de Comunicação e Humanidades 2025”\, ao filósofo Byung-Chul Han\, crítico do neoliberalismo\, e do modo como a sociedade contemporânea se organiza em torno da recolha de dados\, o “dataísmo”\, ou seja\, em que o valor de qualquer fenómeno é determinado pela contribuição que o mesmo dá para o processamento de dados. \nO filósofo na sua obra destaca o abandono à reflexão\, à meditação e à desvalorização da individualidade\, como aspetos que promovem o aparecimento de novas perturbações neuronais que descrevem o panorama patológico do início do século XXI. A própria crise da arte e da literatura estará associada ao desaparecimento da alteridade e à interpretação de que o valor das pessoas e das coisas é assumido como se fosse um objeto para transação comercial. \nO júri do concurso referiu\, “A obra de Han proporciona interpretações críticas sobre questões como a desumanização\, a digitalização e o isolamento das pessoas. O seu olhar intercultural traz luz a fenómenos complexos do mundo contemporâneo e tem conhecido um amplo eco entre públicos de diversas gerações”. \n  \nByung-Chul Han\, nasceu na Coreia\, estudou filosofia na Universidade de Freiburg e Literatura Alemã e Teologia na Universidade de Munique. Em 1994\, fez o doutoramento na primeira destas universidades com uma tese sobre Martin Heidegger. Foi professor de Filosofia e Estudos Culturais na Universidade de Berlim\, onde esporadicamente dá aulas. \nÉ autor de diversas obras como A Sociedade do Cansaço; A Sociedade da Transparência; Topologia da Violência; Rostos da Morte – Investigações Filosóficas sobre a Morte; No Enxame: Reflexões sobre o digital; Psicopolítica; entre outras. \n  \n
URL:https://bparlsr.azores.gov.pt/destaque/premio-princesa-das-asturias-de-comunicacao-e-humanidades-2025-byung-chul-han/
CATEGORIES:Biblioteca
ATTACH;FMTTYPE=image/jpeg:https://bparlsr.azores.gov.pt/wp-content/uploads/2025/05/Mostra_Byung_Chul_Han_div_sitioweb_sitioweb.jpg
END:VEVENT
BEGIN:VEVENT
DTSTART;VALUE=DATE:20250516
DTEND;VALUE=DATE:20250813
DTSTAMP:20260425T143456
CREATED:20250505T152129Z
LAST-MODIFIED:20250505T152509Z
UID:12085-1747353600-1755043199@bparlsr.azores.gov.pt
SUMMARY:Exposição | Livros de Artista de Isabel Baraona
DESCRIPTION:A Biblioteca Pública e Arquivo Regional Luís da Silva Ribeiro apresenta a exposição “Livros de Artista”\, da autoria de Isabel Baraona\, que estará patente no espaço Literatura & Artes entre os dias 16 de maio e 12 de agosto. \nNos livros de Isabel Baraona destaca-se a repetição de personagens intricadas\, que surgem numa espécie de procissão visual\, criando uma narrativa que se desenrola simultaneamente através do traço e da palavra. Em alguns casos\, o texto surge pintado\, reforçando um discurso que é tanto visual como narrativo — escrito e contado ao mesmo tempo. \nEstes Livros de Artista não se encontram isolados das restantes linguagens exploradas pela autora; pelo contrário\, dialogam com as suas outras práticas artísticas\, estabelecendo pontes entre diversas formas de criação e contribuindo para a expansão dos limites tradicionais do livro. \nA exposição convida o público a repensar o desenho e o livro enquanto meios de expressão artística. \n  \nNota Biográfica \nIsabel Baraona (Cascais\, 1974) Artista e professora. Leciona na ESAD.CR desde 2003 e é investigadora integrada no LiDA – Laboratório de investigação em Design e Arte. É licenciada em Pintura pela La Cambre (Bélgica) e é doutorada em Artes Visuais e Intermedia pela Universidade Politécnica de Valência (Espanha). Em 2013\, no âmbito de um pós-doutoramento\, foi bolseira da Universidade Rennes 2 (França) onde desenvolveu Tipo.pt\, um arquivo online sobre livros de artista e edição de autor em Portugal. Tem participado em diversas exposições individuais e coletivas\, em Portugal e no estrangeiro.  O seu trabalho está representado em coleções nacionais como Fundação EDP\, Fundação D. Luís I/C. M. Cascais\, MGFR (Fernando Figueiredo Ribeiro)\, Catarina F. Cardoso\, Eduardo Rosa\, Centro Português de Serigrafia\, e em coleções internacionais como Yolande De Bontridder\, Galila Barzilaï-Hollander\, entre outras.  www.isabelbaraona.com \n
URL:https://bparlsr.azores.gov.pt/destaque/exposicao-livros-de-artista-de-isabel-baraona/
CATEGORIES:Biblioteca
ATTACH;FMTTYPE=image/jpeg:https://bparlsr.azores.gov.pt/wp-content/uploads/2025/05/formatos_isabelbaraona_sitioweb.jpg
END:VEVENT
BEGIN:VEVENT
DTSTART;TZID=Atlantic/Azores:20250520T180000
DTEND;TZID=Atlantic/Azores:20250520T190000
DTSTAMP:20260425T143456
CREATED:20250515T141755Z
LAST-MODIFIED:20250515T141755Z
UID:12119-1747764000-1747767600@bparlsr.azores.gov.pt
SUMMARY:30 minutos com música
DESCRIPTION:A Biblioteca Pública e Arquivo Regional Luís da Silva Ribeiro promove no dia 20 de maio\, das 18h00 às 18h30\, no auditório da Biblioteca\, a atividade 𝟯𝟬 𝗺𝗶𝗻𝘂𝘁𝗼𝘀 𝗰𝗼𝗺 𝗺𝘂́𝘀𝗶𝗰𝗮. \nO momento musical será dinamizado por Margarida Araújo\, aluna do Conservatório Regional de Angra do Heroísmo. \nA iniciativa 𝟯𝟬 𝗺𝗶𝗻𝘂𝘁𝗼𝘀 𝗰𝗼𝗺 𝗺𝘂́𝘀𝗶𝗰𝗮 irá promover momentos musicais ao longo do ano nos diversos espaços da Biblioteca\, o objetivo é promover a diversidade musical com a participação de músicos locais. \nA música enquanto meio de comunicação pode transmitir conhecimento e informação para benefício da comunidade. Também pode ser uma fonte de \nmotivação para a leitura ou mesmo um meio de inspiração para o estudo e para a realização do trabalho criativo. \n
URL:https://bparlsr.azores.gov.pt/destaque/30-minutos-com-musica-2/
CATEGORIES:Biblioteca
ATTACH;FMTTYPE=image/jpeg:https://bparlsr.azores.gov.pt/wp-content/uploads/2025/05/formatos_30mcm_20_05_sitioweb-1.jpg
END:VEVENT
END:VCALENDAR